BEGIN:VCALENDAR
VERSION:2.0
PRODID:-//JUMP PARTY USA - ECPv6.15.20//NONSGML v1.0//EN
CALSCALE:GREGORIAN
METHOD:PUBLISH
X-WR-CALNAME:JUMP PARTY USA
X-ORIGINAL-URL:https://www.jumpusapark.com
X-WR-CALDESC:Events for JUMP PARTY USA
REFRESH-INTERVAL;VALUE=DURATION:PT1H
X-Robots-Tag:noindex
X-PUBLISHED-TTL:PT1H
BEGIN:VTIMEZONE
TZID:America/New_York
BEGIN:DAYLIGHT
TZOFFSETFROM:-0500
TZOFFSETTO:-0400
TZNAME:EDT
DTSTART:20190310T070000
END:DAYLIGHT
BEGIN:STANDARD
TZOFFSETFROM:-0400
TZOFFSETTO:-0500
TZNAME:EST
DTSTART:20191103T060000
END:STANDARD
BEGIN:DAYLIGHT
TZOFFSETFROM:-0500
TZOFFSETTO:-0400
TZNAME:EDT
DTSTART:20200308T070000
END:DAYLIGHT
BEGIN:STANDARD
TZOFFSETFROM:-0400
TZOFFSETTO:-0500
TZNAME:EST
DTSTART:20201101T060000
END:STANDARD
BEGIN:DAYLIGHT
TZOFFSETFROM:-0500
TZOFFSETTO:-0400
TZNAME:EDT
DTSTART:20210314T070000
END:DAYLIGHT
BEGIN:STANDARD
TZOFFSETFROM:-0400
TZOFFSETTO:-0500
TZNAME:EST
DTSTART:20211107T060000
END:STANDARD
END:VTIMEZONE
BEGIN:VEVENT
DTSTART;TZID=America/New_York:20200229T100000
DTEND;TZID=America/New_York:20200301T230000
DTSTAMP:20260425T234909
CREATED:20200205T003037Z
LAST-MODIFIED:20200205T003037Z
UID:8835-1582970400-1583103600@www.jumpusapark.com
SUMMARY:Weekend Group(3+) Special! 2Hours for $11.95 per Jumper
DESCRIPTION:
URL:https://www.jumpusapark.com/event/weekend-group3-special-2hours-11-95-per-jumper-4/
END:VEVENT
BEGIN:VEVENT
DTSTART;TZID=America/New_York:20200302T120000
DTEND;TZID=America/New_York:20200305T210000
DTSTAMP:20260425T234909
CREATED:20200205T003734Z
LAST-MODIFIED:20200205T003734Z
UID:8855-1583150400-1583442000@www.jumpusapark.com
SUMMARY:Mon-Thursday Special! $10.95 for 2Hours+Sports
DESCRIPTION:
URL:https://www.jumpusapark.com/event/mon-thursday-special-10-95-2hourssports-8/
END:VEVENT
BEGIN:VEVENT
DTSTART;TZID=America/New_York:20200306T190000
DTEND;TZID=America/New_York:20200306T230000
DTSTAMP:20260425T234909
CREATED:20200205T002715Z
LAST-MODIFIED:20200205T002715Z
UID:8827-1583521200-1583535600@www.jumpusapark.com
SUMMARY:Friday Teen Night (7-11pm) FREE PIZZA! $14.95 for Full hours and $9.95 for 2 hours
DESCRIPTION:
URL:https://www.jumpusapark.com/event/friday-teen-night-7-11pm-free-pizza-14-95-full-hours-9-95-2-hours-4/
END:VEVENT
BEGIN:VEVENT
DTSTART;TZID=America/New_York:20200307T100000
DTEND;TZID=America/New_York:20200308T230000
DTSTAMP:20260425T234909
CREATED:20200205T003107Z
LAST-MODIFIED:20200205T003107Z
UID:8837-1583575200-1583708400@www.jumpusapark.com
SUMMARY:Weekend Group(3+) Special! 2Hours for $11.95 per Jumper
DESCRIPTION:
URL:https://www.jumpusapark.com/event/weekend-group3-special-2hours-11-95-per-jumper-5/
END:VEVENT
BEGIN:VEVENT
DTSTART;TZID=America/New_York:20200307T200000
DTEND;TZID=America/New_York:20200307T230000
DTSTAMP:20260425T234909
CREATED:20200205T003428Z
LAST-MODIFIED:20200205T003428Z
UID:8847-1583611200-1583622000@www.jumpusapark.com
SUMMARY:Saturday Teen Night (8-11pm) FREE PIZZA! $14.95 for Full hours and $9.95 for 2 hours
DESCRIPTION:
URL:https://www.jumpusapark.com/event/saturday-teen-night-8-11pm-free-pizza-14-95-full-hours-9-95-2-hours-5/
END:VEVENT
BEGIN:VEVENT
DTSTART;TZID=America/New_York:20200309T120000
DTEND;TZID=America/New_York:20200312T210000
DTSTAMP:20260425T234909
CREATED:20200309T205536Z
LAST-MODIFIED:20200309T205536Z
UID:8872-1583755200-1584046800@www.jumpusapark.com
SUMMARY:Mon-Thursday Special! $10.95 for 2Hours+Sports
DESCRIPTION:
URL:https://www.jumpusapark.com/event/mon-thursday-special-10-95-2hourssports-10/
END:VEVENT
BEGIN:VEVENT
DTSTART;TZID=America/New_York:20200313T100000
DTEND;TZID=America/New_York:20200315T230000
DTSTAMP:20260425T234909
CREATED:20200309T212448Z
LAST-MODIFIED:20200309T212448Z
UID:8901-1584093600-1584313200@www.jumpusapark.com
SUMMARY:Weekend Group(3+) Special! 2Hours for $11.95 per Jumper
DESCRIPTION:
URL:https://www.jumpusapark.com/event/weekend-group3-special-2hours-11-95-per-jumper-6/
END:VEVENT
BEGIN:VEVENT
DTSTART;TZID=America/New_York:20200313T190000
DTEND;TZID=America/New_York:20200313T230000
DTSTAMP:20260425T234909
CREATED:20200309T211821Z
LAST-MODIFIED:20200309T211821Z
UID:8884-1584126000-1584140400@www.jumpusapark.com
SUMMARY:Friday Teen Night (7-11pm) FREE PIZZA! FREE KARAOKE! $14.95 for Full hours and $9.95 for 2 hours
DESCRIPTION:
URL:https://www.jumpusapark.com/event/friday-teen-night-7-11pm-free-pizza-free-karaoke-14-95-full-hours-9-95-2-hours/
END:VEVENT
BEGIN:VEVENT
DTSTART;TZID=America/New_York:20200314T200000
DTEND;TZID=America/New_York:20200314T230000
DTSTAMP:20260425T234909
CREATED:20200309T212135Z
LAST-MODIFIED:20200309T212135Z
UID:8893-1584216000-1584226800@www.jumpusapark.com
SUMMARY:Saturday Teen Night (8-11pm) FREE PIZZA! FREE KARAOKE! $14.95 for Full hours and $9.95 for 2 hours
DESCRIPTION:
URL:https://www.jumpusapark.com/event/saturday-teen-night-8-11pm-free-pizza-free-karaoke-14-95-full-hours-9-95-2-hours/
END:VEVENT
BEGIN:VEVENT
DTSTART;TZID=America/New_York:20200316T100000
DTEND;TZID=America/New_York:20200319T210000
DTSTAMP:20260425T234909
CREATED:20200309T205610Z
LAST-MODIFIED:20200309T205610Z
UID:8874-1584352800-1584651600@www.jumpusapark.com
SUMMARY:Spring Break! Mon-Thursday Special! $10.95 for 2Hours+Sports
DESCRIPTION:
URL:https://www.jumpusapark.com/event/spring-break-mon-thursday-special-10-95-2hourssports/
END:VEVENT
BEGIN:VEVENT
DTSTART;TZID=America/New_York:20200320T100000
DTEND;TZID=America/New_York:20200322T230000
DTSTAMP:20260425T234909
CREATED:20200309T212520Z
LAST-MODIFIED:20200309T212520Z
UID:8903-1584698400-1584918000@www.jumpusapark.com
SUMMARY:Weekend Group(3+) Special! 2Hours for $11.95 per Jumper
DESCRIPTION:
URL:https://www.jumpusapark.com/event/weekend-group3-special-2hours-11-95-per-jumper-7/
END:VEVENT
BEGIN:VEVENT
DTSTART;TZID=America/New_York:20200320T190000
DTEND;TZID=America/New_York:20200320T230000
DTSTAMP:20260425T234909
CREATED:20200309T211903Z
LAST-MODIFIED:20200309T211903Z
UID:8886-1584730800-1584745200@www.jumpusapark.com
SUMMARY:Friday Teen Night (7-11pm) FREE PIZZA! FREE KARAOKE! $14.95 for Full hours and $9.95 for 2 hours
DESCRIPTION:
URL:https://www.jumpusapark.com/event/friday-teen-night-7-11pm-free-pizza-free-karaoke-14-95-full-hours-9-95-2-hours-2/
END:VEVENT
BEGIN:VEVENT
DTSTART;TZID=America/New_York:20200321T200000
DTEND;TZID=America/New_York:20200321T230000
DTSTAMP:20260425T234909
CREATED:20200309T212214Z
LAST-MODIFIED:20200309T212214Z
UID:8895-1584820800-1584831600@www.jumpusapark.com
SUMMARY:Saturday Teen Night (8-11pm) FREE PIZZA! FREE KARAOKE! $14.95 for Full hours and $9.95 for 2 hours
DESCRIPTION:
URL:https://www.jumpusapark.com/event/saturday-teen-night-8-11pm-free-pizza-free-karaoke-14-95-full-hours-9-95-2-hours-2/
END:VEVENT
BEGIN:VEVENT
DTSTART;TZID=America/New_York:20200323T120000
DTEND;TZID=America/New_York:20200326T210000
DTSTAMP:20260425T234909
CREATED:20200309T211534Z
LAST-MODIFIED:20200309T211534Z
UID:8878-1584964800-1585256400@www.jumpusapark.com
SUMMARY:Mon-Thursday Special! $10.95 for 2Hours+Sports
DESCRIPTION:
URL:https://www.jumpusapark.com/event/mon-thursday-special-10-95-2hourssports-11/
END:VEVENT
BEGIN:VEVENT
DTSTART;TZID=America/New_York:20200327T103000
DTEND;TZID=America/New_York:20200329T230000
DTSTAMP:20260425T234909
CREATED:20200309T212549Z
LAST-MODIFIED:20200309T212549Z
UID:8905-1585305000-1585522800@www.jumpusapark.com
SUMMARY:Weekend Group(3+) Special! 2Hours for $11.95 per Jumper
DESCRIPTION:
URL:https://www.jumpusapark.com/event/weekend-group3-special-2hours-11-95-per-jumper-8/
END:VEVENT
BEGIN:VEVENT
DTSTART;TZID=America/New_York:20200327T190000
DTEND;TZID=America/New_York:20200327T230000
DTSTAMP:20260425T234909
CREATED:20200309T211936Z
LAST-MODIFIED:20200309T211936Z
UID:8888-1585335600-1585350000@www.jumpusapark.com
SUMMARY:Friday Teen Night (7-11pm) FREE PIZZA! FREE KARAOKE! $14.95 for Full hours and $9.95 for 2 hours
DESCRIPTION:
URL:https://www.jumpusapark.com/event/friday-teen-night-7-11pm-free-pizza-free-karaoke-14-95-full-hours-9-95-2-hours-3/
END:VEVENT
BEGIN:VEVENT
DTSTART;TZID=America/New_York:20200328T200000
DTEND;TZID=America/New_York:20200328T230000
DTSTAMP:20260425T234909
CREATED:20200309T212246Z
LAST-MODIFIED:20200309T212246Z
UID:8897-1585425600-1585436400@www.jumpusapark.com
SUMMARY:Saturday Teen Night (8-11pm) FREE PIZZA! FREE KARAOKE! $14.95 for Full hours and $9.95 for 2 hours
DESCRIPTION:
URL:https://www.jumpusapark.com/event/saturday-teen-night-8-11pm-free-pizza-free-karaoke-14-95-full-hours-9-95-2-hours-3/
END:VEVENT
BEGIN:VEVENT
DTSTART;TZID=America/New_York:20200330T120000
DTEND;TZID=America/New_York:20200402T210000
DTSTAMP:20260425T234909
CREATED:20200309T211607Z
LAST-MODIFIED:20200309T211607Z
UID:8880-1585569600-1585861200@www.jumpusapark.com
SUMMARY:Mon-Thursday Special! $10.95 for 2Hours+Sports
DESCRIPTION:
URL:https://www.jumpusapark.com/event/mon-thursday-special-10-95-2hourssports-12/
END:VEVENT
END:VCALENDAR