BEGIN:VCALENDAR
VERSION:2.0
PRODID:-//JUMP PARTY USA - ECPv6.15.20//NONSGML v1.0//EN
CALSCALE:GREGORIAN
METHOD:PUBLISH
X-ORIGINAL-URL:https://www.jumpusapark.com
X-WR-CALDESC:Events for JUMP PARTY USA
REFRESH-INTERVAL;VALUE=DURATION:PT1H
X-Robots-Tag:noindex
X-PUBLISHED-TTL:PT1H
BEGIN:VTIMEZONE
TZID:America/New_York
BEGIN:DAYLIGHT
TZOFFSETFROM:-0500
TZOFFSETTO:-0400
TZNAME:EDT
DTSTART:20160313T070000
END:DAYLIGHT
BEGIN:STANDARD
TZOFFSETFROM:-0400
TZOFFSETTO:-0500
TZNAME:EST
DTSTART:20161106T060000
END:STANDARD
BEGIN:DAYLIGHT
TZOFFSETFROM:-0500
TZOFFSETTO:-0400
TZNAME:EDT
DTSTART:20170312T070000
END:DAYLIGHT
BEGIN:STANDARD
TZOFFSETFROM:-0400
TZOFFSETTO:-0500
TZNAME:EST
DTSTART:20171105T060000
END:STANDARD
BEGIN:DAYLIGHT
TZOFFSETFROM:-0500
TZOFFSETTO:-0400
TZNAME:EDT
DTSTART:20180311T070000
END:DAYLIGHT
BEGIN:STANDARD
TZOFFSETFROM:-0400
TZOFFSETTO:-0500
TZNAME:EST
DTSTART:20181104T060000
END:STANDARD
END:VTIMEZONE
BEGIN:VEVENT
DTSTART;TZID=America/New_York:20170901T100000
DTEND;TZID=America/New_York:20170903T190000
DTSTAMP:20260425T115339
CREATED:20170731T203254Z
LAST-MODIFIED:20170826T224444Z
UID:7247-1504260000-1504465200@www.jumpusapark.com
SUMMARY:3+ Jumpers Group Deal! 2Hours for $12 per Jumper\, 2Hours+RidePass+SportsPass for $17 per Jumper
DESCRIPTION:
URL:https://www.jumpusapark.com/event/3-jumpers-group-deal-2hours-12-per-jumper-2hours2rides-15-per-jumper-9/
END:VEVENT
BEGIN:VEVENT
DTSTART;TZID=America/New_York:20170901T190000
DTEND;TZID=America/New_York:20170901T230000
DTSTAMP:20260425T115339
CREATED:20170731T202828Z
LAST-MODIFIED:20170731T202828Z
UID:7239-1504292400-1504306800@www.jumpusapark.com
SUMMARY:Friday Teen Night (7-11pm) with DJ $14 for full session and $9 for 2 hours
DESCRIPTION:
URL:https://www.jumpusapark.com/event/friday-teen-night-7-11pm-dj-14-full-session-9-2-hours-9/
END:VEVENT
BEGIN:VEVENT
DTSTART;TZID=America/New_York:20170902T200000
DTEND;TZID=America/New_York:20170902T230000
DTSTAMP:20260425T115340
CREATED:20170731T202014Z
LAST-MODIFIED:20170731T202014Z
UID:7231-1504382400-1504393200@www.jumpusapark.com
SUMMARY:Saturday School Kids & PreTeen Family Night 8pm-11pm $12 for full session\, $9 for 2 hours
DESCRIPTION:
URL:https://www.jumpusapark.com/event/saturday-school-kids-preteen-family-night-8pm-11pm-12-full-session-9-2-hours-18/
END:VEVENT
BEGIN:VEVENT
DTSTART;TZID=America/New_York:20170903T190000
DTEND;TZID=America/New_York:20170903T220000
DTSTAMP:20260425T115340
CREATED:20170731T201655Z
LAST-MODIFIED:20170731T201655Z
UID:7223-1504465200-1504476000@www.jumpusapark.com
SUMMARY:Sunday FIESTA Family Night 7pm-10pm $12 for full session\, $9 for 2 hours
DESCRIPTION:
URL:https://www.jumpusapark.com/event/sunday-fiesta-family-night-7pm-10pm-12-full-session-9-2-hours-13/
END:VEVENT
BEGIN:VEVENT
DTSTART;TZID=America/New_York:20170904T100000
DTEND;TZID=America/New_York:20170907T210000
DTSTAMP:20260425T115340
CREATED:20170826T224728Z
LAST-MODIFIED:20170826T224728Z
UID:7302-1504519200-1504818000@www.jumpusapark.com
SUMMARY:Mon-Thursday Deal $9 for 2Hours\, $14 for 2Hours+RidePass+SportsPass
DESCRIPTION:
URL:https://www.jumpusapark.com/event/mon-thursday-deal-9-2hours-14-2hoursridepasssportspass/
END:VEVENT
BEGIN:VEVENT
DTSTART;TZID=America/New_York:20170907T100000
DTEND;TZID=America/New_York:20170908T140000
DTSTAMP:20260425T115340
CREATED:20170907T183338Z
LAST-MODIFIED:20170907T183338Z
UID:7343-1504778400-1504879200@www.jumpusapark.com
SUMMARY:Happy Kangaroos Toddler&Preschool Jump Time! $5 for 6 & youngers (parents free) Mon-Fri 10am-2pm
DESCRIPTION:
URL:https://www.jumpusapark.com/event/happy-kangaroos-toddlerpreschool-jump-time-5-6-youngers-parents-free-mon-fri-10am-2pm/
END:VEVENT
BEGIN:VEVENT
DTSTART;TZID=America/New_York:20170908T100000
DTEND;TZID=America/New_York:20170910T220000
DTSTAMP:20260425T115340
CREATED:20170907T184252Z
LAST-MODIFIED:20170907T184252Z
UID:7356-1504864800-1505080800@www.jumpusapark.com
SUMMARY:3+ Jumpers Group Deal! 2Hours for $12 per Jumper\, 2Hours+RidePass+SportsPass for $17 per Jumper
DESCRIPTION:
URL:https://www.jumpusapark.com/event/3-jumpers-group-deal-2hours-12-per-jumper-2hoursridepasssportspass-17-per-jumper/
END:VEVENT
BEGIN:VEVENT
DTSTART;TZID=America/New_York:20170908T190000
DTEND;TZID=America/New_York:20170908T230000
DTSTAMP:20260425T115340
CREATED:20170907T171943Z
LAST-MODIFIED:20170907T171943Z
UID:7333-1504897200-1504911600@www.jumpusapark.com
SUMMARY:Friday Teen Night (7-11pm) with DJ $14 for Full-Session+SportsPass and $9 for 2 hours
DESCRIPTION:
URL:https://www.jumpusapark.com/event/friday-teen-night-7-11pm-dj-14-full-sessionsportspass-9-2-hours/
END:VEVENT
BEGIN:VEVENT
DTSTART;TZID=America/New_York:20170909T200000
DTEND;TZID=America/New_York:20170909T230000
DTSTAMP:20260425T115340
CREATED:20170907T184752Z
LAST-MODIFIED:20170909T230007Z
UID:7367-1504987200-1504998000@www.jumpusapark.com
SUMMARY:Saturday School Kids Family Night 8pm-11pm $12 for full session+sports pass\, $9 for 2 hours
DESCRIPTION:
URL:https://www.jumpusapark.com/event/saturday-school-kids-family-night-8pm-11pm-12-full-session-9-2-hours/
END:VEVENT
BEGIN:VEVENT
DTSTART;TZID=America/New_York:20170910T190000
DTEND;TZID=America/New_York:20170910T220000
DTSTAMP:20260425T115340
CREATED:20170909T231038Z
LAST-MODIFIED:20170909T231038Z
UID:7379-1505070000-1505080800@www.jumpusapark.com
SUMMARY:Sunday FIESTA Family Night 7pm-10pm $12 for full session+sports pass\, $9 for 2 hours
DESCRIPTION:
URL:https://www.jumpusapark.com/event/sunday-fiesta-family-night-7pm-10pm-12-full-sessionsports-pass-9-2-hours/
END:VEVENT
BEGIN:VEVENT
DTSTART;TZID=America/New_York:20170911T100000
DTEND;TZID=America/New_York:20170914T210000
DTSTAMP:20260425T115340
CREATED:20170907T171543Z
LAST-MODIFIED:20170907T171543Z
UID:7325-1505124000-1505422800@www.jumpusapark.com
SUMMARY:Mon-Thursday Deal $9 for 2Hours\, $14 for 2Hours+RidePass+SportsPass
DESCRIPTION:
URL:https://www.jumpusapark.com/event/mon-thursday-deal-9-2hours-14-2hoursridepasssportspass-2/
END:VEVENT
BEGIN:VEVENT
DTSTART;TZID=America/New_York:20170911T100000
DTEND;TZID=America/New_York:20170915T140000
DTSTAMP:20260425T115340
CREATED:20170907T183411Z
LAST-MODIFIED:20170907T183852Z
UID:7345-1505124000-1505484000@www.jumpusapark.com
SUMMARY:Happy Kangaroos Toddler&Preschool Jump Time! $5 for 6 & youngers (parents free) Mon-Fri 10am-2pm (except holidays & school vacations)
DESCRIPTION:
URL:https://www.jumpusapark.com/event/happy-kangaroos-toddlerpreschool-jump-time-5-6-youngers-parents-free-mon-fri-10am-2pm-2/
END:VEVENT
BEGIN:VEVENT
DTSTART;TZID=America/New_York:20170915T100000
DTEND;TZID=America/New_York:20170917T220000
DTSTAMP:20260425T115340
CREATED:20170907T184320Z
LAST-MODIFIED:20170907T184320Z
UID:7358-1505469600-1505685600@www.jumpusapark.com
SUMMARY:3+ Jumpers Group Deal! 2Hours for $12 per Jumper\, 2Hours+RidePass+SportsPass for $17 per Jumper
DESCRIPTION:
URL:https://www.jumpusapark.com/event/3-jumpers-group-deal-2hours-12-per-jumper-2hoursridepasssportspass-17-per-jumper-2/
END:VEVENT
BEGIN:VEVENT
DTSTART;TZID=America/New_York:20170915T190000
DTEND;TZID=America/New_York:20170915T230000
DTSTAMP:20260425T115340
CREATED:20170907T172022Z
LAST-MODIFIED:20170907T172022Z
UID:7335-1505502000-1505516400@www.jumpusapark.com
SUMMARY:Friday Teen Night (7-11pm) with DJ $14 for Full-Session+SportsPass and $9 for 2 hours
DESCRIPTION:
URL:https://www.jumpusapark.com/event/friday-teen-night-7-11pm-dj-14-full-sessionsportspass-9-2-hours-2/
END:VEVENT
BEGIN:VEVENT
DTSTART;TZID=America/New_York:20170916T200000
DTEND;TZID=America/New_York:20170916T230000
DTSTAMP:20260425T115340
CREATED:20170909T230055Z
LAST-MODIFIED:20170909T230055Z
UID:7371-1505592000-1505602800@www.jumpusapark.com
SUMMARY:Saturday School Kids Family Night 8pm-11pm $12 for full session+sports pass\, $9 for 2 hours
DESCRIPTION:
URL:https://www.jumpusapark.com/event/saturday-school-kids-family-night-8pm-11pm-12-full-sessionsports-pass-9-2-hours/
END:VEVENT
BEGIN:VEVENT
DTSTART;TZID=America/New_York:20170917T190000
DTEND;TZID=America/New_York:20170917T220000
DTSTAMP:20260425T115340
CREATED:20170909T231255Z
LAST-MODIFIED:20170909T231255Z
UID:7381-1505674800-1505685600@www.jumpusapark.com
SUMMARY:Sunday FIESTA Family Night 7pm-10pm $12 for full session+sports pass\, $9 for 2 hours
DESCRIPTION:
URL:https://www.jumpusapark.com/event/sunday-fiesta-family-night-7pm-10pm-12-full-sessionsports-pass-9-2-hours-2/
END:VEVENT
BEGIN:VEVENT
DTSTART;TZID=America/New_York:20170918T100000
DTEND;TZID=America/New_York:20170921T210000
DTSTAMP:20260425T115340
CREATED:20170907T171628Z
LAST-MODIFIED:20170907T171628Z
UID:7327-1505728800-1506027600@www.jumpusapark.com
SUMMARY:Mon-Thursday Deal $9 for 2Hours\, $14 for 2Hours+RidePass+SportsPass
DESCRIPTION:
URL:https://www.jumpusapark.com/event/mon-thursday-deal-9-2hours-14-2hoursridepasssportspass-3/
END:VEVENT
BEGIN:VEVENT
DTSTART;TZID=America/New_York:20170918T100000
DTEND;TZID=America/New_York:20170922T140000
DTSTAMP:20260425T115340
CREATED:20170907T183551Z
LAST-MODIFIED:20170921T154402Z
UID:7347-1505728800-1506088800@www.jumpusapark.com
SUMMARY:Mon-Friday Happy Kangaroos Toddler & Preschool Jump Time!  $5 for 6 & youngers (parents free) Mon-Fri 10am-2pm (except holidays & school vacations)
DESCRIPTION:
URL:https://www.jumpusapark.com/event/happy-kangaroos-toddlerpreschool-jump-time-5-6-youngers-parents-free-mon-fri-10am-2pm-3/
END:VEVENT
BEGIN:VEVENT
DTSTART;TZID=America/New_York:20170922T100000
DTEND;TZID=America/New_York:20170924T220000
DTSTAMP:20260425T115340
CREATED:20170907T184348Z
LAST-MODIFIED:20170920T205459Z
UID:7360-1506074400-1506290400@www.jumpusapark.com
SUMMARY:Weekend 3+ Jumpers Group Deal! 2Hours for $12 per Jumper\, 2Hours+RidePass+SportsPass for $17 per Jumper
DESCRIPTION:
URL:https://www.jumpusapark.com/event/3-jumpers-group-deal-2hours-12-per-jumper-2hoursridepasssportspass-17-per-jumper-3/
END:VEVENT
BEGIN:VEVENT
DTSTART;TZID=America/New_York:20170922T190000
DTEND;TZID=America/New_York:20170922T230000
DTSTAMP:20260425T115340
CREATED:20170907T172545Z
LAST-MODIFIED:20170917T202632Z
UID:7337-1506106800-1506121200@www.jumpusapark.com
SUMMARY:Friday Teen Night (7-11pm) with DJ $12 for Full-Session+SportsPass and $9 for 2 hours
DESCRIPTION:
URL:https://www.jumpusapark.com/event/friday-teen-night-7-11pm-dj-14-full-sessionsportspass-9-2-hours-3/
END:VEVENT
BEGIN:VEVENT
DTSTART;TZID=America/New_York:20170923T200000
DTEND;TZID=America/New_York:20170923T230000
DTSTAMP:20260425T115340
CREATED:20170909T230130Z
LAST-MODIFIED:20170909T230130Z
UID:7373-1506196800-1506207600@www.jumpusapark.com
SUMMARY:Saturday School Kids Family Night 8pm-11pm $12 for full session+sports pass\, $9 for 2 hours
DESCRIPTION:
URL:https://www.jumpusapark.com/event/saturday-school-kids-family-night-8pm-11pm-12-full-sessionsports-pass-9-2-hours-2/
END:VEVENT
BEGIN:VEVENT
DTSTART;TZID=America/New_York:20170924T190000
DTEND;TZID=America/New_York:20170924T220000
DTSTAMP:20260425T115340
CREATED:20170909T231333Z
LAST-MODIFIED:20170909T231333Z
UID:7383-1506279600-1506290400@www.jumpusapark.com
SUMMARY:Sunday FIESTA Family Night 7pm-10pm $12 for full session+sports pass\, $9 for 2 hours
DESCRIPTION:
URL:https://www.jumpusapark.com/event/sunday-fiesta-family-night-7pm-10pm-12-full-sessionsports-pass-9-2-hours-3/
END:VEVENT
BEGIN:VEVENT
DTSTART;TZID=America/New_York:20170925T100000
DTEND;TZID=America/New_York:20170928T210000
DTSTAMP:20260425T115340
CREATED:20170907T171657Z
LAST-MODIFIED:20170907T171657Z
UID:7329-1506333600-1506632400@www.jumpusapark.com
SUMMARY:Mon-Thursday Deal $9 for 2Hours\, $14 for 2Hours+RidePass+SportsPass
DESCRIPTION:
URL:https://www.jumpusapark.com/event/mon-thursday-deal-9-2hours-14-2hoursridepasssportspass-4/
END:VEVENT
BEGIN:VEVENT
DTSTART;TZID=America/New_York:20170925T100000
DTEND;TZID=America/New_York:20170929T140000
DTSTAMP:20260425T115340
CREATED:20170907T183805Z
LAST-MODIFIED:20170921T154331Z
UID:7351-1506333600-1506693600@www.jumpusapark.com
SUMMARY:Mon-Friday Happy Kangaroos Toddler & Preschool Jump Time!  $5 for 6 & youngers (parents free) Mon-Fri 10am-2pm (except holidays & school vacations)
DESCRIPTION:
URL:https://www.jumpusapark.com/event/happy-kangaroos-toddlerpreschool-jump-time-5-6-youngers-parents-free-mon-fri-10am-2pm-except-holidays-school-vacations/
END:VEVENT
BEGIN:VEVENT
DTSTART;TZID=America/New_York:20170929T100000
DTEND;TZID=America/New_York:20171001T220000
DTSTAMP:20260425T115340
CREATED:20170907T184422Z
LAST-MODIFIED:20170920T205427Z
UID:7362-1506679200-1506895200@www.jumpusapark.com
SUMMARY:Weekend 3+ Jumpers Group Deal! 2Hours for $12 per Jumper\, 2Hours+RidePass+SportsPass for $17 per Jumper
DESCRIPTION:
URL:https://www.jumpusapark.com/event/3-jumpers-group-deal-2hours-12-per-jumper-2hoursridepasssportspass-17-per-jumper-4/
END:VEVENT
BEGIN:VEVENT
DTSTART;TZID=America/New_York:20170929T190000
DTEND;TZID=America/New_York:20170929T230000
DTSTAMP:20260425T115340
CREATED:20170907T172616Z
LAST-MODIFIED:20170926T155823Z
UID:7339-1506711600-1506726000@www.jumpusapark.com
SUMMARY:Friday Teen Night (7-11pm) $12 for Full-Session+SportsPass and $9 for 2 hours
DESCRIPTION:
URL:https://www.jumpusapark.com/event/friday-teen-night-7-11pm-dj-14-full-sessionsportspass-9-2-hours-4/
END:VEVENT
BEGIN:VEVENT
DTSTART;TZID=America/New_York:20170930T200000
DTEND;TZID=America/New_York:20170930T230000
DTSTAMP:20260425T115340
CREATED:20170909T230212Z
LAST-MODIFIED:20170909T230212Z
UID:7375-1506801600-1506812400@www.jumpusapark.com
SUMMARY:Saturday School Kids Family Night 8pm-11pm $12 for full session+sports pass\, $9 for 2 hours
DESCRIPTION:
URL:https://www.jumpusapark.com/event/saturday-school-kids-family-night-8pm-11pm-12-full-sessionsports-pass-9-2-hours-3/
END:VEVENT
END:VCALENDAR