BEGIN:VCALENDAR
VERSION:2.0
PRODID:-//JUMP PARTY USA - ECPv6.15.20//NONSGML v1.0//EN
CALSCALE:GREGORIAN
METHOD:PUBLISH
X-WR-CALNAME:JUMP PARTY USA
X-ORIGINAL-URL:https://www.jumpusapark.com
X-WR-CALDESC:Events for JUMP PARTY USA
REFRESH-INTERVAL;VALUE=DURATION:PT1H
X-Robots-Tag:noindex
X-PUBLISHED-TTL:PT1H
BEGIN:VTIMEZONE
TZID:America/New_York
BEGIN:DAYLIGHT
TZOFFSETFROM:-0500
TZOFFSETTO:-0400
TZNAME:EDT
DTSTART:20160313T070000
END:DAYLIGHT
BEGIN:STANDARD
TZOFFSETFROM:-0400
TZOFFSETTO:-0500
TZNAME:EST
DTSTART:20161106T060000
END:STANDARD
BEGIN:DAYLIGHT
TZOFFSETFROM:-0500
TZOFFSETTO:-0400
TZNAME:EDT
DTSTART:20170312T070000
END:DAYLIGHT
BEGIN:STANDARD
TZOFFSETFROM:-0400
TZOFFSETTO:-0500
TZNAME:EST
DTSTART:20171105T060000
END:STANDARD
BEGIN:DAYLIGHT
TZOFFSETFROM:-0500
TZOFFSETTO:-0400
TZNAME:EDT
DTSTART:20180311T070000
END:DAYLIGHT
BEGIN:STANDARD
TZOFFSETFROM:-0400
TZOFFSETTO:-0500
TZNAME:EST
DTSTART:20181104T060000
END:STANDARD
END:VTIMEZONE
BEGIN:VEVENT
DTSTART;TZID=America/New_York:20170530T140000
DTEND;TZID=America/New_York:20170601T210000
DTSTAMP:20260425T180534
CREATED:20170501T002749Z
LAST-MODIFIED:20170528T013536Z
UID:7053-1496152800-1496350800@www.jumpusapark.com
SUMMARY:Mon-Thursday Deal $9 for 2Hours\, $12 for 2Hours+2Rides
DESCRIPTION:
URL:https://www.jumpusapark.com/event/mon-thursday-deal-9-2hours-12-2hours2rides-25/
END:VEVENT
BEGIN:VEVENT
DTSTART;TZID=America/New_York:20170602T190000
DTEND;TZID=America/New_York:20170602T230000
DTSTAMP:20260425T180534
CREATED:20170501T002405Z
LAST-MODIFIED:20170501T002405Z
UID:7045-1496430000-1496444400@www.jumpusapark.com
SUMMARY:Friday Teen Night (7-11pm) with DJ $14 for full session ($9 for 2 hours\, expired wristband checked\, must buy additional hour)
DESCRIPTION:
URL:https://www.jumpusapark.com/event/friday-teen-night-7-11pm-dj-14-full-session-9-2-hours-expired-wristband-checked-must-buy-additional-hour-5/
END:VEVENT
BEGIN:VEVENT
DTSTART;TZID=America/New_York:20170602T210000
DTEND;TZID=America/New_York:20170602T230000
DTSTAMP:20260425T180534
CREATED:20170528T171545Z
LAST-MODIFIED:20170528T171545Z
UID:7083-1496437200-1496444400@www.jumpusapark.com
SUMMARY:Graduate Party Event Friday 6/2 9-11pm $9 for 2 Hours
DESCRIPTION:
URL:https://www.jumpusapark.com/event/graduate-party-event-friday-62-9-11pm-9-2-hours/
END:VEVENT
BEGIN:VEVENT
DTSTART;TZID=America/New_York:20170603T100000
DTEND;TZID=America/New_York:20170603T230000
DTSTAMP:20260425T180534
CREATED:20170501T001939Z
LAST-MODIFIED:20170501T001939Z
UID:7033-1496484000-1496530800@www.jumpusapark.com
SUMMARY:3orMore Group/Family Deal! 2Hours for $12 per Jumper\, 2Hours+2Rides for $15 per Jumper
DESCRIPTION:
URL:https://www.jumpusapark.com/event/3ormore-groupfamily-deal-2hours-12-per-jumper-2hours2rides-15-per-jumper-42/
END:VEVENT
BEGIN:VEVENT
DTSTART;TZID=America/New_York:20170603T200000
DTEND;TZID=America/New_York:20170603T230000
DTSTAMP:20260425T180534
CREATED:20170501T001049Z
LAST-MODIFIED:20170501T001049Z
UID:7013-1496520000-1496530800@www.jumpusapark.com
SUMMARY:Saturday School Kids & PreTeen Family Night 8pm-11pm $12 for full session\, $9 for 2 hours
DESCRIPTION:
URL:https://www.jumpusapark.com/event/saturday-school-kids-preteen-family-night-8pm-11pm-12-full-session-9-2-hours-6/
END:VEVENT
BEGIN:VEVENT
DTSTART;TZID=America/New_York:20170604T120000
DTEND;TZID=America/New_York:20170604T220000
DTSTAMP:20260425T180534
CREATED:20170501T002016Z
LAST-MODIFIED:20170507T175639Z
UID:7035-1496577600-1496613600@www.jumpusapark.com
SUMMARY:3orMore Group/Family Deal! 2Hours for $12 per Jumper\, 2Hours+2Rides for $15 per Jumper
DESCRIPTION:
URL:https://www.jumpusapark.com/event/3ormore-groupfamily-deal-2hours-12-per-jumper-2hours2rides-15-per-jumper-43/
END:VEVENT
BEGIN:VEVENT
DTSTART;TZID=America/New_York:20170609T100000
DTEND;TZID=America/New_York:20170611T190000
DTSTAMP:20260425T180534
CREATED:20170604T203024Z
LAST-MODIFIED:20170604T203024Z
UID:7126-1497002400-1497207600@www.jumpusapark.com
SUMMARY:3orMore Group/Family Deal! 2Hours for $12 per Jumper\, 2Hours+2Rides for $15 per Jumper
DESCRIPTION:
URL:https://www.jumpusapark.com/event/3ormore-groupfamily-deal-2hours-12-per-jumper-2hours2rides-15-per-jumper-33/
END:VEVENT
BEGIN:VEVENT
DTSTART;TZID=America/New_York:20170609T190000
DTEND;TZID=America/New_York:20170609T230000
DTSTAMP:20260425T180534
CREATED:20170604T144636Z
LAST-MODIFIED:20170604T144636Z
UID:7099-1497034800-1497049200@www.jumpusapark.com
SUMMARY:Friday Teen Night (7-11pm) with DJ $14 for full session ($9 for 2 hours\, expired wristband checked\, must buy additional hour)
DESCRIPTION:
URL:https://www.jumpusapark.com/event/friday-teen-night-7-11pm-dj-14-full-session-9-2-hours-expired-wristband-checked-must-buy-additional-hour-6/
END:VEVENT
BEGIN:VEVENT
DTSTART;TZID=America/New_York:20170609T210000
DTEND;TZID=America/New_York:20170609T230000
DTSTAMP:20260425T180534
CREATED:20170604T202453Z
LAST-MODIFIED:20170604T202453Z
UID:7116-1497042000-1497049200@www.jumpusapark.com
SUMMARY:Friday College & Young Adults Night (9-11pm) with DJ $9 for 2 Hours
DESCRIPTION:
URL:https://www.jumpusapark.com/event/friday-college-young-adults-night-9-11pm-dj-9-2-hours/
END:VEVENT
BEGIN:VEVENT
DTSTART;TZID=America/New_York:20170610T200000
DTEND;TZID=America/New_York:20170610T230000
DTSTAMP:20260425T180534
CREATED:20170604T203307Z
LAST-MODIFIED:20170604T203307Z
UID:7134-1497124800-1497135600@www.jumpusapark.com
SUMMARY:Saturday School Kids & PreTeen Family Night 8pm-11pm $12 for full session\, $9 for 2 hours
DESCRIPTION:
URL:https://www.jumpusapark.com/event/saturday-school-kids-preteen-family-night-8pm-11pm-12-full-session-9-2-hours-4/
END:VEVENT
BEGIN:VEVENT
DTSTART;TZID=America/New_York:20170611T190000
DTEND;TZID=America/New_York:20170611T220000
DTSTAMP:20260425T180534
CREATED:20170604T203704Z
LAST-MODIFIED:20170604T203704Z
UID:7142-1497207600-1497218400@www.jumpusapark.com
SUMMARY:Sunday FIESTA Family Night 7pm-10pm $12 for full session\, $9 for 2 hours
DESCRIPTION:
URL:https://www.jumpusapark.com/event/sunday-fiesta-family-night-7pm-10pm-12-full-session-9-2-hours/
END:VEVENT
BEGIN:VEVENT
DTSTART;TZID=America/New_York:20170612T100000
DTEND;TZID=America/New_York:20170615T210000
DTSTAMP:20260425T180534
CREATED:20170604T144315Z
LAST-MODIFIED:20170604T144315Z
UID:7091-1497261600-1497560400@www.jumpusapark.com
SUMMARY:Summer Special! Mon-Thursday Deal $9 for 2Hours\, $12 for 2Hours+2Rides
DESCRIPTION:
URL:https://www.jumpusapark.com/event/summer-special-mon-thursday-deal-9-2hours-12-2hours2rides-2/
END:VEVENT
BEGIN:VEVENT
DTSTART;TZID=America/New_York:20170616T100000
DTEND;TZID=America/New_York:20170618T190000
DTSTAMP:20260425T180534
CREATED:20170604T203059Z
LAST-MODIFIED:20170604T203059Z
UID:7128-1497607200-1497812400@www.jumpusapark.com
SUMMARY:3orMore Group/Family Deal! 2Hours for $12 per Jumper\, 2Hours+2Rides for $15 per Jumper
DESCRIPTION:
URL:https://www.jumpusapark.com/event/3ormore-groupfamily-deal-2hours-12-per-jumper-2hours2rides-15-per-jumper-38/
END:VEVENT
BEGIN:VEVENT
DTSTART;TZID=America/New_York:20170616T190000
DTEND;TZID=America/New_York:20170616T230000
DTSTAMP:20260425T180534
CREATED:20170604T201801Z
LAST-MODIFIED:20170604T201801Z
UID:7109-1497639600-1497654000@www.jumpusapark.com
SUMMARY:Friday Teen Night (7-11pm) with DJ $14 for full session ($9 for 2 hours\, expired wristband checked\, must buy additional hour)
DESCRIPTION:
URL:https://www.jumpusapark.com/event/friday-teen-night-7-11pm-dj-14-full-session-9-2-hours-expired-wristband-checked-must-buy-additional-hour-7/
END:VEVENT
BEGIN:VEVENT
DTSTART;TZID=America/New_York:20170616T210000
DTEND;TZID=America/New_York:20170616T230000
DTSTAMP:20260425T180534
CREATED:20170604T202532Z
LAST-MODIFIED:20170604T202532Z
UID:7118-1497646800-1497654000@www.jumpusapark.com
SUMMARY:Friday College & Young Adults Night (9-11pm) with DJ $9 for 2 Hours
DESCRIPTION:
URL:https://www.jumpusapark.com/event/friday-college-young-adults-night-9-11pm-dj-9-2-hours-2/
END:VEVENT
BEGIN:VEVENT
DTSTART;TZID=America/New_York:20170617T200000
DTEND;TZID=America/New_York:20170617T230000
DTSTAMP:20260425T180534
CREATED:20170604T203339Z
LAST-MODIFIED:20170604T203339Z
UID:7136-1497729600-1497740400@www.jumpusapark.com
SUMMARY:Saturday School Kids & PreTeen Family Night 8pm-11pm $12 for full session\, $9 for 2 hours
DESCRIPTION:
URL:https://www.jumpusapark.com/event/saturday-school-kids-preteen-family-night-8pm-11pm-12-full-session-9-2-hours-7/
END:VEVENT
BEGIN:VEVENT
DTSTART;TZID=America/New_York:20170618T190000
DTEND;TZID=America/New_York:20170618T220000
DTSTAMP:20260425T180534
CREATED:20170604T203811Z
LAST-MODIFIED:20170604T203811Z
UID:7144-1497812400-1497823200@www.jumpusapark.com
SUMMARY:Sunday FIESTA Family Night 7pm-10pm $12 for full session\, $9 for 2 hours
DESCRIPTION:
URL:https://www.jumpusapark.com/event/sunday-fiesta-family-night-7pm-10pm-12-full-session-9-2-hours-2/
END:VEVENT
BEGIN:VEVENT
DTSTART;TZID=America/New_York:20170619T100000
DTEND;TZID=America/New_York:20170622T210000
DTSTAMP:20260425T180534
CREATED:20170604T144346Z
LAST-MODIFIED:20170604T144346Z
UID:7093-1497866400-1498165200@www.jumpusapark.com
SUMMARY:Summer Special! Mon-Thursday Deal $9 for 2Hours\, $12 for 2Hours+2Rides
DESCRIPTION:
URL:https://www.jumpusapark.com/event/summer-special-mon-thursday-deal-9-2hours-12-2hours2rides-3/
END:VEVENT
BEGIN:VEVENT
DTSTART;TZID=America/New_York:20170623T100000
DTEND;TZID=America/New_York:20170625T190000
DTSTAMP:20260425T180534
CREATED:20170604T203130Z
LAST-MODIFIED:20170604T203130Z
UID:7130-1498212000-1498417200@www.jumpusapark.com
SUMMARY:3orMore Group/Family Deal! 2Hours for $12 per Jumper\, 2Hours+2Rides for $15 per Jumper
DESCRIPTION:
URL:https://www.jumpusapark.com/event/3ormore-groupfamily-deal-2hours-12-per-jumper-2hours2rides-15-per-jumper-44/
END:VEVENT
BEGIN:VEVENT
DTSTART;TZID=America/New_York:20170623T190000
DTEND;TZID=America/New_York:20170623T210000
DTSTAMP:20260425T180534
CREATED:20170604T201832Z
LAST-MODIFIED:20170604T201832Z
UID:7111-1498244400-1498251600@www.jumpusapark.com
SUMMARY:Friday Teen Night (7-11pm) with DJ $14 for full session ($9 for 2 hours\, expired wristband checked\, must buy additional hour)
DESCRIPTION:
URL:https://www.jumpusapark.com/event/friday-teen-night-7-11pm-dj-14-full-session-9-2-hours-expired-wristband-checked-must-buy-additional-hour-8/
END:VEVENT
BEGIN:VEVENT
DTSTART;TZID=America/New_York:20170623T210000
DTEND;TZID=America/New_York:20170623T230000
DTSTAMP:20260425T180534
CREATED:20170604T202609Z
LAST-MODIFIED:20170604T202609Z
UID:7120-1498251600-1498258800@www.jumpusapark.com
SUMMARY:Friday College & Young Adults Night (9-11pm) with DJ $9 for 2 Hours
DESCRIPTION:
URL:https://www.jumpusapark.com/event/friday-college-young-adults-night-9-11pm-dj-9-2-hours-3/
END:VEVENT
BEGIN:VEVENT
DTSTART;TZID=America/New_York:20170624T200000
DTEND;TZID=America/New_York:20170624T230000
DTSTAMP:20260425T180534
CREATED:20170604T203418Z
LAST-MODIFIED:20170604T203532Z
UID:7138-1498334400-1498345200@www.jumpusapark.com
SUMMARY:Saturday School Kids & PreTeen Family Night 8pm-11pm $12 for full session\, $9 for 2 hours
DESCRIPTION:
URL:https://www.jumpusapark.com/event/saturday-school-kids-preteen-family-night-8pm-11pm-12-full-session-9-2-hours-8/
END:VEVENT
BEGIN:VEVENT
DTSTART;TZID=America/New_York:20170625T190000
DTEND;TZID=America/New_York:20170625T220000
DTSTAMP:20260425T180534
CREATED:20170604T203845Z
LAST-MODIFIED:20170604T203845Z
UID:7146-1498417200-1498428000@www.jumpusapark.com
SUMMARY:Sunday FIESTA Family Night 7pm-10pm $12 for full session\, $9 for 2 hours
DESCRIPTION:
URL:https://www.jumpusapark.com/event/sunday-fiesta-family-night-7pm-10pm-12-full-session-9-2-hours-3/
END:VEVENT
BEGIN:VEVENT
DTSTART;TZID=America/New_York:20170626T100000
DTEND;TZID=America/New_York:20170629T210000
DTSTAMP:20260425T180534
CREATED:20170604T144419Z
LAST-MODIFIED:20170604T144419Z
UID:7095-1498471200-1498770000@www.jumpusapark.com
SUMMARY:Summer Special! Mon-Thursday Deal $9 for 2Hours\, $12 for 2Hours+2Rides
DESCRIPTION:
URL:https://www.jumpusapark.com/event/summer-special-mon-thursday-deal-9-2hours-12-2hours2rides-4/
END:VEVENT
BEGIN:VEVENT
DTSTART;TZID=America/New_York:20170630T100000
DTEND;TZID=America/New_York:20170702T190000
DTSTAMP:20260425T180534
CREATED:20170604T203201Z
LAST-MODIFIED:20170604T203201Z
UID:7132-1498816800-1499022000@www.jumpusapark.com
SUMMARY:3orMore Group/Family Deal! 2Hours for $12 per Jumper\, 2Hours+2Rides for $15 per Jumper
DESCRIPTION:
URL:https://www.jumpusapark.com/event/3ormore-groupfamily-deal-2hours-12-per-jumper-2hours2rides-15-per-jumper-45/
END:VEVENT
BEGIN:VEVENT
DTSTART;TZID=America/New_York:20170630T190000
DTEND;TZID=America/New_York:20170630T230000
DTSTAMP:20260425T180534
CREATED:20170604T201912Z
LAST-MODIFIED:20170604T201912Z
UID:7113-1498849200-1498863600@www.jumpusapark.com
SUMMARY:Friday Teen Night (7-11pm) with DJ $14 for full session ($9 for 2 hours\, expired wristband checked\, must buy additional hour)
DESCRIPTION:
URL:https://www.jumpusapark.com/event/friday-teen-night-7-11pm-dj-14-full-session-9-2-hours-expired-wristband-checked-must-buy-additional-hour-9/
END:VEVENT
BEGIN:VEVENT
DTSTART;TZID=America/New_York:20170630T210000
DTEND;TZID=America/New_York:20170630T230000
DTSTAMP:20260425T180534
CREATED:20170604T202645Z
LAST-MODIFIED:20170604T202645Z
UID:7122-1498856400-1498863600@www.jumpusapark.com
SUMMARY:Friday College & Young Adults Night (9-11pm) with DJ $9 for 2 Hours
DESCRIPTION:
URL:https://www.jumpusapark.com/event/friday-college-young-adults-night-9-11pm-dj-9-2-hours-4/
END:VEVENT
END:VCALENDAR