BEGIN:VCALENDAR
VERSION:2.0
PRODID:-//JUMP PARTY USA - ECPv6.15.20//NONSGML v1.0//EN
CALSCALE:GREGORIAN
METHOD:PUBLISH
X-WR-CALNAME:JUMP PARTY USA
X-ORIGINAL-URL:https://www.jumpusapark.com
X-WR-CALDESC:Events for JUMP PARTY USA
REFRESH-INTERVAL;VALUE=DURATION:PT1H
X-Robots-Tag:noindex
X-PUBLISHED-TTL:PT1H
BEGIN:VTIMEZONE
TZID:America/New_York
BEGIN:DAYLIGHT
TZOFFSETFROM:-0500
TZOFFSETTO:-0400
TZNAME:EDT
DTSTART:20160313T070000
END:DAYLIGHT
BEGIN:STANDARD
TZOFFSETFROM:-0400
TZOFFSETTO:-0500
TZNAME:EST
DTSTART:20161106T060000
END:STANDARD
BEGIN:DAYLIGHT
TZOFFSETFROM:-0500
TZOFFSETTO:-0400
TZNAME:EDT
DTSTART:20170312T070000
END:DAYLIGHT
BEGIN:STANDARD
TZOFFSETFROM:-0400
TZOFFSETTO:-0500
TZNAME:EST
DTSTART:20171105T060000
END:STANDARD
BEGIN:DAYLIGHT
TZOFFSETFROM:-0500
TZOFFSETTO:-0400
TZNAME:EDT
DTSTART:20180311T070000
END:DAYLIGHT
BEGIN:STANDARD
TZOFFSETFROM:-0400
TZOFFSETTO:-0500
TZNAME:EST
DTSTART:20181104T060000
END:STANDARD
END:VTIMEZONE
BEGIN:VEVENT
DTSTART;TZID=America/New_York:20170501T120000
DTEND;TZID=America/New_York:20170504T210000
DTSTAMP:20260425T194019
CREATED:20170403T151429Z
LAST-MODIFIED:20170424T024907Z
UID:6879-1493640000-1493931600@www.jumpusapark.com
SUMMARY:Mon-Thursday Deal $9 for 2Hours\, $12 for 2Hours+2Rides
DESCRIPTION:
URL:https://www.jumpusapark.com/event/mon-thursday-deal-9-2hours-12-2hours2rides-21/
END:VEVENT
BEGIN:VEVENT
DTSTART;TZID=America/New_York:20170505T190000
DTEND;TZID=America/New_York:20170505T230000
DTSTAMP:20260425T194019
CREATED:20170501T002139Z
LAST-MODIFIED:20170501T002139Z
UID:7037-1494010800-1494025200@www.jumpusapark.com
SUMMARY:Friday Teen Night (7-11pm) with DJ $14 for full session ($9 for 2 hours\, expired wristband checked\, must buy additional hour)
DESCRIPTION:
URL:https://www.jumpusapark.com/event/friday-teen-night-7-11pm-dj-14-full-session-9-2-hours-expired-wristband-checked-must-buy-additional-hour/
END:VEVENT
BEGIN:VEVENT
DTSTART;TZID=America/New_York:20170506T100000
DTEND;TZID=America/New_York:20170506T230000
DTSTAMP:20260425T194019
CREATED:20170427T225104Z
LAST-MODIFIED:20170427T225104Z
UID:6994-1494064800-1494111600@www.jumpusapark.com
SUMMARY:Cinco De Mayo Special! Saturday May 6 10am-11pm $5 for 2 hours & Free Pizza 12noon-2pm (while supplies last)
DESCRIPTION:
URL:https://www.jumpusapark.com/event/cinco-de-mayo-special-saturday-may-6-10am-11pm-5-2-hours-free-pizza-12noon-2pm-supplies-last/
END:VEVENT
BEGIN:VEVENT
DTSTART;TZID=America/New_York:20170507T110000
DTEND;TZID=America/New_York:20170507T220000
DTSTAMP:20260425T194019
CREATED:20170501T001304Z
LAST-MODIFIED:20170501T001304Z
UID:7017-1494154800-1494194400@www.jumpusapark.com
SUMMARY:3orMore Group/Family Deal! 2Hours for $12 per Jumper\, 2Hours+2Rides for $15 per Jumper
DESCRIPTION:
URL:https://www.jumpusapark.com/event/3ormore-groupfamily-deal-2hours-12-per-jumper-2hours2rides-15-per-jumper-34/
END:VEVENT
BEGIN:VEVENT
DTSTART;TZID=America/New_York:20170508T140000
DTEND;TZID=America/New_York:20170511T210000
DTSTAMP:20260425T194019
CREATED:20170501T002539Z
LAST-MODIFIED:20170507T180258Z
UID:7047-1494252000-1494536400@www.jumpusapark.com
SUMMARY:Mon-Thursday Deal $9 for 2Hours\, $12 for 2Hours+2Rides
DESCRIPTION:
URL:https://www.jumpusapark.com/event/mon-thursday-deal-9-2hours-12-2hours2rides-22/
END:VEVENT
BEGIN:VEVENT
DTSTART;TZID=America/New_York:20170512T190000
DTEND;TZID=America/New_York:20170512T230000
DTSTAMP:20260425T194019
CREATED:20170501T002209Z
LAST-MODIFIED:20170501T002209Z
UID:7039-1494615600-1494630000@www.jumpusapark.com
SUMMARY:Friday Teen Night (7-11pm) with DJ $14 for full session ($9 for 2 hours\, expired wristband checked\, must buy additional hour)
DESCRIPTION:
URL:https://www.jumpusapark.com/event/friday-teen-night-7-11pm-dj-14-full-session-9-2-hours-expired-wristband-checked-must-buy-additional-hour-2/
END:VEVENT
BEGIN:VEVENT
DTSTART;TZID=America/New_York:20170513T100000
DTEND;TZID=America/New_York:20170513T230000
DTSTAMP:20260425T194019
CREATED:20170501T001359Z
LAST-MODIFIED:20170501T001359Z
UID:7019-1494669600-1494716400@www.jumpusapark.com
SUMMARY:3orMore Group/Family Deal! 2Hours for $12 per Jumper\, 2Hours+2Rides for $15 per Jumper
DESCRIPTION:
URL:https://www.jumpusapark.com/event/3ormore-groupfamily-deal-2hours-12-per-jumper-2hours2rides-15-per-jumper-35/
END:VEVENT
BEGIN:VEVENT
DTSTART;TZID=America/New_York:20170513T200000
DTEND;TZID=America/New_York:20170513T230000
DTSTAMP:20260425T194019
CREATED:20170501T000820Z
LAST-MODIFIED:20170501T000820Z
UID:7005-1494705600-1494716400@www.jumpusapark.com
SUMMARY:Saturday School Kids & PreTeen Family Night 8pm-11pm $12 for full session\, $9 for 2 hours
DESCRIPTION:
URL:https://www.jumpusapark.com/event/saturday-school-kids-preteen-family-night-8pm-11pm-12-full-session-9-2-hours-2/
END:VEVENT
BEGIN:VEVENT
DTSTART;TZID=America/New_York:20170514T120000
DTEND;TZID=America/New_York:20170514T220000
DTSTAMP:20260425T194019
CREATED:20170501T001438Z
LAST-MODIFIED:20170507T180116Z
UID:7021-1494763200-1494799200@www.jumpusapark.com
SUMMARY:3orMore Group/Family Deal! 2Hours for $12 per Jumper\, 2Hours+2Rides for $15 per Jumper
DESCRIPTION:
URL:https://www.jumpusapark.com/event/3ormore-groupfamily-deal-2hours-12-per-jumper-2hours2rides-15-per-jumper-36/
END:VEVENT
BEGIN:VEVENT
DTSTART;TZID=America/New_York:20170515T140000
DTEND;TZID=America/New_York:20170518T210000
DTSTAMP:20260425T194019
CREATED:20170501T002635Z
LAST-MODIFIED:20170507T180031Z
UID:7049-1494856800-1495141200@www.jumpusapark.com
SUMMARY:Mon-Thursday Deal $9 for 2Hours\, $12 for 2Hours+2Rides
DESCRIPTION:
URL:https://www.jumpusapark.com/event/mon-thursday-deal-9-2hours-12-2hours2rides-23/
END:VEVENT
BEGIN:VEVENT
DTSTART;TZID=America/New_York:20170519T190000
DTEND;TZID=America/New_York:20170519T230000
DTSTAMP:20260425T194019
CREATED:20170501T002250Z
LAST-MODIFIED:20170501T002250Z
UID:7041-1495220400-1495234800@www.jumpusapark.com
SUMMARY:Friday Teen Night (7-11pm) with DJ $14 for full session ($9 for 2 hours\, expired wristband checked\, must buy additional hour)
DESCRIPTION:
URL:https://www.jumpusapark.com/event/friday-teen-night-7-11pm-dj-14-full-session-9-2-hours-expired-wristband-checked-must-buy-additional-hour-3/
END:VEVENT
BEGIN:VEVENT
DTSTART;TZID=America/New_York:20170520T100000
DTEND;TZID=America/New_York:20170520T230000
DTSTAMP:20260425T194019
CREATED:20170501T001521Z
LAST-MODIFIED:20170501T001521Z
UID:7023-1495274400-1495321200@www.jumpusapark.com
SUMMARY:3orMore Group/Family Deal! 2Hours for $12 per Jumper\, 2Hours+2Rides for $15 per Jumper
DESCRIPTION:
URL:https://www.jumpusapark.com/event/3ormore-groupfamily-deal-2hours-12-per-jumper-2hours2rides-15-per-jumper-37/
END:VEVENT
BEGIN:VEVENT
DTSTART;TZID=America/New_York:20170520T200000
DTEND;TZID=America/New_York:20170520T230000
DTSTAMP:20260425T194019
CREATED:20170501T000859Z
LAST-MODIFIED:20170501T000859Z
UID:7007-1495310400-1495321200@www.jumpusapark.com
SUMMARY:Saturday School Kids & PreTeen Family Night 8pm-11pm $12 for full session\, $9 for 2 hours
DESCRIPTION:
URL:https://www.jumpusapark.com/event/saturday-school-kids-preteen-family-night-8pm-11pm-12-full-session-9-2-hours-3/
END:VEVENT
BEGIN:VEVENT
DTSTART;TZID=America/New_York:20170521T120000
DTEND;TZID=America/New_York:20170521T220000
DTSTAMP:20260425T194019
CREATED:20170501T001631Z
LAST-MODIFIED:20170507T175906Z
UID:7027-1495368000-1495404000@www.jumpusapark.com
SUMMARY:3orMore Group/Family Deal! 2Hours for $12 per Jumper\, 2Hours+2Rides for $15 per Jumper
DESCRIPTION:
URL:https://www.jumpusapark.com/event/3ormore-groupfamily-deal-2hours-12-per-jumper-2hours2rides-15-per-jumper-39/
END:VEVENT
BEGIN:VEVENT
DTSTART;TZID=America/New_York:20170522T140000
DTEND;TZID=America/New_York:20170525T210000
DTSTAMP:20260425T194019
CREATED:20170501T002708Z
LAST-MODIFIED:20170507T175836Z
UID:7051-1495461600-1495746000@www.jumpusapark.com
SUMMARY:Mon-Thursday Deal $9 for 2Hours\, $12 for 2Hours+2Rides
DESCRIPTION:
URL:https://www.jumpusapark.com/event/mon-thursday-deal-9-2hours-12-2hours2rides-24/
END:VEVENT
BEGIN:VEVENT
DTSTART;TZID=America/New_York:20170526T190000
DTEND;TZID=America/New_York:20170526T230000
DTSTAMP:20260425T194019
CREATED:20170501T002328Z
LAST-MODIFIED:20170501T002328Z
UID:7043-1495825200-1495839600@www.jumpusapark.com
SUMMARY:Friday Teen Night (7-11pm) with DJ $14 for full session ($9 for 2 hours\, expired wristband checked\, must buy additional hour)
DESCRIPTION:
URL:https://www.jumpusapark.com/event/friday-teen-night-7-11pm-dj-14-full-session-9-2-hours-expired-wristband-checked-must-buy-additional-hour-4/
END:VEVENT
BEGIN:VEVENT
DTSTART;TZID=America/New_York:20170527T100000
DTEND;TZID=America/New_York:20170527T230000
DTSTAMP:20260425T194019
CREATED:20170501T001707Z
LAST-MODIFIED:20170501T001707Z
UID:7029-1495879200-1495926000@www.jumpusapark.com
SUMMARY:3orMore Group/Family Deal! 2Hours for $12 per Jumper\, 2Hours+2Rides for $15 per Jumper
DESCRIPTION:
URL:https://www.jumpusapark.com/event/3ormore-groupfamily-deal-2hours-12-per-jumper-2hours2rides-15-per-jumper-40/
END:VEVENT
BEGIN:VEVENT
DTSTART;TZID=America/New_York:20170527T200000
DTEND;TZID=America/New_York:20170527T230000
DTSTAMP:20260425T194019
CREATED:20170501T001016Z
LAST-MODIFIED:20170501T001016Z
UID:7011-1495915200-1495926000@www.jumpusapark.com
SUMMARY:Saturday School Kids & PreTeen Family Night 8pm-11pm $12 for full session\, $9 for 2 hours
DESCRIPTION:
URL:https://www.jumpusapark.com/event/saturday-school-kids-preteen-family-night-8pm-11pm-12-full-session-9-2-hours-5/
END:VEVENT
BEGIN:VEVENT
DTSTART;TZID=America/New_York:20170528T120000
DTEND;TZID=America/New_York:20170528T220000
DTSTAMP:20260425T194019
CREATED:20170501T001739Z
LAST-MODIFIED:20170507T175755Z
UID:7031-1495972800-1496008800@www.jumpusapark.com
SUMMARY:3orMore Group/Family Deal! 2Hours for $12 per Jumper\, 2Hours+2Rides for $15 per Jumper
DESCRIPTION:
URL:https://www.jumpusapark.com/event/3ormore-groupfamily-deal-2hours-12-per-jumper-2hours2rides-15-per-jumper-41/
END:VEVENT
BEGIN:VEVENT
DTSTART;TZID=America/New_York:20170529T100000
DTEND;TZID=America/New_York:20170529T210000
DTSTAMP:20260425T194019
CREATED:20170522T161136Z
LAST-MODIFIED:20170522T161136Z
UID:7076-1496052000-1496091600@www.jumpusapark.com
SUMMARY:Memorial Day Special! 10am - 9pm $9 for 2Hours\, $12 for 2Hours+2Rides
DESCRIPTION:
URL:https://www.jumpusapark.com/event/memorial-day-special-10am-9pm-9-2hours-12-2hours2rides/
END:VEVENT
BEGIN:VEVENT
DTSTART;TZID=America/New_York:20170530T140000
DTEND;TZID=America/New_York:20170601T210000
DTSTAMP:20260425T194019
CREATED:20170501T002749Z
LAST-MODIFIED:20170528T013536Z
UID:7053-1496152800-1496350800@www.jumpusapark.com
SUMMARY:Mon-Thursday Deal $9 for 2Hours\, $12 for 2Hours+2Rides
DESCRIPTION:
URL:https://www.jumpusapark.com/event/mon-thursday-deal-9-2hours-12-2hours2rides-25/
END:VEVENT
END:VCALENDAR