BEGIN:VCALENDAR
VERSION:2.0
PRODID:-//JUMP PARTY USA - ECPv6.15.20//NONSGML v1.0//EN
CALSCALE:GREGORIAN
METHOD:PUBLISH
X-WR-CALNAME:JUMP PARTY USA
X-ORIGINAL-URL:https://www.jumpusapark.com
X-WR-CALDESC:Events for JUMP PARTY USA
REFRESH-INTERVAL;VALUE=DURATION:PT1H
X-Robots-Tag:noindex
X-PUBLISHED-TTL:PT1H
BEGIN:VTIMEZONE
TZID:America/New_York
BEGIN:DAYLIGHT
TZOFFSETFROM:-0500
TZOFFSETTO:-0400
TZNAME:EDT
DTSTART:20160313T070000
END:DAYLIGHT
BEGIN:STANDARD
TZOFFSETFROM:-0400
TZOFFSETTO:-0500
TZNAME:EST
DTSTART:20161106T060000
END:STANDARD
BEGIN:DAYLIGHT
TZOFFSETFROM:-0500
TZOFFSETTO:-0400
TZNAME:EDT
DTSTART:20170312T070000
END:DAYLIGHT
BEGIN:STANDARD
TZOFFSETFROM:-0400
TZOFFSETTO:-0500
TZNAME:EST
DTSTART:20171105T060000
END:STANDARD
BEGIN:DAYLIGHT
TZOFFSETFROM:-0500
TZOFFSETTO:-0400
TZNAME:EDT
DTSTART:20180311T070000
END:DAYLIGHT
BEGIN:STANDARD
TZOFFSETFROM:-0400
TZOFFSETTO:-0500
TZNAME:EST
DTSTART:20181104T060000
END:STANDARD
END:VTIMEZONE
BEGIN:VEVENT
DTSTART;TZID=America/New_York:20170401T100000
DTEND;TZID=America/New_York:20170401T230000
DTSTAMP:20260425T211621
CREATED:20170306T160615Z
LAST-MODIFIED:20170306T160615Z
UID:6787-1491040800-1491087600@www.jumpusapark.com
SUMMARY:3orMore Group/Family Deal! 2Hours for $12 per Jumper\, 2Hours+2Rides for $15 per Jumper
DESCRIPTION:
URL:https://www.jumpusapark.com/event/3ormore-groupfamily-deal-2hours-12-per-jumper-2hours2rides-15-per-jumper-20/
END:VEVENT
BEGIN:VEVENT
DTSTART;TZID=America/New_York:20170401T200000
DTEND;TZID=America/New_York:20170401T230000
DTSTAMP:20260425T211621
CREATED:20170329T210201Z
LAST-MODIFIED:20170329T210201Z
UID:6832-1491076800-1491087600@www.jumpusapark.com
SUMMARY:Ladies Night on Saturday 4/1 8pm-11pm $9 full session with Free Karaoke
DESCRIPTION:
URL:https://www.jumpusapark.com/event/ladies-night-saturday-41-8pm-11pm-9-full-session-free-karaoke/
END:VEVENT
BEGIN:VEVENT
DTSTART;TZID=America/New_York:20170402T110000
DTEND;TZID=America/New_York:20170402T210000
DTSTAMP:20260425T211621
CREATED:20170306T160914Z
LAST-MODIFIED:20170306T160914Z
UID:6797-1491130800-1491166800@www.jumpusapark.com
SUMMARY:3orMore Group/Family Deal! 2Hours for $12 per Jumper\, 2Hours+2Rides for $15 per Jumper
DESCRIPTION:
URL:https://www.jumpusapark.com/event/3ormore-groupfamily-deal-2hours-12-per-jumper-2hours2rides-15-per-jumper-25/
END:VEVENT
BEGIN:VEVENT
DTSTART;TZID=America/New_York:20170403T110000
DTEND;TZID=America/New_York:20170406T210000
DTSTAMP:20260425T211621
CREATED:20170306T155441Z
LAST-MODIFIED:20170306T155441Z
UID:6761-1491217200-1491512400@www.jumpusapark.com
SUMMARY:Mon-Thursday Deal $9 for 2Hours\, $12 for 2Hours+2Rides
DESCRIPTION:
URL:https://www.jumpusapark.com/event/mon-thursday-deal-9-2hours-12-2hours2rides-17/
END:VEVENT
BEGIN:VEVENT
DTSTART;TZID=America/New_York:20170403T110000
DTEND;TZID=America/New_York:20170407T140000
DTSTAMP:20260425T211621
CREATED:20170306T155826Z
LAST-MODIFIED:20170403T152227Z
UID:6769-1491217200-1491573600@www.jumpusapark.com
SUMMARY:Happy Kangaroos Toddler/Preschool Time 6 & younger $5 for open to 2pm Mon-Friday (Kids Trampoline Only)
DESCRIPTION:
URL:https://www.jumpusapark.com/event/happy-kangaroos-toddlerpreschool-time-6-younger-5-open-2pm-mon-friday-11/
END:VEVENT
BEGIN:VEVENT
DTSTART;TZID=America/New_York:20170403T190000
DTEND;TZID=America/New_York:20170406T210000
DTSTAMP:20260425T211621
CREATED:20170403T153209Z
LAST-MODIFIED:20170403T153755Z
UID:6891-1491246000-1491512400@www.jumpusapark.com
SUMMARY:Jumpers Karaoke Night Special 7pm-close
DESCRIPTION:
URL:https://www.jumpusapark.com/event/jumpers-karaoke-night-special-7pm-close-9pm-sun-thurs-11pm-fri-sat/
END:VEVENT
BEGIN:VEVENT
DTSTART;TZID=America/New_York:20170407T180000
DTEND;TZID=America/New_York:20170407T230000
DTSTAMP:20260425T211621
CREATED:20170306T160230Z
LAST-MODIFIED:20170306T160230Z
UID:6779-1491588000-1491606000@www.jumpusapark.com
SUMMARY:Friday Teen Night with DJ $14 for full session and $9 for 2hours (6-11pm)
DESCRIPTION:
URL:https://www.jumpusapark.com/event/friday-teen-night-dj-14-full-session-9-2hours-6-11pm-5/
END:VEVENT
BEGIN:VEVENT
DTSTART;TZID=America/New_York:20170408T100000
DTEND;TZID=America/New_York:20170408T230000
DTSTAMP:20260425T211621
CREATED:20170306T160653Z
LAST-MODIFIED:20170306T160653Z
UID:6789-1491645600-1491692400@www.jumpusapark.com
SUMMARY:3orMore Group/Family Deal! 2Hours for $12 per Jumper\, 2Hours+2Rides for $15 per Jumper
DESCRIPTION:
URL:https://www.jumpusapark.com/event/3ormore-groupfamily-deal-2hours-12-per-jumper-2hours2rides-15-per-jumper-21/
END:VEVENT
BEGIN:VEVENT
DTSTART;TZID=America/New_York:20170408T190000
DTEND;TZID=America/New_York:20170409T230000
DTSTAMP:20260425T211621
CREATED:20170403T154155Z
LAST-MODIFIED:20170403T154155Z
UID:6895-1491678000-1491778800@www.jumpusapark.com
SUMMARY:Jumpers Karaoke Night Special 7pm-close (Sat 11pm\, Sun 9pm)
DESCRIPTION:
URL:https://www.jumpusapark.com/event/jumpers-karaoke-night-special-7pm-close-sat-11pm-sun-9pm/
END:VEVENT
BEGIN:VEVENT
DTSTART;TZID=America/New_York:20170409T110000
DTEND;TZID=America/New_York:20170409T210000
DTSTAMP:20260425T211621
CREATED:20170403T150313Z
LAST-MODIFIED:20170403T150313Z
UID:6853-1491735600-1491771600@www.jumpusapark.com
SUMMARY:3orMore Group/Family Deal! 2Hours for $12 per Jumper\, 2Hours+2Rides for $15 per Jumper
DESCRIPTION:
URL:https://www.jumpusapark.com/event/3ormore-groupfamily-deal-2hours-12-per-jumper-2hours2rides-15-per-jumper-26/
END:VEVENT
BEGIN:VEVENT
DTSTART;TZID=America/New_York:20170410T110000
DTEND;TZID=America/New_York:20170413T210000
DTSTAMP:20260425T211621
CREATED:20170403T151216Z
LAST-MODIFIED:20170403T151216Z
UID:6873-1491822000-1492117200@www.jumpusapark.com
SUMMARY:Mon-Thursday Deal $9 for 2Hours\, $12 for 2Hours+2Rides
DESCRIPTION:
URL:https://www.jumpusapark.com/event/mon-thursday-deal-9-2hours-12-2hours2rides-18/
END:VEVENT
BEGIN:VEVENT
DTSTART;TZID=America/New_York:20170410T190000
DTEND;TZID=America/New_York:20170413T210000
DTSTAMP:20260425T211621
CREATED:20170403T154538Z
LAST-MODIFIED:20170403T154538Z
UID:6903-1491850800-1492117200@www.jumpusapark.com
SUMMARY:Jumpers Karaoke Night Special 7pm-close
DESCRIPTION:
URL:https://www.jumpusapark.com/event/jumpers-karaoke-night-special-7pm-close/
END:VEVENT
BEGIN:VEVENT
DTSTART;TZID=America/New_York:20170414T180000
DTEND;TZID=America/New_York:20170414T230000
DTSTAMP:20260425T211621
CREATED:20170403T150924Z
LAST-MODIFIED:20170403T150924Z
UID:6867-1492192800-1492210800@www.jumpusapark.com
SUMMARY:Friday Teen Night with DJ $14 for full session and $9 for 2hours (6-11pm)
DESCRIPTION:
URL:https://www.jumpusapark.com/event/friday-teen-night-dj-14-full-session-9-2hours-6-11pm-6/
END:VEVENT
BEGIN:VEVENT
DTSTART;TZID=America/New_York:20170415T100000
DTEND;TZID=America/New_York:20170415T230000
DTSTAMP:20260425T211621
CREATED:20170403T150644Z
LAST-MODIFIED:20170403T150644Z
UID:6861-1492250400-1492297200@www.jumpusapark.com
SUMMARY:3orMore Group/Family Deal! 2Hours for $12 per Jumper\, 2Hours+2Rides for $15 per Jumper
DESCRIPTION:
URL:https://www.jumpusapark.com/event/3ormore-groupfamily-deal-2hours-12-per-jumper-2hours2rides-15-per-jumper-30/
END:VEVENT
BEGIN:VEVENT
DTSTART;TZID=America/New_York:20170415T190000
DTEND;TZID=America/New_York:20170416T230000
DTSTAMP:20260425T211621
CREATED:20170403T154253Z
LAST-MODIFIED:20170403T154253Z
UID:6897-1492282800-1492383600@www.jumpusapark.com
SUMMARY:Jumpers Karaoke Night Special 7pm-close (Sat 11pm\, Sun 9pm)
DESCRIPTION:
URL:https://www.jumpusapark.com/event/jumpers-karaoke-night-special-7pm-close-sat-11pm-sun-9pm-2/
END:VEVENT
BEGIN:VEVENT
DTSTART;TZID=America/New_York:20170416T110000
DTEND;TZID=America/New_York:20170416T210000
DTSTAMP:20260425T211621
CREATED:20170403T150421Z
LAST-MODIFIED:20170403T150421Z
UID:6855-1492340400-1492376400@www.jumpusapark.com
SUMMARY:3orMore Group/Family Deal! 2Hours for $12 per Jumper\, 2Hours+2Rides for $15 per Jumper
DESCRIPTION:
URL:https://www.jumpusapark.com/event/3ormore-groupfamily-deal-2hours-12-per-jumper-2hours2rides-15-per-jumper-27/
END:VEVENT
BEGIN:VEVENT
DTSTART;TZID=America/New_York:20170417T110000
DTEND;TZID=America/New_York:20170420T210000
DTSTAMP:20260425T211621
CREATED:20170403T151257Z
LAST-MODIFIED:20170403T151257Z
UID:6875-1492426800-1492722000@www.jumpusapark.com
SUMMARY:Mon-Thursday Deal $9 for 2Hours\, $12 for 2Hours+2Rides
DESCRIPTION:
URL:https://www.jumpusapark.com/event/mon-thursday-deal-9-2hours-12-2hours2rides-19/
END:VEVENT
BEGIN:VEVENT
DTSTART;TZID=America/New_York:20170417T190000
DTEND;TZID=America/New_York:20170420T210000
DTSTAMP:20260425T211621
CREATED:20170403T154617Z
LAST-MODIFIED:20170403T154617Z
UID:6905-1492455600-1492722000@www.jumpusapark.com
SUMMARY:Jumpers Karaoke Night Special 7pm-close
DESCRIPTION:
URL:https://www.jumpusapark.com/event/jumpers-karaoke-night-special-7pm-close-2/
END:VEVENT
BEGIN:VEVENT
DTSTART;TZID=America/New_York:20170421T180000
DTEND;TZID=America/New_York:20170421T230000
DTSTAMP:20260425T211621
CREATED:20170403T150959Z
LAST-MODIFIED:20170417T152609Z
UID:6869-1492797600-1492815600@www.jumpusapark.com
SUMMARY:Friday Teen Night (6-11pm) with DJ $14 for full session and $9 for 2hours (9-11pm)
DESCRIPTION:
URL:https://www.jumpusapark.com/event/friday-teen-night-dj-14-full-session-9-2hours-6-11pm-7/
END:VEVENT
BEGIN:VEVENT
DTSTART;TZID=America/New_York:20170422T100000
DTEND;TZID=America/New_York:20170422T230000
DTSTAMP:20260425T211621
CREATED:20170403T150719Z
LAST-MODIFIED:20170403T150719Z
UID:6863-1492855200-1492902000@www.jumpusapark.com
SUMMARY:3orMore Group/Family Deal! 2Hours for $12 per Jumper\, 2Hours+2Rides for $15 per Jumper
DESCRIPTION:
URL:https://www.jumpusapark.com/event/3ormore-groupfamily-deal-2hours-12-per-jumper-2hours2rides-15-per-jumper-31/
END:VEVENT
BEGIN:VEVENT
DTSTART;TZID=America/New_York:20170422T103000
DTEND;TZID=America/New_York:20170422T203000
DTSTAMP:20260425T211621
CREATED:20170418T151250Z
LAST-MODIFIED:20170418T151250Z
UID:6939-1492857000-1492893000@www.jumpusapark.com
SUMMARY:$40 OFF on Saturday Birthday Party Special Deal! Expires on 5/31/17. Book Online or Call 512-838-6200 Now!
DESCRIPTION:
URL:https://www.jumpusapark.com/event/40-off-saturday-birthday-party-special-deal-expires-53117-book-online-call-512-838-6200-now/
END:VEVENT
BEGIN:VEVENT
DTSTART;TZID=America/New_York:20170422T190000
DTEND;TZID=America/New_York:20170423T230000
DTSTAMP:20260425T211621
CREATED:20170403T154335Z
LAST-MODIFIED:20170403T154335Z
UID:6899-1492887600-1492988400@www.jumpusapark.com
SUMMARY:Jumpers Karaoke Night Special 7pm-close (Sat 11pm\, Sun 9pm)
DESCRIPTION:
URL:https://www.jumpusapark.com/event/jumpers-karaoke-night-special-7pm-close-sat-11pm-sun-9pm-3/
END:VEVENT
BEGIN:VEVENT
DTSTART;TZID=America/New_York:20170423T110000
DTEND;TZID=America/New_York:20170423T210000
DTSTAMP:20260425T211621
CREATED:20170403T150511Z
LAST-MODIFIED:20170403T150511Z
UID:6857-1492945200-1492981200@www.jumpusapark.com
SUMMARY:3orMore Group/Family Deal! 2Hours for $12 per Jumper\, 2Hours+2Rides for $15 per Jumper
DESCRIPTION:
URL:https://www.jumpusapark.com/event/3ormore-groupfamily-deal-2hours-12-per-jumper-2hours2rides-15-per-jumper-28/
END:VEVENT
BEGIN:VEVENT
DTSTART;TZID=America/New_York:20170424T120000
DTEND;TZID=America/New_York:20170427T210000
DTSTAMP:20260425T211621
CREATED:20170403T151348Z
LAST-MODIFIED:20170424T025056Z
UID:6877-1493035200-1493326800@www.jumpusapark.com
SUMMARY:Mon-Thursday Deal $9 for 2Hours\, $12 for 2Hours+2Rides
DESCRIPTION:
URL:https://www.jumpusapark.com/event/mon-thursday-deal-9-2hours-12-2hours2rides-20/
END:VEVENT
BEGIN:VEVENT
DTSTART;TZID=America/New_York:20170424T190000
DTEND;TZID=America/New_York:20170427T210000
DTSTAMP:20260425T211621
CREATED:20170403T154700Z
LAST-MODIFIED:20170403T154700Z
UID:6907-1493060400-1493326800@www.jumpusapark.com
SUMMARY:Jumpers Karaoke Night Special 7pm-close
DESCRIPTION:
URL:https://www.jumpusapark.com/event/jumpers-karaoke-night-special-7pm-close-3/
END:VEVENT
BEGIN:VEVENT
DTSTART;TZID=America/New_York:20170428T190000
DTEND;TZID=America/New_York:20170428T230000
DTSTAMP:20260425T211621
CREATED:20170403T151033Z
LAST-MODIFIED:20170425T170407Z
UID:6871-1493406000-1493420400@www.jumpusapark.com
SUMMARY:Friday Teen Night (7-11pm) with DJ $14 for full session ($9 for 2 hours\, expired wristband checked\, must buy additional hour)
DESCRIPTION:
URL:https://www.jumpusapark.com/event/friday-teen-night-dj-14-full-session-9-2hours-6-11pm-8/
END:VEVENT
BEGIN:VEVENT
DTSTART;TZID=America/New_York:20170429T100000
DTEND;TZID=America/New_York:20170429T230000
DTSTAMP:20260425T211621
CREATED:20170403T150756Z
LAST-MODIFIED:20170403T150756Z
UID:6865-1493460000-1493506800@www.jumpusapark.com
SUMMARY:3orMore Group/Family Deal! 2Hours for $12 per Jumper\, 2Hours+2Rides for $15 per Jumper
DESCRIPTION:
URL:https://www.jumpusapark.com/event/3ormore-groupfamily-deal-2hours-12-per-jumper-2hours2rides-15-per-jumper-32/
END:VEVENT
BEGIN:VEVENT
DTSTART;TZID=America/New_York:20170429T200000
DTEND;TZID=America/New_York:20170429T230000
DTSTAMP:20260425T211621
CREATED:20170427T224852Z
LAST-MODIFIED:20170427T224852Z
UID:6992-1493496000-1493506800@www.jumpusapark.com
SUMMARY:Saturday School Kids & PreTeen Family Night 8pm-11pm $12 for full session\, $9 for 2 hours
DESCRIPTION:
URL:https://www.jumpusapark.com/event/saturday-school-kids-preteen-family-night-8pm-11pm-12-full-session-9-2-hours/
END:VEVENT
BEGIN:VEVENT
DTSTART;TZID=America/New_York:20170430T110000
DTEND;TZID=America/New_York:20170430T220000
DTSTAMP:20260425T211621
CREATED:20170403T150552Z
LAST-MODIFIED:20170424T024952Z
UID:6859-1493550000-1493589600@www.jumpusapark.com
SUMMARY:3orMore Group/Family Deal! 2Hours for $12 per Jumper\, 2Hours+2Rides for $15 per Jumper
DESCRIPTION:
URL:https://www.jumpusapark.com/event/3ormore-groupfamily-deal-2hours-12-per-jumper-2hours2rides-15-per-jumper-29/
END:VEVENT
END:VCALENDAR