BEGIN:VCALENDAR
VERSION:2.0
PRODID:-//JUMP PARTY USA - ECPv6.15.20//NONSGML v1.0//EN
CALSCALE:GREGORIAN
METHOD:PUBLISH
X-WR-CALNAME:JUMP PARTY USA
X-ORIGINAL-URL:https://www.jumpusapark.com
X-WR-CALDESC:Events for JUMP PARTY USA
REFRESH-INTERVAL;VALUE=DURATION:PT1H
X-Robots-Tag:noindex
X-PUBLISHED-TTL:PT1H
BEGIN:VTIMEZONE
TZID:America/New_York
BEGIN:DAYLIGHT
TZOFFSETFROM:-0500
TZOFFSETTO:-0400
TZNAME:EDT
DTSTART:20180311T070000
END:DAYLIGHT
BEGIN:STANDARD
TZOFFSETFROM:-0400
TZOFFSETTO:-0500
TZNAME:EST
DTSTART:20181104T060000
END:STANDARD
BEGIN:DAYLIGHT
TZOFFSETFROM:-0500
TZOFFSETTO:-0400
TZNAME:EDT
DTSTART:20190310T070000
END:DAYLIGHT
BEGIN:STANDARD
TZOFFSETFROM:-0400
TZOFFSETTO:-0500
TZNAME:EST
DTSTART:20191103T060000
END:STANDARD
BEGIN:DAYLIGHT
TZOFFSETFROM:-0500
TZOFFSETTO:-0400
TZNAME:EDT
DTSTART:20200308T070000
END:DAYLIGHT
BEGIN:STANDARD
TZOFFSETFROM:-0400
TZOFFSETTO:-0500
TZNAME:EST
DTSTART:20201101T060000
END:STANDARD
END:VTIMEZONE
BEGIN:VEVENT
DTSTART;TZID=America/New_York:20190914T200000
DTEND;TZID=America/New_York:20190915T220000
DTSTAMP:20260425T222803
CREATED:20190807T235257Z
LAST-MODIFIED:20190807T235257Z
UID:8576-1568491200-1568584800@www.jumpusapark.com
SUMMARY:Family Sports Night (Saturday\, Sunday) 8pm - Close(10/11pm) $10 for 2 Hours
DESCRIPTION:
URL:https://www.jumpusapark.com/event/family-sports-night-saturday-sunday-8pm-close1011pm-10-2-hours-14/
END:VEVENT
BEGIN:VEVENT
DTSTART;TZID=America/New_York:20190916T110000
DTEND;TZID=America/New_York:20190919T210000
DTSTAMP:20260425T222803
CREATED:20190909T220408Z
LAST-MODIFIED:20190909T220408Z
UID:8598-1568631600-1568926800@www.jumpusapark.com
SUMMARY:Mon-Thursday Special! $10 for 2Hours+Sports\, $15 for 2Hours+Ride+Sports
DESCRIPTION:
URL:https://www.jumpusapark.com/event/mon-thursday-special-10-2hourssports-15-2hoursridesports-21/
END:VEVENT
BEGIN:VEVENT
DTSTART;TZID=America/New_York:20190920T100000
DTEND;TZID=America/New_York:20190922T230000
DTSTAMP:20260425T222803
CREATED:20190909T220702Z
LAST-MODIFIED:20190909T220702Z
UID:8607-1568973600-1569193200@www.jumpusapark.com
SUMMARY:Weekend 3+ Group Special! 2Hours+Sports for $12 per Jumper\, 2Hours+Ride+Sports for $17 per Jumper
DESCRIPTION:
URL:https://www.jumpusapark.com/event/weekend-3-group-special-2hourssports-12-per-jumper-2hoursridesports-17-per-jumper-15/
END:VEVENT
BEGIN:VEVENT
DTSTART;TZID=America/New_York:20190920T180000
DTEND;TZID=America/New_York:20190920T230000
DTSTAMP:20260425T222803
CREATED:20190909T221026Z
LAST-MODIFIED:20190909T221026Z
UID:8616-1569002400-1569020400@www.jumpusapark.com
SUMMARY:Friday Sports Night (6-11pm) $15 for Full hours and $10 for 2 hours
DESCRIPTION:
URL:https://www.jumpusapark.com/event/friday-sports-night-6-11pm-15-full-hours-10-2-hours-14/
END:VEVENT
BEGIN:VEVENT
DTSTART;TZID=America/New_York:20190921T200000
DTEND;TZID=America/New_York:20190922T220000
DTSTAMP:20260425T222803
CREATED:20190909T221253Z
LAST-MODIFIED:20190909T221253Z
UID:8624-1569096000-1569189600@www.jumpusapark.com
SUMMARY:Family Sports Night (Saturday\, Sunday) 8pm - Close(10/11pm) $10 for 2 Hours
DESCRIPTION:
URL:https://www.jumpusapark.com/event/family-sports-night-saturday-sunday-8pm-close1011pm-10-2-hours-15/
END:VEVENT
BEGIN:VEVENT
DTSTART;TZID=America/New_York:20190923T110000
DTEND;TZID=America/New_York:20190926T210000
DTSTAMP:20260425T222803
CREATED:20190909T220444Z
LAST-MODIFIED:20190909T220444Z
UID:8600-1569236400-1569531600@www.jumpusapark.com
SUMMARY:Mon-Thursday Special! $10 for 2Hours+Sports\, $15 for 2Hours+Ride+Sports
DESCRIPTION:
URL:https://www.jumpusapark.com/event/mon-thursday-special-10-2hourssports-15-2hoursridesports-22/
END:VEVENT
BEGIN:VEVENT
DTSTART;TZID=America/New_York:20190927T100000
DTEND;TZID=America/New_York:20190929T230000
DTSTAMP:20260425T222803
CREATED:20190909T220729Z
LAST-MODIFIED:20190909T220729Z
UID:8609-1569578400-1569798000@www.jumpusapark.com
SUMMARY:Weekend 3+ Group Special! 2Hours+Sports for $12 per Jumper\, 2Hours+Ride+Sports for $17 per Jumper
DESCRIPTION:
URL:https://www.jumpusapark.com/event/weekend-3-group-special-2hourssports-12-per-jumper-2hoursridesports-17-per-jumper-16/
END:VEVENT
BEGIN:VEVENT
DTSTART;TZID=America/New_York:20190927T180000
DTEND;TZID=America/New_York:20190927T230000
DTSTAMP:20260425T222803
CREATED:20190909T221051Z
LAST-MODIFIED:20190909T221051Z
UID:8618-1569607200-1569625200@www.jumpusapark.com
SUMMARY:Friday Sports Night (6-11pm) $15 for Full hours and $10 for 2 hours
DESCRIPTION:
URL:https://www.jumpusapark.com/event/friday-sports-night-6-11pm-15-full-hours-10-2-hours-15/
END:VEVENT
BEGIN:VEVENT
DTSTART;TZID=America/New_York:20190928T200000
DTEND;TZID=America/New_York:20190929T220000
DTSTAMP:20260425T222803
CREATED:20190909T221324Z
LAST-MODIFIED:20190909T221324Z
UID:8626-1569700800-1569794400@www.jumpusapark.com
SUMMARY:Family Sports Night (Saturday\, Sunday) 8pm - Close(10/11pm) $10 for 2 Hours
DESCRIPTION:
URL:https://www.jumpusapark.com/event/family-sports-night-saturday-sunday-8pm-close1011pm-10-2-hours-16/
END:VEVENT
BEGIN:VEVENT
DTSTART;TZID=America/New_York:20190930T110000
DTEND;TZID=America/New_York:20191003T210000
DTSTAMP:20260425T222803
CREATED:20190909T220516Z
LAST-MODIFIED:20190909T220516Z
UID:8602-1569841200-1570136400@www.jumpusapark.com
SUMMARY:Mon-Thursday Special! $10 for 2Hours+Sports\, $15 for 2Hours+Ride+Sports
DESCRIPTION:
URL:https://www.jumpusapark.com/event/mon-thursday-special-10-2hourssports-15-2hoursridesports-23/
END:VEVENT
BEGIN:VEVENT
DTSTART;TZID=America/New_York:20191004T100000
DTEND;TZID=America/New_York:20191006T230000
DTSTAMP:20260425T222803
CREATED:20190909T220755Z
LAST-MODIFIED:20190909T220755Z
UID:8611-1570183200-1570402800@www.jumpusapark.com
SUMMARY:Weekend 3+ Group Special! 2Hours+Sports for $12 per Jumper\, 2Hours+Ride+Sports for $17 per Jumper
DESCRIPTION:
URL:https://www.jumpusapark.com/event/weekend-3-group-special-2hourssports-12-per-jumper-2hoursridesports-17-per-jumper-17/
END:VEVENT
BEGIN:VEVENT
DTSTART;TZID=America/New_York:20191004T180000
DTEND;TZID=America/New_York:20191004T230000
DTSTAMP:20260425T222803
CREATED:20190909T221122Z
LAST-MODIFIED:20190909T221122Z
UID:8620-1570212000-1570230000@www.jumpusapark.com
SUMMARY:Friday Sports Night (6-11pm) $15 for Full hours and $10 for 2 hours
DESCRIPTION:
URL:https://www.jumpusapark.com/event/friday-sports-night-6-11pm-15-full-hours-10-2-hours-16/
END:VEVENT
BEGIN:VEVENT
DTSTART;TZID=America/New_York:20191005T200000
DTEND;TZID=America/New_York:20191006T230000
DTSTAMP:20260425T222803
CREATED:20190909T221353Z
LAST-MODIFIED:20190909T221353Z
UID:8628-1570305600-1570402800@www.jumpusapark.com
SUMMARY:Family Sports Night (Saturday\, Sunday) 8pm - Close(10/11pm) $10 for 2 Hours
DESCRIPTION:
URL:https://www.jumpusapark.com/event/family-sports-night-saturday-sunday-8pm-close1011pm-10-2-hours-17/
END:VEVENT
BEGIN:VEVENT
DTSTART;TZID=America/New_York:20191007T140000
DTEND;TZID=America/New_York:20191010T210000
DTSTAMP:20260425T222803
CREATED:20190909T220548Z
LAST-MODIFIED:20191009T001411Z
UID:8604-1570456800-1570741200@www.jumpusapark.com
SUMMARY:Mon-Thursday Special! $10 for 2Hours+Sports\, $15 for 2Hours+Ride+Sports
DESCRIPTION:
URL:https://www.jumpusapark.com/event/mon-thursday-special-10-2hourssports-15-2hoursridesports-24/
END:VEVENT
BEGIN:VEVENT
DTSTART;TZID=America/New_York:20191011T100000
DTEND;TZID=America/New_York:20191013T230000
DTSTAMP:20260425T222803
CREATED:20190909T220822Z
LAST-MODIFIED:20190909T220822Z
UID:8613-1570788000-1571007600@www.jumpusapark.com
SUMMARY:Weekend 3+ Group Special! 2Hours+Sports for $12 per Jumper\, 2Hours+Ride+Sports for $17 per Jumper
DESCRIPTION:
URL:https://www.jumpusapark.com/event/weekend-3-group-special-2hourssports-12-per-jumper-2hoursridesports-17-per-jumper-18/
END:VEVENT
BEGIN:VEVENT
DTSTART;TZID=America/New_York:20191011T180000
DTEND;TZID=America/New_York:20191011T230000
DTSTAMP:20260425T222803
CREATED:20190909T221146Z
LAST-MODIFIED:20190909T221146Z
UID:8622-1570816800-1570834800@www.jumpusapark.com
SUMMARY:Friday Sports Night (6-11pm) $15 for Full hours and $10 for 2 hours
DESCRIPTION:
URL:https://www.jumpusapark.com/event/friday-sports-night-6-11pm-15-full-hours-10-2-hours-17/
END:VEVENT
BEGIN:VEVENT
DTSTART;TZID=America/New_York:20191012T200000
DTEND;TZID=America/New_York:20191013T220000
DTSTAMP:20260425T222803
CREATED:20190909T221431Z
LAST-MODIFIED:20190909T221431Z
UID:8630-1570910400-1571004000@www.jumpusapark.com
SUMMARY:Family Sports Night (Saturday\, Sunday) 8pm - Close(10/11pm) $10 for 2 Hours
DESCRIPTION:
URL:https://www.jumpusapark.com/event/family-sports-night-saturday-sunday-8pm-close1011pm-10-2-hours-18/
END:VEVENT
BEGIN:VEVENT
DTSTART;TZID=America/New_York:20191014T110000
DTEND;TZID=America/New_York:20191014T210000
DTSTAMP:20260425T222803
CREATED:20191009T001537Z
LAST-MODIFIED:20191009T001537Z
UID:8643-1571050800-1571086800@www.jumpusapark.com
SUMMARY:Mon-Thursday Special! $10 for 2Hours+Sports\, $15 for 2Hours+Ride+Sports
DESCRIPTION:
URL:https://www.jumpusapark.com/event/mon-thursday-special-10-2hourssports-15-2hoursridesports-25/
END:VEVENT
BEGIN:VEVENT
DTSTART;TZID=America/New_York:20191015T140000
DTEND;TZID=America/New_York:20191017T210000
DTSTAMP:20260425T222803
CREATED:20191009T001606Z
LAST-MODIFIED:20191009T001606Z
UID:8645-1571148000-1571346000@www.jumpusapark.com
SUMMARY:Mon-Thursday Special! $10 for 2Hours+Sports\, $15 for 2Hours+Ride+Sports
DESCRIPTION:
URL:https://www.jumpusapark.com/event/mon-thursday-special-10-2hourssports-15-2hoursridesports-26/
END:VEVENT
BEGIN:VEVENT
DTSTART;VALUE=DATE:20191018
DTEND;VALUE=DATE:20191021
DTSTAMP:20260425T222803
CREATED:20191009T002604Z
LAST-MODIFIED:20191009T002604Z
UID:8671-1571356800-1571615999@www.jumpusapark.com
SUMMARY:Weekend 3+ Group Special! 2Hours+Sports for $12 per Jumper\, 2Hours+Ride+Sports for $17 per Jumper
DESCRIPTION:
URL:https://www.jumpusapark.com/event/weekend-3-group-special-2hourssports-12-per-jumper-2hoursridesports-17-per-jumper-19/
END:VEVENT
BEGIN:VEVENT
DTSTART;TZID=America/New_York:20191018T180000
DTEND;TZID=America/New_York:20191018T230000
DTSTAMP:20260425T222803
CREATED:20191009T001907Z
LAST-MODIFIED:20191009T001907Z
UID:8655-1571421600-1571439600@www.jumpusapark.com
SUMMARY:Friday Sports Night (6-11pm) $15 for Full hours and $10 for 2 hours
DESCRIPTION:
URL:https://www.jumpusapark.com/event/friday-sports-night-6-11pm-15-full-hours-10-2-hours-18/
END:VEVENT
BEGIN:VEVENT
DTSTART;TZID=America/New_York:20191019T200000
DTEND;TZID=America/New_York:20191020T220000
DTSTAMP:20260425T222803
CREATED:20191009T002213Z
LAST-MODIFIED:20191009T002213Z
UID:8663-1571515200-1571608800@www.jumpusapark.com
SUMMARY:Family Sports Night (Saturday\, Sunday) 8pm - Close(10/11pm) $10 for 2 Hours
DESCRIPTION:
URL:https://www.jumpusapark.com/event/family-sports-night-saturday-sunday-8pm-close1011pm-10-2-hours-19/
END:VEVENT
BEGIN:VEVENT
DTSTART;TZID=America/New_York:20191021T140000
DTEND;TZID=America/New_York:20191024T210000
DTSTAMP:20260425T222803
CREATED:20191009T001637Z
LAST-MODIFIED:20191009T001637Z
UID:8647-1571666400-1571950800@www.jumpusapark.com
SUMMARY:Mon-Thursday Special! $10 for 2Hours+Sports\, $15 for 2Hours+Ride+Sports
DESCRIPTION:
URL:https://www.jumpusapark.com/event/mon-thursday-special-10-2hourssports-15-2hoursridesports-27/
END:VEVENT
BEGIN:VEVENT
DTSTART;VALUE=DATE:20191025
DTEND;VALUE=DATE:20191028
DTSTAMP:20260425T222803
CREATED:20191009T002625Z
LAST-MODIFIED:20191009T002625Z
UID:8673-1571961600-1572220799@www.jumpusapark.com
SUMMARY:Weekend 3+ Group Special! 2Hours+Sports for $12 per Jumper\, 2Hours+Ride+Sports for $17 per Jumper
DESCRIPTION:
URL:https://www.jumpusapark.com/event/weekend-3-group-special-2hourssports-12-per-jumper-2hoursridesports-17-per-jumper-20/
END:VEVENT
BEGIN:VEVENT
DTSTART;TZID=America/New_York:20191025T180000
DTEND;TZID=America/New_York:20191025T230000
DTSTAMP:20260425T222803
CREATED:20191009T001930Z
LAST-MODIFIED:20191009T001930Z
UID:8657-1572026400-1572044400@www.jumpusapark.com
SUMMARY:Friday Sports Night (6-11pm) $15 for Full hours and $10 for 2 hours
DESCRIPTION:
URL:https://www.jumpusapark.com/event/friday-sports-night-6-11pm-15-full-hours-10-2-hours-19/
END:VEVENT
BEGIN:VEVENT
DTSTART;TZID=America/New_York:20191026T200000
DTEND;TZID=America/New_York:20191027T220000
DTSTAMP:20260425T222803
CREATED:20191009T002239Z
LAST-MODIFIED:20191009T002239Z
UID:8665-1572120000-1572213600@www.jumpusapark.com
SUMMARY:Family Sports Night (Saturday\, Sunday) 8pm - Close(10/11pm) $10 for 2 Hours
DESCRIPTION:
URL:https://www.jumpusapark.com/event/family-sports-night-saturday-sunday-8pm-close1011pm-10-2-hours-20/
END:VEVENT
BEGIN:VEVENT
DTSTART;TZID=America/New_York:20191028T140000
DTEND;TZID=America/New_York:20191031T210000
DTSTAMP:20260425T222803
CREATED:20191009T001703Z
LAST-MODIFIED:20191009T001703Z
UID:8649-1572271200-1572555600@www.jumpusapark.com
SUMMARY:Mon-Thursday Special! $10 for 2Hours+Sports\, $15 for 2Hours+Ride+Sports
DESCRIPTION:
URL:https://www.jumpusapark.com/event/mon-thursday-special-10-2hourssports-15-2hoursridesports-28/
END:VEVENT
BEGIN:VEVENT
DTSTART;VALUE=DATE:20191101
DTEND;VALUE=DATE:20191104
DTSTAMP:20260425T222803
CREATED:20191009T002644Z
LAST-MODIFIED:20191009T002644Z
UID:8675-1572566400-1572825599@www.jumpusapark.com
SUMMARY:Weekend 3+ Group Special! 2Hours+Sports for $12 per Jumper\, 2Hours+Ride+Sports for $17 per Jumper
DESCRIPTION:
URL:https://www.jumpusapark.com/event/weekend-3-group-special-2hourssports-12-per-jumper-2hoursridesports-17-per-jumper-21/
END:VEVENT
BEGIN:VEVENT
DTSTART;TZID=America/New_York:20191101T180000
DTEND;TZID=America/New_York:20191101T230000
DTSTAMP:20260425T222803
CREATED:20191009T001955Z
LAST-MODIFIED:20191009T001955Z
UID:8659-1572631200-1572649200@www.jumpusapark.com
SUMMARY:Friday Sports Night (6-11pm) $15 for Full hours and $10 for 2 hours
DESCRIPTION:
URL:https://www.jumpusapark.com/event/friday-sports-night-6-11pm-15-full-hours-10-2-hours-20/
END:VEVENT
BEGIN:VEVENT
DTSTART;TZID=America/New_York:20191102T200000
DTEND;TZID=America/New_York:20191103T220000
DTSTAMP:20260425T222803
CREATED:20191009T002307Z
LAST-MODIFIED:20191009T002307Z
UID:8667-1572724800-1572818400@www.jumpusapark.com
SUMMARY:Family Sports Night (Saturday\, Sunday) 8pm - Close(10/11pm) $10 for 2 Hours
DESCRIPTION:
URL:https://www.jumpusapark.com/event/family-sports-night-saturday-sunday-8pm-close1011pm-10-2-hours-21/
END:VEVENT
END:VCALENDAR