BEGIN:VCALENDAR
VERSION:2.0
PRODID:-//JUMP PARTY USA - ECPv6.15.20//NONSGML v1.0//EN
CALSCALE:GREGORIAN
METHOD:PUBLISH
X-ORIGINAL-URL:https://www.jumpusapark.com
X-WR-CALDESC:Events for JUMP PARTY USA
REFRESH-INTERVAL;VALUE=DURATION:PT1H
X-Robots-Tag:noindex
X-PUBLISHED-TTL:PT1H
BEGIN:VTIMEZONE
TZID:America/New_York
BEGIN:DAYLIGHT
TZOFFSETFROM:-0500
TZOFFSETTO:-0400
TZNAME:EDT
DTSTART:20170312T070000
END:DAYLIGHT
BEGIN:STANDARD
TZOFFSETFROM:-0400
TZOFFSETTO:-0500
TZNAME:EST
DTSTART:20171105T060000
END:STANDARD
BEGIN:DAYLIGHT
TZOFFSETFROM:-0500
TZOFFSETTO:-0400
TZNAME:EDT
DTSTART:20180311T070000
END:DAYLIGHT
BEGIN:STANDARD
TZOFFSETFROM:-0400
TZOFFSETTO:-0500
TZNAME:EST
DTSTART:20181104T060000
END:STANDARD
BEGIN:DAYLIGHT
TZOFFSETFROM:-0500
TZOFFSETTO:-0400
TZNAME:EDT
DTSTART:20190310T070000
END:DAYLIGHT
BEGIN:STANDARD
TZOFFSETFROM:-0400
TZOFFSETTO:-0500
TZNAME:EST
DTSTART:20191103T060000
END:STANDARD
BEGIN:DAYLIGHT
TZOFFSETFROM:-0500
TZOFFSETTO:-0400
TZNAME:EDT
DTSTART:20200308T070000
END:DAYLIGHT
BEGIN:STANDARD
TZOFFSETFROM:-0400
TZOFFSETTO:-0500
TZNAME:EST
DTSTART:20201101T060000
END:STANDARD
END:VTIMEZONE
BEGIN:VEVENT
DTSTART;TZID=America/New_York:20180910T110000
DTEND;TZID=America/New_York:20180913T210000
DTSTAMP:20260425T084656
CREATED:20180809T000000Z
LAST-MODIFIED:20180809T000000Z
UID:8058-1536577200-1536872400@www.jumpusapark.com
SUMMARY:Mon-Thursday Special! $9 for 2Hours+Sports\, $11 for 1Hour+Ride+Sports\, $14 for 2Hours+Ride+Sports
DESCRIPTION:
URL:https://www.jumpusapark.com/event/mon-thursday-special-9-2hourssports-11-1hourridesports-14-2hoursridesports-35/
END:VEVENT
BEGIN:VEVENT
DTSTART;TZID=America/New_York:20181213T110000
DTEND;TZID=America/New_York:20181213T210000
DTSTAMP:20260425T084656
CREATED:20181213T223737Z
LAST-MODIFIED:20181213T223737Z
UID:8121-1544698800-1544734800@www.jumpusapark.com
SUMMARY:Mon-Thursday Special! $9 for 2Hours+Sports\, $11 for 1Hour+Ride+Sports\, $14 for 2Hours+Ride+Sports
DESCRIPTION:
URL:https://www.jumpusapark.com/event/mon-thursday-special-9-2hourssports-11-1hourridesports-14-2hoursridesports-36/
END:VEVENT
BEGIN:VEVENT
DTSTART;TZID=America/New_York:20181214T100000
DTEND;TZID=America/New_York:20181216T220000
DTSTAMP:20260425T084656
CREATED:20181213T224636Z
LAST-MODIFIED:20181213T224636Z
UID:8141-1544781600-1544997600@www.jumpusapark.com
SUMMARY:Weekend 3+ Jumpers Group Special! 2Hours+Sports for $11 per Jumper\, 1Hour+Ride+Sports for $12 per Jumper\, 2Hours+Ride+Sports for $16 per Jumper
DESCRIPTION:
URL:https://www.jumpusapark.com/event/weekend-3-jumpers-group-special-2hourssports-11-per-jumper-1hourridesports-12-per-jumper-2hoursridesports-16-per-jumper-32/
END:VEVENT
BEGIN:VEVENT
DTSTART;TZID=America/New_York:20181214T190000
DTEND;TZID=America/New_York:20181214T230000
DTSTAMP:20260425T084656
CREATED:20181213T224334Z
LAST-MODIFIED:20181213T224334Z
UID:8131-1544814000-1544828400@www.jumpusapark.com
SUMMARY:Friday Teen & Family Night (7-11pm) $12 for Full hours+Sports and $9 for 2 hours+Sports and FREE Karaoke for All Lady Jumpers
DESCRIPTION:
URL:https://www.jumpusapark.com/event/friday-teen-family-night-7-11pm-12-full-hourssports-9-2-hourssports-free-karaoke-lady-jumpers-6/
END:VEVENT
BEGIN:VEVENT
DTSTART;TZID=America/New_York:20181215T200000
DTEND;TZID=America/New_York:20181216T220000
DTSTAMP:20260425T084656
CREATED:20181213T225102Z
LAST-MODIFIED:20181213T225102Z
UID:8151-1544904000-1544997600@www.jumpusapark.com
SUMMARY:Weekend Family Night Special (Saturday\, Sunday) 8pm - 10pm $9 for 2 Hours+Sports and FREE Karaoke for All Lady Jumpers
DESCRIPTION:
URL:https://www.jumpusapark.com/event/weekend-family-night-special-saturday-sunday-8pm-10pm-9-2-hourssports-free-karaoke-lady-jumpers-33/
END:VEVENT
BEGIN:VEVENT
DTSTART;TZID=America/New_York:20181217T110000
DTEND;TZID=America/New_York:20181220T210000
DTSTAMP:20260425T084656
CREATED:20181213T223816Z
LAST-MODIFIED:20181213T223816Z
UID:8123-1545044400-1545339600@www.jumpusapark.com
SUMMARY:Mon-Thursday Special! $9 for 2Hours+Sports\, $11 for 1Hour+Ride+Sports\, $14 for 2Hours+Ride+Sports
DESCRIPTION:
URL:https://www.jumpusapark.com/event/mon-thursday-special-9-2hourssports-11-1hourridesports-14-2hoursridesports-37/
END:VEVENT
BEGIN:VEVENT
DTSTART;TZID=America/New_York:20181221T100000
DTEND;TZID=America/New_York:20181223T220000
DTSTAMP:20260425T084656
CREATED:20181213T224703Z
LAST-MODIFIED:20181213T224703Z
UID:8143-1545386400-1545602400@www.jumpusapark.com
SUMMARY:Weekend 3+ Jumpers Group Special! 2Hours+Sports for $11 per Jumper\, 1Hour+Ride+Sports for $12 per Jumper\, 2Hours+Ride+Sports for $16 per Jumper
DESCRIPTION:
URL:https://www.jumpusapark.com/event/weekend-3-jumpers-group-special-2hourssports-11-per-jumper-1hourridesports-12-per-jumper-2hoursridesports-16-per-jumper-33/
END:VEVENT
BEGIN:VEVENT
DTSTART;TZID=America/New_York:20181221T190000
DTEND;TZID=America/New_York:20181221T230000
DTSTAMP:20260425T084656
CREATED:20181213T224405Z
LAST-MODIFIED:20181213T224405Z
UID:8133-1545418800-1545433200@www.jumpusapark.com
SUMMARY:Friday Teen & Family Night (7-11pm) $12 for Full hours+Sports and $9 for 2 hours+Sports and FREE Karaoke for All Lady Jumpers
DESCRIPTION:
URL:https://www.jumpusapark.com/event/friday-teen-family-night-7-11pm-12-full-hourssports-9-2-hourssports-free-karaoke-lady-jumpers-7/
END:VEVENT
BEGIN:VEVENT
DTSTART;TZID=America/New_York:20181222T200000
DTEND;TZID=America/New_York:20181223T220000
DTSTAMP:20260425T084656
CREATED:20181213T225133Z
LAST-MODIFIED:20181213T225133Z
UID:8153-1545508800-1545602400@www.jumpusapark.com
SUMMARY:Weekend Family Night Special (Saturday\, Sunday) 8pm - 10pm $9 for 2 Hours+Sports and FREE Karaoke for All Lady Jumpers
DESCRIPTION:
URL:https://www.jumpusapark.com/event/weekend-family-night-special-saturday-sunday-8pm-10pm-9-2-hourssports-free-karaoke-lady-jumpers-34/
END:VEVENT
BEGIN:VEVENT
DTSTART;TZID=America/New_York:20181224T100000
DTEND;TZID=America/New_York:20181227T210000
DTSTAMP:20260425T084656
CREATED:20181213T223855Z
LAST-MODIFIED:20181213T223855Z
UID:8125-1545645600-1545944400@www.jumpusapark.com
SUMMARY:Mon-Thursday Special! $9 for 2Hours+Sports\, $11 for 1Hour+Ride+Sports\, $14 for 2Hours+Ride+Sports
DESCRIPTION:
URL:https://www.jumpusapark.com/event/mon-thursday-special-9-2hourssports-11-1hourridesports-14-2hoursridesports-38/
END:VEVENT
BEGIN:VEVENT
DTSTART;TZID=America/New_York:20181228T100000
DTEND;TZID=America/New_York:20181230T220000
DTSTAMP:20260425T084656
CREATED:20181213T224811Z
LAST-MODIFIED:20181213T224811Z
UID:8145-1545991200-1546207200@www.jumpusapark.com
SUMMARY:Weekend 3+ Jumpers Group Special! 2Hours+Sports for $11 per Jumper\, 1Hour+Ride+Sports for $12 per Jumper\, 2Hours+Ride+Sports for $16 per Jumper
DESCRIPTION:
URL:https://www.jumpusapark.com/event/weekend-3-jumpers-group-special-2hourssports-11-per-jumper-1hourridesports-12-per-jumper-2hoursridesports-16-per-jumper-34/
END:VEVENT
BEGIN:VEVENT
DTSTART;TZID=America/New_York:20181228T190000
DTEND;TZID=America/New_York:20181228T230000
DTSTAMP:20260425T084656
CREATED:20181213T224432Z
LAST-MODIFIED:20181213T224432Z
UID:8135-1546023600-1546038000@www.jumpusapark.com
SUMMARY:Friday Teen & Family Night (7-11pm) $12 for Full hours+Sports and $9 for 2 hours+Sports and FREE Karaoke for All Lady Jumpers
DESCRIPTION:
URL:https://www.jumpusapark.com/event/friday-teen-family-night-7-11pm-12-full-hourssports-9-2-hourssports-free-karaoke-lady-jumpers-8/
END:VEVENT
BEGIN:VEVENT
DTSTART;TZID=America/New_York:20181229T200000
DTEND;TZID=America/New_York:20181230T220000
DTSTAMP:20260425T084656
CREATED:20181213T225200Z
LAST-MODIFIED:20181213T225200Z
UID:8155-1546113600-1546207200@www.jumpusapark.com
SUMMARY:Weekend Family Night Special (Saturday\, Sunday) 8pm - 10pm $9 for 2 Hours+Sports and FREE Karaoke for All Lady Jumpers
DESCRIPTION:
URL:https://www.jumpusapark.com/event/weekend-family-night-special-saturday-sunday-8pm-10pm-9-2-hourssports-free-karaoke-lady-jumpers-35/
END:VEVENT
BEGIN:VEVENT
DTSTART;TZID=America/New_York:20181231T100000
DTEND;TZID=America/New_York:20190103T210000
DTSTAMP:20260425T084656
CREATED:20181213T223928Z
LAST-MODIFIED:20181213T223928Z
UID:8127-1546250400-1546549200@www.jumpusapark.com
SUMMARY:Mon-Thursday Special! $9 for 2Hours+Sports\, $11 for 1Hour+Ride+Sports\, $14 for 2Hours+Ride+Sports
DESCRIPTION:
URL:https://www.jumpusapark.com/event/mon-thursday-special-9-2hourssports-11-1hourridesports-14-2hoursridesports-39/
END:VEVENT
BEGIN:VEVENT
DTSTART;TZID=America/New_York:20190104T100000
DTEND;TZID=America/New_York:20190106T220000
DTSTAMP:20260425T084656
CREATED:20181213T224854Z
LAST-MODIFIED:20181213T224854Z
UID:8147-1546596000-1546812000@www.jumpusapark.com
SUMMARY:Weekend 3+ Jumpers Group Special! 2Hours+Sports for $11 per Jumper\, 1Hour+Ride+Sports for $12 per Jumper\, 2Hours+Ride+Sports for $16 per Jumper
DESCRIPTION:
URL:https://www.jumpusapark.com/event/weekend-3-jumpers-group-special-2hourssports-11-per-jumper-1hourridesports-12-per-jumper-2hoursridesports-16-per-jumper-35/
END:VEVENT
BEGIN:VEVENT
DTSTART;TZID=America/New_York:20190104T190000
DTEND;TZID=America/New_York:20190104T230000
DTSTAMP:20260425T084656
CREATED:20181213T224500Z
LAST-MODIFIED:20181213T224500Z
UID:8137-1546628400-1546642800@www.jumpusapark.com
SUMMARY:Friday Teen & Family Night (7-11pm) $12 for Full hours+Sports and $9 for 2 hours+Sports and FREE Karaoke for All Lady Jumpers
DESCRIPTION:
URL:https://www.jumpusapark.com/event/friday-teen-family-night-7-11pm-12-full-hourssports-9-2-hourssports-free-karaoke-lady-jumpers-9/
END:VEVENT
BEGIN:VEVENT
DTSTART;TZID=America/New_York:20190105T200000
DTEND;TZID=America/New_York:20190106T220000
DTSTAMP:20260425T084656
CREATED:20181213T225228Z
LAST-MODIFIED:20181213T225228Z
UID:8157-1546718400-1546812000@www.jumpusapark.com
SUMMARY:Weekend Family Night Special (Saturday\, Sunday) 8pm - 10pm $9 for 2 Hours+Sports and FREE Karaoke for All Lady Jumpers
DESCRIPTION:
URL:https://www.jumpusapark.com/event/weekend-family-night-special-saturday-sunday-8pm-10pm-9-2-hourssports-free-karaoke-lady-jumpers-36/
END:VEVENT
BEGIN:VEVENT
DTSTART;TZID=America/New_York:20190107T110000
DTEND;TZID=America/New_York:20190110T210000
DTSTAMP:20260425T084656
CREATED:20181213T223959Z
LAST-MODIFIED:20181213T224017Z
UID:8129-1546858800-1547154000@www.jumpusapark.com
SUMMARY:Mon-Thursday Special! $9 for 2Hours+Sports\, $11 for 1Hour+Ride+Sports\, $14 for 2Hours+Ride+Sports
DESCRIPTION:
URL:https://www.jumpusapark.com/event/mon-thursday-special-9-2hourssports-11-1hourridesports-14-2hoursridesports-40/
END:VEVENT
BEGIN:VEVENT
DTSTART;TZID=America/New_York:20190111T100000
DTEND;TZID=America/New_York:20190113T220000
DTSTAMP:20260425T084656
CREATED:20181213T224938Z
LAST-MODIFIED:20181213T224938Z
UID:8149-1547200800-1547416800@www.jumpusapark.com
SUMMARY:Weekend 3+ Jumpers Group Special! 2Hours+Sports for $11 per Jumper\, 1Hour+Ride+Sports for $12 per Jumper\, 2Hours+Ride+Sports for $16 per Jumper
DESCRIPTION:
URL:https://www.jumpusapark.com/event/weekend-3-jumpers-group-special-2hourssports-11-per-jumper-1hourridesports-12-per-jumper-2hoursridesports-16-per-jumper-36/
END:VEVENT
BEGIN:VEVENT
DTSTART;TZID=America/New_York:20190111T190000
DTEND;TZID=America/New_York:20190111T230000
DTSTAMP:20260425T084656
CREATED:20181213T224529Z
LAST-MODIFIED:20181213T224529Z
UID:8139-1547233200-1547247600@www.jumpusapark.com
SUMMARY:Friday Teen & Family Night (7-11pm) $12 for Full hours+Sports and $9 for 2 hours+Sports and FREE Karaoke for All Lady Jumpers
DESCRIPTION:
URL:https://www.jumpusapark.com/event/friday-teen-family-night-7-11pm-12-full-hourssports-9-2-hourssports-free-karaoke-lady-jumpers-10/
END:VEVENT
BEGIN:VEVENT
DTSTART;TZID=America/New_York:20190112T200000
DTEND;TZID=America/New_York:20190113T220000
DTSTAMP:20260425T084656
CREATED:20181213T225256Z
LAST-MODIFIED:20181213T225256Z
UID:8159-1547323200-1547416800@www.jumpusapark.com
SUMMARY:Weekend Family Night Special (Saturday\, Sunday) 8pm - 10pm $9 for 2 Hours+Sports and FREE Karaoke for All Lady Jumpers
DESCRIPTION:
URL:https://www.jumpusapark.com/event/weekend-family-night-special-saturday-sunday-8pm-10pm-9-2-hourssports-free-karaoke-lady-jumpers-37/
END:VEVENT
BEGIN:VEVENT
DTSTART;TZID=America/New_York:20190114T110000
DTEND;TZID=America/New_York:20190117T210000
DTSTAMP:20260425T084656
CREATED:20190104T215047Z
LAST-MODIFIED:20190104T215047Z
UID:8175-1547463600-1547758800@www.jumpusapark.com
SUMMARY:Mon-Thursday Special! $9 for 2Hours+Sports\, $11 for 1Hour+Ride+Sports\, $14 for 2Hours+Ride+Sports
DESCRIPTION:
URL:https://www.jumpusapark.com/event/mon-thursday-special-9-2hourssports-11-1hourridesports-14-2hoursridesports-41/
END:VEVENT
BEGIN:VEVENT
DTSTART;TZID=America/New_York:20190118T100000
DTEND;TZID=America/New_York:20190120T220000
DTSTAMP:20260425T084656
CREATED:20190104T215552Z
LAST-MODIFIED:20190104T215552Z
UID:8185-1547805600-1548021600@www.jumpusapark.com
SUMMARY:Weekend 3+ Jumpers Group Special! 2Hours+Sports for $11 per Jumper\, 1Hour+Ride+Sports for $12 per Jumper\, 2Hours+Ride+Sports for $16 per Jumper
DESCRIPTION:
URL:https://www.jumpusapark.com/event/weekend-3-jumpers-group-special-2hourssports-11-per-jumper-1hourridesports-12-per-jumper-2hoursridesports-16-per-jumper-37/
END:VEVENT
BEGIN:VEVENT
DTSTART;TZID=America/New_York:20190118T190000
DTEND;TZID=America/New_York:20190118T230000
DTSTAMP:20260425T084656
CREATED:20190104T215825Z
LAST-MODIFIED:20190104T215825Z
UID:8193-1547838000-1547852400@www.jumpusapark.com
SUMMARY:Friday Teen & Family Night (7-11pm) $12 for Full hours+Sports and $9 for 2 hours+Sports and FREE Karaoke for All Lady Jumpers
DESCRIPTION:
URL:https://www.jumpusapark.com/event/friday-teen-family-night-7-11pm-12-full-hourssports-9-2-hourssports-free-karaoke-lady-jumpers-11/
END:VEVENT
BEGIN:VEVENT
DTSTART;TZID=America/New_York:20190119T200000
DTEND;TZID=America/New_York:20190120T220000
DTSTAMP:20260425T084656
CREATED:20190104T220134Z
LAST-MODIFIED:20190104T220134Z
UID:8201-1547928000-1548021600@www.jumpusapark.com
SUMMARY:Weekend Family Night Special (Saturday\, Sunday) 8pm - 10pm $9 for 2 Hours+Sports and FREE Karaoke for All Lady Jumpers
DESCRIPTION:
URL:https://www.jumpusapark.com/event/weekend-family-night-special-saturday-sunday-8pm-10pm-9-2-hourssports-free-karaoke-lady-jumpers-38/
END:VEVENT
BEGIN:VEVENT
DTSTART;TZID=America/New_York:20190121T110000
DTEND;TZID=America/New_York:20190124T210000
DTSTAMP:20260425T084656
CREATED:20190104T215117Z
LAST-MODIFIED:20190104T215117Z
UID:8177-1548068400-1548363600@www.jumpusapark.com
SUMMARY:Mon-Thursday Special! $9 for 2Hours+Sports\, $11 for 1Hour+Ride+Sports\, $14 for 2Hours+Ride+Sports
DESCRIPTION:
URL:https://www.jumpusapark.com/event/mon-thursday-special-9-2hourssports-11-1hourridesports-14-2hoursridesports-42/
END:VEVENT
BEGIN:VEVENT
DTSTART;TZID=America/New_York:20190125T100000
DTEND;TZID=America/New_York:20190127T220000
DTSTAMP:20260425T084656
CREATED:20190104T215623Z
LAST-MODIFIED:20190104T215623Z
UID:8187-1548410400-1548626400@www.jumpusapark.com
SUMMARY:Weekend 3+ Jumpers Group Special! 2Hours+Sports for $11 per Jumper\, 1Hour+Ride+Sports for $12 per Jumper\, 2Hours+Ride+Sports for $16 per Jumper
DESCRIPTION:
URL:https://www.jumpusapark.com/event/weekend-3-jumpers-group-special-2hourssports-11-per-jumper-1hourridesports-12-per-jumper-2hoursridesports-16-per-jumper-38/
END:VEVENT
BEGIN:VEVENT
DTSTART;TZID=America/New_York:20190125T190000
DTEND;TZID=America/New_York:20190125T230000
DTSTAMP:20260425T084656
CREATED:20190104T215848Z
LAST-MODIFIED:20190104T215848Z
UID:8195-1548442800-1548457200@www.jumpusapark.com
SUMMARY:Friday Teen & Family Night (7-11pm) $12 for Full hours+Sports and $9 for 2 hours+Sports and FREE Karaoke for All Lady Jumpers
DESCRIPTION:
URL:https://www.jumpusapark.com/event/friday-teen-family-night-7-11pm-12-full-hourssports-9-2-hourssports-free-karaoke-lady-jumpers-12/
END:VEVENT
BEGIN:VEVENT
DTSTART;TZID=America/New_York:20190126T200000
DTEND;TZID=America/New_York:20190127T220000
DTSTAMP:20260425T084656
CREATED:20190104T220201Z
LAST-MODIFIED:20190104T220201Z
UID:8203-1548532800-1548626400@www.jumpusapark.com
SUMMARY:Weekend Family Night Special (Saturday\, Sunday) 8pm - 10pm $9 for 2 Hours+Sports and FREE Karaoke for All Lady Jumpers
DESCRIPTION:
URL:https://www.jumpusapark.com/event/weekend-family-night-special-saturday-sunday-8pm-10pm-9-2-hourssports-free-karaoke-lady-jumpers-39/
END:VEVENT
BEGIN:VEVENT
DTSTART;TZID=America/New_York:20190128T110000
DTEND;TZID=America/New_York:20190131T210000
DTSTAMP:20260425T084656
CREATED:20190104T215148Z
LAST-MODIFIED:20190104T215148Z
UID:8179-1548673200-1548968400@www.jumpusapark.com
SUMMARY:Mon-Thursday Special! $9 for 2Hours+Sports\, $11 for 1Hour+Ride+Sports\, $14 for 2Hours+Ride+Sports
DESCRIPTION:
URL:https://www.jumpusapark.com/event/mon-thursday-special-9-2hourssports-11-1hourridesports-14-2hoursridesports-43/
END:VEVENT
END:VCALENDAR