BEGIN:VCALENDAR
VERSION:2.0
PRODID:-//JUMP PARTY USA - ECPv6.15.20//NONSGML v1.0//EN
CALSCALE:GREGORIAN
METHOD:PUBLISH
X-ORIGINAL-URL:https://www.jumpusapark.com
X-WR-CALDESC:Events for JUMP PARTY USA
REFRESH-INTERVAL;VALUE=DURATION:PT1H
X-Robots-Tag:noindex
X-PUBLISHED-TTL:PT1H
BEGIN:VTIMEZONE
TZID:America/New_York
BEGIN:DAYLIGHT
TZOFFSETFROM:-0500
TZOFFSETTO:-0400
TZNAME:EDT
DTSTART:20180311T070000
END:DAYLIGHT
BEGIN:STANDARD
TZOFFSETFROM:-0400
TZOFFSETTO:-0500
TZNAME:EST
DTSTART:20181104T060000
END:STANDARD
BEGIN:DAYLIGHT
TZOFFSETFROM:-0500
TZOFFSETTO:-0400
TZNAME:EDT
DTSTART:20190310T070000
END:DAYLIGHT
BEGIN:STANDARD
TZOFFSETFROM:-0400
TZOFFSETTO:-0500
TZNAME:EST
DTSTART:20191103T060000
END:STANDARD
BEGIN:DAYLIGHT
TZOFFSETFROM:-0500
TZOFFSETTO:-0400
TZNAME:EDT
DTSTART:20200308T070000
END:DAYLIGHT
BEGIN:STANDARD
TZOFFSETFROM:-0400
TZOFFSETTO:-0500
TZNAME:EST
DTSTART:20201101T060000
END:STANDARD
END:VTIMEZONE
BEGIN:VEVENT
DTSTART;TZID=America/New_York:20190330T200000
DTEND;TZID=America/New_York:20190331T220000
DTSTAMP:20260425T071501
CREATED:20190310T002448Z
LAST-MODIFIED:20190310T002448Z
UID:8295-1553976000-1554069600@www.jumpusapark.com
SUMMARY:Weekend Family Night Special (Saturday\, Sunday) 8pm - 10pm $9 for 2 Hours+Sports and FREE Karaoke for All Lady Jumpers
DESCRIPTION:
URL:https://www.jumpusapark.com/event/weekend-family-night-special-saturday-sunday-8pm-10pm-9-2-hourssports-free-karaoke-lady-jumpers-48/
END:VEVENT
BEGIN:VEVENT
DTSTART;TZID=America/New_York:20190401T110000
DTEND;TZID=America/New_York:20190404T210000
DTSTAMP:20260425T071501
CREATED:20190310T002956Z
LAST-MODIFIED:20190310T002956Z
UID:8306-1554116400-1554411600@www.jumpusapark.com
SUMMARY:Mon-Thursday Special! $9 for 2Hours+Sports\, $11 for 1Hour+Ride+Sports\, $14 for 2Hours+Ride+Sports
DESCRIPTION:
URL:https://www.jumpusapark.com/event/mon-thursday-special-9-2hourssports-11-1hourridesports-14-2hoursridesports-51/
END:VEVENT
BEGIN:VEVENT
DTSTART;TZID=America/New_York:20190405T100000
DTEND;TZID=America/New_York:20190407T220000
DTSTAMP:20260425T071501
CREATED:20190310T001914Z
LAST-MODIFIED:20190310T001914Z
UID:8279-1554458400-1554674400@www.jumpusapark.com
SUMMARY:Weekend 3+ Jumpers Group Special! 2Hours+Sports for $11 per Jumper\, 1Hour+Ride+Sports for $12 per Jumper\, 2Hours+Ride+Sports for $16 per Jumper
DESCRIPTION:
URL:https://www.jumpusapark.com/event/weekend-3-jumpers-group-special-2hourssports-11-per-jumper-1hourridesports-12-per-jumper-2hoursridesports-16-per-jumper-48/
END:VEVENT
BEGIN:VEVENT
DTSTART;TZID=America/New_York:20190405T180000
DTEND;TZID=America/New_York:20190405T220000
DTSTAMP:20260425T071501
CREATED:20190310T002211Z
LAST-MODIFIED:20190310T002211Z
UID:8287-1554487200-1554501600@www.jumpusapark.com
SUMMARY:Friday Teen & Family Night (6-10pm) $12 for Full hours+Sports and $9 for 2 hours+Sports and FREE Karaoke for All Lady Jumpers
DESCRIPTION:
URL:https://www.jumpusapark.com/event/friday-teen-family-night-6-10pm-12-full-hourssports-9-2-hourssports-free-karaoke-lady-jumpers-4/
END:VEVENT
BEGIN:VEVENT
DTSTART;TZID=America/New_York:20190406T200000
DTEND;TZID=America/New_York:20190407T220000
DTSTAMP:20260425T071501
CREATED:20190310T002518Z
LAST-MODIFIED:20190310T002518Z
UID:8297-1554580800-1554674400@www.jumpusapark.com
SUMMARY:Weekend Family Night Special (Saturday\, Sunday) 8pm - 10pm $9 for 2 Hours+Sports and FREE Karaoke for All Lady Jumpers
DESCRIPTION:
URL:https://www.jumpusapark.com/event/weekend-family-night-special-saturday-sunday-8pm-10pm-9-2-hourssports-free-karaoke-lady-jumpers-49/
END:VEVENT
BEGIN:VEVENT
DTSTART;TZID=America/New_York:20190408T110000
DTEND;TZID=America/New_York:20190411T210000
DTSTAMP:20260425T071501
CREATED:20190310T003029Z
LAST-MODIFIED:20190310T003029Z
UID:8308-1554721200-1555016400@www.jumpusapark.com
SUMMARY:Mon-Thursday Special! $9 for 2Hours+Sports\, $11 for 1Hour+Ride+Sports\, $14 for 2Hours+Ride+Sports
DESCRIPTION:
URL:https://www.jumpusapark.com/event/mon-thursday-special-9-2hourssports-11-1hourridesports-14-2hoursridesports-52/
END:VEVENT
BEGIN:VEVENT
DTSTART;TZID=America/New_York:20190412T100000
DTEND;TZID=America/New_York:20190414T230000
DTSTAMP:20260425T071501
CREATED:20190408T195315Z
LAST-MODIFIED:20190408T195315Z
UID:8331-1555063200-1555282800@www.jumpusapark.com
SUMMARY:Weekend 3+ Jumpers Group Special! 2Hours+Sports for $11 per Jumper\, 1Hour+Ride+Sports for $12 per Jumper\, 2Hours+Ride+Sports for $16 per Jumper
DESCRIPTION:
URL:https://www.jumpusapark.com/event/weekend-3-jumpers-group-special-2hourssports-11-per-jumper-1hourridesports-12-per-jumper-2hoursridesports-16-per-jumper-49/
END:VEVENT
BEGIN:VEVENT
DTSTART;TZID=America/New_York:20190412T180000
DTEND;TZID=America/New_York:20190412T220000
DTSTAMP:20260425T071501
CREATED:20190310T002250Z
LAST-MODIFIED:20190310T002250Z
UID:8289-1555092000-1555106400@www.jumpusapark.com
SUMMARY:Friday Teen & Family Night (6-10pm) $12 for Full hours+Sports and $9 for 2 hours+Sports and FREE Karaoke for All Lady Jumpers
DESCRIPTION:
URL:https://www.jumpusapark.com/event/friday-teen-family-night-6-10pm-12-full-hourssports-9-2-hourssports-free-karaoke-lady-jumpers-5/
END:VEVENT
BEGIN:VEVENT
DTSTART;TZID=America/New_York:20190413T200000
DTEND;TZID=America/New_York:20190414T220000
DTSTAMP:20260425T071501
CREATED:20190408T195553Z
LAST-MODIFIED:20190408T195553Z
UID:8339-1555185600-1555279200@www.jumpusapark.com
SUMMARY:Weekend Family Night Special (Saturday\, Sunday) 8pm - 10pm $9 for 2 Hours+Sports and FREE Karaoke for All Lady Jumpers
DESCRIPTION:
URL:https://www.jumpusapark.com/event/weekend-family-night-special-saturday-sunday-8pm-10pm-9-2-hourssports-free-karaoke-lady-jumpers-51/
END:VEVENT
BEGIN:VEVENT
DTSTART;TZID=America/New_York:20190415T110000
DTEND;TZID=America/New_York:20190418T210000
DTSTAMP:20260425T071501
CREATED:20190408T195016Z
LAST-MODIFIED:20190408T195016Z
UID:8323-1555326000-1555621200@www.jumpusapark.com
SUMMARY:Mon-Thursday Special! $9 for 2Hours+Sports\, $11 for 1Hour+Ride+Sports\, $14 for 2Hours+Ride+Sports
DESCRIPTION:
URL:https://www.jumpusapark.com/event/mon-thursday-special-9-2hourssports-11-1hourridesports-14-2hoursridesports-53/
END:VEVENT
BEGIN:VEVENT
DTSTART;TZID=America/New_York:20190419T100000
DTEND;TZID=America/New_York:20190421T230000
DTSTAMP:20260425T071501
CREATED:20190408T195343Z
LAST-MODIFIED:20190408T195343Z
UID:8333-1555668000-1555887600@www.jumpusapark.com
SUMMARY:Weekend 3+ Jumpers Group Special! 2Hours+Sports for $11 per Jumper\, 1Hour+Ride+Sports for $12 per Jumper\, 2Hours+Ride+Sports for $16 per Jumper
DESCRIPTION:
URL:https://www.jumpusapark.com/event/weekend-3-jumpers-group-special-2hourssports-11-per-jumper-1hourridesports-12-per-jumper-2hoursridesports-16-per-jumper-50/
END:VEVENT
BEGIN:VEVENT
DTSTART;TZID=America/New_York:20190419T180000
DTEND;TZID=America/New_York:20190419T220000
DTSTAMP:20260425T071501
CREATED:20190408T194804Z
LAST-MODIFIED:20190408T194804Z
UID:8315-1555696800-1555711200@www.jumpusapark.com
SUMMARY:Friday Teen & Family Night (6-10pm) $12 for Full hours+Sports and $9 for 2 hours+Sports and FREE Karaoke for All Lady Jumpers
DESCRIPTION:
URL:https://www.jumpusapark.com/event/friday-teen-family-night-6-10pm-12-full-hourssports-9-2-hourssports-free-karaoke-lady-jumpers-6/
END:VEVENT
BEGIN:VEVENT
DTSTART;TZID=America/New_York:20190420T200000
DTEND;TZID=America/New_York:20190421T220000
DTSTAMP:20260425T071501
CREATED:20190408T195617Z
LAST-MODIFIED:20190408T195617Z
UID:8341-1555790400-1555884000@www.jumpusapark.com
SUMMARY:Weekend Family Night Special (Saturday\, Sunday) 8pm - 10pm $9 for 2 Hours+Sports and FREE Karaoke for All Lady Jumpers
DESCRIPTION:
URL:https://www.jumpusapark.com/event/weekend-family-night-special-saturday-sunday-8pm-10pm-9-2-hourssports-free-karaoke-lady-jumpers-52/
END:VEVENT
BEGIN:VEVENT
DTSTART;TZID=America/New_York:20190422T110000
DTEND;TZID=America/New_York:20190425T210000
DTSTAMP:20260425T071501
CREATED:20190408T195043Z
LAST-MODIFIED:20190408T195043Z
UID:8325-1555930800-1556226000@www.jumpusapark.com
SUMMARY:Mon-Thursday Special! $9 for 2Hours+Sports\, $11 for 1Hour+Ride+Sports\, $14 for 2Hours+Ride+Sports
DESCRIPTION:
URL:https://www.jumpusapark.com/event/mon-thursday-special-9-2hourssports-11-1hourridesports-14-2hoursridesports-54/
END:VEVENT
BEGIN:VEVENT
DTSTART;TZID=America/New_York:20190426T100000
DTEND;TZID=America/New_York:20190428T230000
DTSTAMP:20260425T071501
CREATED:20190408T195407Z
LAST-MODIFIED:20190408T195407Z
UID:8335-1556272800-1556492400@www.jumpusapark.com
SUMMARY:Weekend 3+ Jumpers Group Special! 2Hours+Sports for $11 per Jumper\, 1Hour+Ride+Sports for $12 per Jumper\, 2Hours+Ride+Sports for $16 per Jumper
DESCRIPTION:
URL:https://www.jumpusapark.com/event/weekend-3-jumpers-group-special-2hourssports-11-per-jumper-1hourridesports-12-per-jumper-2hoursridesports-16-per-jumper-51/
END:VEVENT
BEGIN:VEVENT
DTSTART;TZID=America/New_York:20190426T180000
DTEND;TZID=America/New_York:20190426T220000
DTSTAMP:20260425T071501
CREATED:20190408T194833Z
LAST-MODIFIED:20190408T194833Z
UID:8317-1556301600-1556316000@www.jumpusapark.com
SUMMARY:Friday Teen & Family Night (6-10pm) $12 for Full hours+Sports and $9 for 2 hours+Sports and FREE Karaoke for All Lady Jumpers
DESCRIPTION:
URL:https://www.jumpusapark.com/event/friday-teen-family-night-6-10pm-12-full-hourssports-9-2-hourssports-free-karaoke-lady-jumpers-7/
END:VEVENT
BEGIN:VEVENT
DTSTART;TZID=America/New_York:20190427T200000
DTEND;TZID=America/New_York:20190428T220000
DTSTAMP:20260425T071501
CREATED:20190408T195645Z
LAST-MODIFIED:20190408T195645Z
UID:8343-1556395200-1556488800@www.jumpusapark.com
SUMMARY:Weekend Family Night Special (Saturday\, Sunday) 8pm - 10pm $9 for 2 Hours+Sports and FREE Karaoke for All Lady Jumpers
DESCRIPTION:
URL:https://www.jumpusapark.com/event/weekend-family-night-special-saturday-sunday-8pm-10pm-9-2-hourssports-free-karaoke-lady-jumpers-53/
END:VEVENT
BEGIN:VEVENT
DTSTART;TZID=America/New_York:20190429T110000
DTEND;TZID=America/New_York:20190502T210000
DTSTAMP:20260425T071501
CREATED:20190408T195109Z
LAST-MODIFIED:20190429T205233Z
UID:8327-1556535600-1556830800@www.jumpusapark.com
SUMMARY:Mon-Thursday Special! $10 for 2Hours+Sports\, $15 for 2Hours+Ride+Sports
DESCRIPTION:
URL:https://www.jumpusapark.com/event/mon-thursday-special-9-2hourssports-11-1hourridesports-14-2hoursridesports-55/
END:VEVENT
BEGIN:VEVENT
DTSTART;TZID=America/New_York:20190503T100000
DTEND;TZID=America/New_York:20190505T230000
DTSTAMP:20260425T071501
CREATED:20190408T195432Z
LAST-MODIFIED:20190429T205154Z
UID:8337-1556877600-1557097200@www.jumpusapark.com
SUMMARY:Weekend 3+ Jumpers Group Special! 2Hours+Sports for $12 per Jumper\, 2Hours+Ride+Sports for $17 per Jumper
DESCRIPTION:
URL:https://www.jumpusapark.com/event/weekend-3-jumpers-group-special-2hourssports-11-per-jumper-1hourridesports-12-per-jumper-2hoursridesports-16-per-jumper-52/
END:VEVENT
BEGIN:VEVENT
DTSTART;TZID=America/New_York:20190503T180000
DTEND;TZID=America/New_York:20190503T220000
DTSTAMP:20260425T071501
CREATED:20190408T194859Z
LAST-MODIFIED:20190429T205023Z
UID:8319-1556906400-1556920800@www.jumpusapark.com
SUMMARY:Friday Teen & Family Night (6-10pm) $15 for Full hours+Sports and $10 for 2 hours+Sports and FREE Karaoke for All Lady Jumpers
DESCRIPTION:
URL:https://www.jumpusapark.com/event/friday-teen-family-night-6-10pm-12-full-hourssports-9-2-hourssports-free-karaoke-lady-jumpers-8/
END:VEVENT
BEGIN:VEVENT
DTSTART;TZID=America/New_York:20190504T200000
DTEND;TZID=America/New_York:20190505T220000
DTSTAMP:20260425T071501
CREATED:20190408T195709Z
LAST-MODIFIED:20190429T205115Z
UID:8345-1557000000-1557093600@www.jumpusapark.com
SUMMARY:Weekend Family Night Special (Saturday\, Sunday) 8pm - 10pm $10 for 2 Hours+Sports and FREE Karaoke for All Lady Jumpers
DESCRIPTION:
URL:https://www.jumpusapark.com/event/weekend-family-night-special-saturday-sunday-8pm-10pm-9-2-hourssports-free-karaoke-lady-jumpers-54/
END:VEVENT
BEGIN:VEVENT
DTSTART;TZID=America/New_York:20190506T110000
DTEND;TZID=America/New_York:20190509T210000
DTSTAMP:20260425T071501
CREATED:20190408T195155Z
LAST-MODIFIED:20190429T205053Z
UID:8329-1557140400-1557435600@www.jumpusapark.com
SUMMARY:Mon-Thursday Special! $10 for 2Hours+Sports\, $15 for 2Hours+Ride+Sports
DESCRIPTION:
URL:https://www.jumpusapark.com/event/mon-thursday-special-9-2hourssports-11-1hourridesports-14-2hoursridesports-56/
END:VEVENT
BEGIN:VEVENT
DTSTART;TZID=America/New_York:20190510T100000
DTEND;TZID=America/New_York:20190512T230000
DTSTAMP:20260425T071501
CREATED:20190510T002612Z
LAST-MODIFIED:20190510T002612Z
UID:8378-1557482400-1557702000@www.jumpusapark.com
SUMMARY:Weekend 3+ Jumpers Group Special! 2Hours+Sports for $12 per Jumper\, 2Hours+Ride+Sports for $17 per Jumper
DESCRIPTION:
URL:https://www.jumpusapark.com/event/weekend-3-jumpers-group-special-2hourssports-12-per-jumper-2hoursridesports-17-per-jumper/
END:VEVENT
BEGIN:VEVENT
DTSTART;TZID=America/New_York:20190510T180000
DTEND;TZID=America/New_York:20190510T230000
DTSTAMP:20260425T071501
CREATED:20190408T194926Z
LAST-MODIFIED:20190505T220822Z
UID:8321-1557511200-1557529200@www.jumpusapark.com
SUMMARY:Friday Sports Night (6-11pm) $15 for Full hours+Sports and $10 for 2 hours+Sports and FREE Karaoke for All Lady Jumpers
DESCRIPTION:
URL:https://www.jumpusapark.com/event/friday-teen-family-night-6-10pm-12-full-hourssports-9-2-hourssports-free-karaoke-lady-jumpers-9/
END:VEVENT
BEGIN:VEVENT
DTSTART;TZID=America/New_York:20190511T200000
DTEND;TZID=America/New_York:20190512T220000
DTSTAMP:20260425T071501
CREATED:20190510T002716Z
LAST-MODIFIED:20190510T002716Z
UID:8380-1557604800-1557698400@www.jumpusapark.com
SUMMARY:Weekend Family Night Special (Saturday\, Sunday) 8pm - 10pm $10 for 2 Hours+Sports and FREE Karaoke for All Lady Jumpers
DESCRIPTION:
URL:https://www.jumpusapark.com/event/weekend-family-night-special-saturday-sunday-8pm-10pm-10-2-hourssports-free-karaoke-lady-jumpers/
END:VEVENT
BEGIN:VEVENT
DTSTART;TZID=America/New_York:20190513T110000
DTEND;TZID=America/New_York:20190516T210000
DTSTAMP:20260425T071501
CREATED:20190513T223957Z
LAST-MODIFIED:20190513T223957Z
UID:8383-1557745200-1558040400@www.jumpusapark.com
SUMMARY:Mon-Thursday Special! $10 for 2Hours+Sports\, $15 for 2Hours+Ride+Sports
DESCRIPTION:
URL:https://www.jumpusapark.com/event/mon-thursday-special-10-2hourssports-15-2hoursridesports/
END:VEVENT
BEGIN:VEVENT
DTSTART;TZID=America/New_York:20190517T100000
DTEND;TZID=America/New_York:20190519T230000
DTSTAMP:20260425T071501
CREATED:20190513T224346Z
LAST-MODIFIED:20190513T224346Z
UID:8393-1558087200-1558306800@www.jumpusapark.com
SUMMARY:Weekend 3+ Jumpers Group Special! 2Hours+Sports for $12 per Jumper\, 2Hours+Ride+Sports for $17 per Jumper
DESCRIPTION:
URL:https://www.jumpusapark.com/event/weekend-3-jumpers-group-special-2hourssports-12-per-jumper-2hoursridesports-17-per-jumper-2/
END:VEVENT
BEGIN:VEVENT
DTSTART;TZID=America/New_York:20190517T180000
DTEND;TZID=America/New_York:20190517T230000
DTSTAMP:20260425T071501
CREATED:20190513T224536Z
LAST-MODIFIED:20190513T224536Z
UID:8399-1558116000-1558134000@www.jumpusapark.com
SUMMARY:Friday Sports Night (6-11pm) $15 for Full hours+Sports and $10 for 2 hours+Sports and FREE Karaoke for All Lady Jumpers
DESCRIPTION:
URL:https://www.jumpusapark.com/event/friday-sports-night-6-11pm-15-full-hourssports-10-2-hourssports-free-karaoke-lady-jumpers/
END:VEVENT
BEGIN:VEVENT
DTSTART;TZID=America/New_York:20190518T200000
DTEND;TZID=America/New_York:20190519T220000
DTSTAMP:20260425T071501
CREATED:20190513T224842Z
LAST-MODIFIED:20190513T224842Z
UID:8410-1558209600-1558303200@www.jumpusapark.com
SUMMARY:Weekend Family Night Special (Saturday\, Sunday) 8pm - 10pm $10 for 2 Hours+Sports and FREE Karaoke for All Lady Jumpers
DESCRIPTION:
URL:https://www.jumpusapark.com/event/weekend-family-night-special-saturday-sunday-8pm-10pm-10-2-hourssports-free-karaoke-lady-jumpers-2/
END:VEVENT
BEGIN:VEVENT
DTSTART;TZID=America/New_York:20190520T110000
DTEND;TZID=America/New_York:20190523T210000
DTSTAMP:20260425T071501
CREATED:20190513T224028Z
LAST-MODIFIED:20190513T224028Z
UID:8385-1558350000-1558645200@www.jumpusapark.com
SUMMARY:Mon-Thursday Special! $10 for 2Hours+Sports\, $15 for 2Hours+Ride+Sports
DESCRIPTION:
URL:https://www.jumpusapark.com/event/mon-thursday-special-10-2hourssports-15-2hoursridesports-2/
END:VEVENT
END:VCALENDAR