BEGIN:VCALENDAR
VERSION:2.0
PRODID:-//JUMP PARTY USA - ECPv6.15.20//NONSGML v1.0//EN
CALSCALE:GREGORIAN
METHOD:PUBLISH
X-WR-CALNAME:JUMP PARTY USA
X-ORIGINAL-URL:https://www.jumpusapark.com
X-WR-CALDESC:Events for JUMP PARTY USA
REFRESH-INTERVAL;VALUE=DURATION:PT1H
X-Robots-Tag:noindex
X-PUBLISHED-TTL:PT1H
BEGIN:VTIMEZONE
TZID:America/New_York
BEGIN:DAYLIGHT
TZOFFSETFROM:-0500
TZOFFSETTO:-0400
TZNAME:EDT
DTSTART:20170312T070000
END:DAYLIGHT
BEGIN:STANDARD
TZOFFSETFROM:-0400
TZOFFSETTO:-0500
TZNAME:EST
DTSTART:20171105T060000
END:STANDARD
BEGIN:DAYLIGHT
TZOFFSETFROM:-0500
TZOFFSETTO:-0400
TZNAME:EDT
DTSTART:20180311T070000
END:DAYLIGHT
BEGIN:STANDARD
TZOFFSETFROM:-0400
TZOFFSETTO:-0500
TZNAME:EST
DTSTART:20181104T060000
END:STANDARD
BEGIN:DAYLIGHT
TZOFFSETFROM:-0500
TZOFFSETTO:-0400
TZNAME:EDT
DTSTART:20190310T070000
END:DAYLIGHT
BEGIN:STANDARD
TZOFFSETFROM:-0400
TZOFFSETTO:-0500
TZNAME:EST
DTSTART:20191103T060000
END:STANDARD
END:VTIMEZONE
BEGIN:VEVENT
DTSTART;TZID=America/New_York:20180521T110000
DTEND;TZID=America/New_York:20180524T210000
DTSTAMP:20260425T120641
CREATED:20180502T001822Z
LAST-MODIFIED:20180502T001822Z
UID:7898-1526900400-1527195600@www.jumpusapark.com
SUMMARY:Mon-Thursday Special! $9 for 2Hours+Sports\, $11 for 1Hour+Ride+Sports\, $14 for 2Hours+Ride+Sports
DESCRIPTION:
URL:https://www.jumpusapark.com/event/mon-thursday-special-9-2hourssports-11-1hourridesports-14-2hoursridesports-16/
END:VEVENT
BEGIN:VEVENT
DTSTART;TZID=America/New_York:20180525T100000
DTEND;TZID=America/New_York:20180526T220000
DTSTAMP:20260425T120641
CREATED:20180502T002727Z
LAST-MODIFIED:20180502T003430Z
UID:7914-1527242400-1527372000@www.jumpusapark.com
SUMMARY:Weekend 3+ Jumpers Group Special! 2Hours+Sports for $11 per Jumper\, 1Hour+Ride+Sports for $12 per Jumper\, 2Hours+Ride+Sports for $16 per Jumper
DESCRIPTION:
URL:https://www.jumpusapark.com/event/weekend-3-jumpers-group-special-2hourssports-11-per-jumper-1hourridesports-12-per-jumper-2hoursridesports-16-per-jumper-16/
END:VEVENT
BEGIN:VEVENT
DTSTART;TZID=America/New_York:20180525T190000
DTEND;TZID=America/New_York:20180525T230000
DTSTAMP:20260425T120641
CREATED:20180502T001608Z
LAST-MODIFIED:20180502T001608Z
UID:7892-1527274800-1527289200@www.jumpusapark.com
SUMMARY:Friday Teen Night (7-11pm) $12 for Full hours+Sports and $9 for 2 hours+Sports and FREE Karaoke for All Lady Jumpers
DESCRIPTION:
URL:https://www.jumpusapark.com/event/friday-teen-night-7-11pm-12-full-hourssports-9-2-hourssports-free-karaoke-lady-jumpers-16/
END:VEVENT
BEGIN:VEVENT
DTSTART;TZID=America/New_York:20180526T200000
DTEND;TZID=America/New_York:20180527T220000
DTSTAMP:20260425T120641
CREATED:20180502T003032Z
LAST-MODIFIED:20180502T003032Z
UID:7922-1527364800-1527458400@www.jumpusapark.com
SUMMARY:Weekend Family Night Special (Saturday\, Sunday) 8pm - 10pm $9 for 2 Hours+Sports and FREE Karaoke for All Lady Jumpers
DESCRIPTION:
URL:https://www.jumpusapark.com/event/weekend-family-night-special-saturday-sunday-8pm-10pm-9-2-hourssports-free-karaoke-lady-jumpers-16/
END:VEVENT
BEGIN:VEVENT
DTSTART;TZID=America/New_York:20180528T100000
DTEND;TZID=America/New_York:20180528T210000
DTSTAMP:20260425T120641
CREATED:20180502T002445Z
LAST-MODIFIED:20180502T002445Z
UID:7906-1527501600-1527541200@www.jumpusapark.com
SUMMARY:Mon-Thursday Special! $9 for 2Hours+Sports\, $11 for 1Hour+Ride+Sports\, $14 for 2Hours+Ride+Sports
DESCRIPTION:
URL:https://www.jumpusapark.com/event/mon-thursday-special-9-2hourssports-11-1hourridesports-14-2hoursridesports-17/
END:VEVENT
BEGIN:VEVENT
DTSTART;TZID=America/New_York:20180529T110000
DTEND;TZID=America/New_York:20180530T210000
DTSTAMP:20260425T120641
CREATED:20180502T001925Z
LAST-MODIFIED:20180502T002419Z
UID:7902-1527591600-1527714000@www.jumpusapark.com
SUMMARY:Mon-Thursday Special! $9 for 2Hours+Sports\, $11 for 1Hour+Ride+Sports\, $14 for 2Hours+Ride+Sports
DESCRIPTION:
URL:https://www.jumpusapark.com/event/mon-thursday-special-9-2hourssports-11-1hourridesports-14-2hoursridesports-18/
END:VEVENT
BEGIN:VEVENT
DTSTART;TZID=America/New_York:20180531T100000
DTEND;TZID=America/New_York:20180531T210000
DTSTAMP:20260425T120641
CREATED:20180502T002520Z
LAST-MODIFIED:20180502T002520Z
UID:7908-1527760800-1527800400@www.jumpusapark.com
SUMMARY:Mon-Thursday Special! $9 for 2Hours+Sports\, $11 for 1Hour+Ride+Sports\, $14 for 2Hours+Ride+Sports
DESCRIPTION:
URL:https://www.jumpusapark.com/event/mon-thursday-special-9-2hourssports-11-1hourridesports-14-2hoursridesports-20/
END:VEVENT
BEGIN:VEVENT
DTSTART;TZID=America/New_York:20180601T100000
DTEND;TZID=America/New_York:20180602T220000
DTSTAMP:20260425T120641
CREATED:20180502T002755Z
LAST-MODIFIED:20180502T003350Z
UID:7916-1527847200-1527976800@www.jumpusapark.com
SUMMARY:Weekend 3+ Jumpers Group Special! 2Hours+Sports for $11 per Jumper\, 1Hour+Ride+Sports for $12 per Jumper\, 2Hours+Ride+Sports for $16 per Jumper
DESCRIPTION:
URL:https://www.jumpusapark.com/event/weekend-3-jumpers-group-special-2hourssports-11-per-jumper-1hourridesports-12-per-jumper-2hoursridesports-16-per-jumper-17/
END:VEVENT
BEGIN:VEVENT
DTSTART;TZID=America/New_York:20180601T190000
DTEND;TZID=America/New_York:20180601T230000
DTSTAMP:20260425T120641
CREATED:20180502T001637Z
LAST-MODIFIED:20180502T001637Z
UID:7894-1527879600-1527894000@www.jumpusapark.com
SUMMARY:Friday Teen Night (7-11pm) $12 for Full hours+Sports and $9 for 2 hours+Sports and FREE Karaoke for All Lady Jumpers
DESCRIPTION:
URL:https://www.jumpusapark.com/event/friday-teen-night-7-11pm-12-full-hourssports-9-2-hourssports-free-karaoke-lady-jumpers-17/
END:VEVENT
BEGIN:VEVENT
DTSTART;TZID=America/New_York:20180602T200000
DTEND;TZID=America/New_York:20180603T220000
DTSTAMP:20260425T120641
CREATED:20180502T003107Z
LAST-MODIFIED:20180502T003107Z
UID:7924-1527969600-1528063200@www.jumpusapark.com
SUMMARY:Weekend Family Night Special (Saturday\, Sunday) 8pm - 10pm $9 for 2 Hours+Sports and FREE Karaoke for All Lady Jumpers
DESCRIPTION:
URL:https://www.jumpusapark.com/event/weekend-family-night-special-saturday-sunday-8pm-10pm-9-2-hourssports-free-karaoke-lady-jumpers-17/
END:VEVENT
BEGIN:VEVENT
DTSTART;TZID=America/New_York:20180604T100000
DTEND;TZID=America/New_York:20180607T210000
DTSTAMP:20260425T120641
CREATED:20180502T002023Z
LAST-MODIFIED:20180502T002023Z
UID:7904-1528106400-1528405200@www.jumpusapark.com
SUMMARY:Mon-Thursday Special! $9 for 2Hours+Sports\, $11 for 1Hour+Ride+Sports\, $14 for 2Hours+Ride+Sports
DESCRIPTION:
URL:https://www.jumpusapark.com/event/mon-thursday-special-9-2hourssports-11-1hourridesports-14-2hoursridesports-19/
END:VEVENT
BEGIN:VEVENT
DTSTART;TZID=America/New_York:20180608T100000
DTEND;TZID=America/New_York:20180610T220000
DTSTAMP:20260425T120641
CREATED:20180610T005127Z
LAST-MODIFIED:20180610T005747Z
UID:7958-1528452000-1528668000@www.jumpusapark.com
SUMMARY:Weekend 3+ Jumpers Group Special! 2Hours+Sports for $11 per Jumper\, 1Hour+Ride+Sports for $12 per Jumper\, 2Hours+Ride+Sports for $16 per Jumper
DESCRIPTION:
URL:https://www.jumpusapark.com/event/weekend-3-jumpers-group-special-2hourssports-11-per-jumper-1hourridesports-12-per-jumper-2hoursridesports-16-per-jumper-19/
END:VEVENT
BEGIN:VEVENT
DTSTART;TZID=America/New_York:20180609T200000
DTEND;TZID=America/New_York:20180610T220000
DTSTAMP:20260425T120641
CREATED:20180610T005928Z
LAST-MODIFIED:20180610T005928Z
UID:7970-1528574400-1528668000@www.jumpusapark.com
SUMMARY:Weekend Family Night Special (Saturday\, Sunday) 8pm - 10pm $9 for 2 Hours+Sports and FREE Karaoke for All Lady Jumpers
DESCRIPTION:
URL:https://www.jumpusapark.com/event/weekend-family-night-special-saturday-sunday-8pm-10pm-9-2-hourssports-free-karaoke-lady-jumpers-19/
END:VEVENT
BEGIN:VEVENT
DTSTART;TZID=America/New_York:20180611T100000
DTEND;TZID=America/New_York:20180614T210000
DTSTAMP:20260425T120641
CREATED:20180610T010846Z
LAST-MODIFIED:20180610T010846Z
UID:7992-1528711200-1529010000@www.jumpusapark.com
SUMMARY:Mon-Thursday Special! $9 for 2Hours+Sports\, $11 for 1Hour+Ride+Sports\, $14 for 2Hours+Ride+Sports
DESCRIPTION:
URL:https://www.jumpusapark.com/event/mon-thursday-special-9-2hourssports-11-1hourridesports-14-2hoursridesports-21/
END:VEVENT
BEGIN:VEVENT
DTSTART;TZID=America/New_York:20180615T100000
DTEND;TZID=America/New_York:20180617T220000
DTSTAMP:20260425T120641
CREATED:20180610T005151Z
LAST-MODIFIED:20180610T005705Z
UID:7960-1529056800-1529272800@www.jumpusapark.com
SUMMARY:Weekend 3+ Jumpers Group Special! 2Hours+Sports for $11 per Jumper\, 1Hour+Ride+Sports for $12 per Jumper\, 2Hours+Ride+Sports for $16 per Jumper
DESCRIPTION:
URL:https://www.jumpusapark.com/event/weekend-3-jumpers-group-special-2hourssports-11-per-jumper-1hourridesports-12-per-jumper-2hoursridesports-16-per-jumper-20/
END:VEVENT
BEGIN:VEVENT
DTSTART;TZID=America/New_York:20180615T190000
DTEND;TZID=America/New_York:20180615T230000
DTSTAMP:20260425T120641
CREATED:20180610T010257Z
LAST-MODIFIED:20180610T010257Z
UID:7982-1529089200-1529103600@www.jumpusapark.com
SUMMARY:Friday Teen Night (7-11pm) $12 for Full hours+Sports and $9 for 2 hours+Sports and FREE Karaoke for All Lady Jumpers
DESCRIPTION:
URL:https://www.jumpusapark.com/event/friday-teen-night-7-11pm-12-full-hourssports-9-2-hourssports-free-karaoke-lady-jumpers-18/
END:VEVENT
BEGIN:VEVENT
DTSTART;TZID=America/New_York:20180616T200000
DTEND;TZID=America/New_York:20180617T220000
DTSTAMP:20260425T120641
CREATED:20180610T005958Z
LAST-MODIFIED:20180610T005958Z
UID:7972-1529179200-1529272800@www.jumpusapark.com
SUMMARY:Weekend Family Night Special (Saturday\, Sunday) 8pm - 10pm $9 for 2 Hours+Sports and FREE Karaoke for All Lady Jumpers
DESCRIPTION:
URL:https://www.jumpusapark.com/event/weekend-family-night-special-saturday-sunday-8pm-10pm-9-2-hourssports-free-karaoke-lady-jumpers-20/
END:VEVENT
BEGIN:VEVENT
DTSTART;TZID=America/New_York:20180618T100000
DTEND;TZID=America/New_York:20180621T210000
DTSTAMP:20260425T120641
CREATED:20180610T010912Z
LAST-MODIFIED:20180610T010912Z
UID:7994-1529316000-1529614800@www.jumpusapark.com
SUMMARY:Mon-Thursday Special! $9 for 2Hours+Sports\, $11 for 1Hour+Ride+Sports\, $14 for 2Hours+Ride+Sports
DESCRIPTION:
URL:https://www.jumpusapark.com/event/mon-thursday-special-9-2hourssports-11-1hourridesports-14-2hoursridesports-22/
END:VEVENT
BEGIN:VEVENT
DTSTART;TZID=America/New_York:20180622T100000
DTEND;TZID=America/New_York:20180624T220000
DTSTAMP:20260425T120641
CREATED:20180610T005219Z
LAST-MODIFIED:20180610T005634Z
UID:7962-1529661600-1529877600@www.jumpusapark.com
SUMMARY:Weekend 3+ Jumpers Group Special! 2Hours+Sports for $11 per Jumper\, 1Hour+Ride+Sports for $12 per Jumper\, 2Hours+Ride+Sports for $16 per Jumper
DESCRIPTION:
URL:https://www.jumpusapark.com/event/weekend-3-jumpers-group-special-2hourssports-11-per-jumper-1hourridesports-12-per-jumper-2hoursridesports-16-per-jumper-21/
END:VEVENT
BEGIN:VEVENT
DTSTART;TZID=America/New_York:20180622T190000
DTEND;TZID=America/New_York:20180622T230000
DTSTAMP:20260425T120641
CREATED:20180610T010332Z
LAST-MODIFIED:20180610T010332Z
UID:7984-1529694000-1529708400@www.jumpusapark.com
SUMMARY:Friday Teen Night (7-11pm) $12 for Full hours+Sports and $9 for 2 hours+Sports and FREE Karaoke for All Lady Jumpers
DESCRIPTION:
URL:https://www.jumpusapark.com/event/friday-teen-night-7-11pm-12-full-hourssports-9-2-hourssports-free-karaoke-lady-jumpers-19/
END:VEVENT
BEGIN:VEVENT
DTSTART;TZID=America/New_York:20180623T200000
DTEND;TZID=America/New_York:20180624T220000
DTSTAMP:20260425T120641
CREATED:20180610T010057Z
LAST-MODIFIED:20180610T010057Z
UID:7976-1529784000-1529877600@www.jumpusapark.com
SUMMARY:Weekend Family Night Special (Saturday\, Sunday) 8pm - 10pm $9 for 2 Hours+Sports and FREE Karaoke for All Lady Jumpers
DESCRIPTION:
URL:https://www.jumpusapark.com/event/weekend-family-night-special-saturday-sunday-8pm-10pm-9-2-hourssports-free-karaoke-lady-jumpers-22/
END:VEVENT
BEGIN:VEVENT
DTSTART;TZID=America/New_York:20180625T100000
DTEND;TZID=America/New_York:20180628T210000
DTSTAMP:20260425T120641
CREATED:20180610T010937Z
LAST-MODIFIED:20180610T010937Z
UID:7996-1529920800-1530219600@www.jumpusapark.com
SUMMARY:Mon-Thursday Special! $9 for 2Hours+Sports\, $11 for 1Hour+Ride+Sports\, $14 for 2Hours+Ride+Sports
DESCRIPTION:
URL:https://www.jumpusapark.com/event/mon-thursday-special-9-2hourssports-11-1hourridesports-14-2hoursridesports-23/
END:VEVENT
BEGIN:VEVENT
DTSTART;TZID=America/New_York:20180629T100000
DTEND;TZID=America/New_York:20180701T220000
DTSTAMP:20260425T120641
CREATED:20180610T005247Z
LAST-MODIFIED:20180610T005610Z
UID:7964-1530266400-1530482400@www.jumpusapark.com
SUMMARY:Weekend 3+ Jumpers Group Special! 2Hours+Sports for $11 per Jumper\, 1Hour+Ride+Sports for $12 per Jumper\, 2Hours+Ride+Sports for $16 per Jumper
DESCRIPTION:
URL:https://www.jumpusapark.com/event/weekend-3-jumpers-group-special-2hourssports-11-per-jumper-1hourridesports-12-per-jumper-2hoursridesports-16-per-jumper-22/
END:VEVENT
BEGIN:VEVENT
DTSTART;TZID=America/New_York:20180629T190000
DTEND;TZID=America/New_York:20180629T230000
DTSTAMP:20260425T120641
CREATED:20180610T010508Z
LAST-MODIFIED:20180610T010508Z
UID:7988-1530298800-1530313200@www.jumpusapark.com
SUMMARY:Friday Teen Night (7-11pm) $12 for Full hours+Sports and $9 for 2 hours+Sports and FREE Karaoke for All Lady Jumpers
DESCRIPTION:
URL:https://www.jumpusapark.com/event/friday-teen-night-7-11pm-12-full-hourssports-9-2-hourssports-free-karaoke-lady-jumpers-21/
END:VEVENT
BEGIN:VEVENT
DTSTART;TZID=America/New_York:20180630T200000
DTEND;TZID=America/New_York:20180701T220000
DTSTAMP:20260425T120641
CREATED:20180610T010137Z
LAST-MODIFIED:20180610T010137Z
UID:7978-1530388800-1530482400@www.jumpusapark.com
SUMMARY:Weekend Family Night Special (Saturday\, Sunday) 8pm - 10pm $9 for 2 Hours+Sports and FREE Karaoke for All Lady Jumpers
DESCRIPTION:
URL:https://www.jumpusapark.com/event/weekend-family-night-special-saturday-sunday-8pm-10pm-9-2-hourssports-free-karaoke-lady-jumpers-23/
END:VEVENT
BEGIN:VEVENT
DTSTART;TZID=America/New_York:20180702T100000
DTEND;TZID=America/New_York:20180705T210000
DTSTAMP:20260425T120641
CREATED:20180610T011005Z
LAST-MODIFIED:20180610T011005Z
UID:7998-1530525600-1530824400@www.jumpusapark.com
SUMMARY:Mon-Thursday Special! $9 for 2Hours+Sports\, $11 for 1Hour+Ride+Sports\, $14 for 2Hours+Ride+Sports
DESCRIPTION:
URL:https://www.jumpusapark.com/event/mon-thursday-special-9-2hourssports-11-1hourridesports-14-2hoursridesports-24/
END:VEVENT
BEGIN:VEVENT
DTSTART;TZID=America/New_York:20180706T100000
DTEND;TZID=America/New_York:20180708T220000
DTSTAMP:20260425T120641
CREATED:20180610T005312Z
LAST-MODIFIED:20180610T005546Z
UID:7966-1530871200-1531087200@www.jumpusapark.com
SUMMARY:Weekend 3+ Jumpers Group Special! 2Hours+Sports for $11 per Jumper\, 1Hour+Ride+Sports for $12 per Jumper\, 2Hours+Ride+Sports for $16 per Jumper
DESCRIPTION:
URL:https://www.jumpusapark.com/event/weekend-3-jumpers-group-special-2hourssports-11-per-jumper-1hourridesports-12-per-jumper-2hoursridesports-16-per-jumper-23/
END:VEVENT
BEGIN:VEVENT
DTSTART;TZID=America/New_York:20180706T190000
DTEND;TZID=America/New_York:20180706T230000
DTSTAMP:20260425T120641
CREATED:20180610T010536Z
LAST-MODIFIED:20180610T010536Z
UID:7990-1530903600-1530918000@www.jumpusapark.com
SUMMARY:Friday Teen Night (7-11pm) $12 for Full hours+Sports and $9 for 2 hours+Sports and FREE Karaoke for All Lady Jumpers
DESCRIPTION:
URL:https://www.jumpusapark.com/event/friday-teen-night-7-11pm-12-full-hourssports-9-2-hourssports-free-karaoke-lady-jumpers-22/
END:VEVENT
BEGIN:VEVENT
DTSTART;TZID=America/New_York:20180707T200000
DTEND;TZID=America/New_York:20180708T220000
DTSTAMP:20260425T120641
CREATED:20180610T010203Z
LAST-MODIFIED:20180610T010203Z
UID:7980-1530993600-1531087200@www.jumpusapark.com
SUMMARY:Weekend Family Night Special (Saturday\, Sunday) 8pm - 10pm $9 for 2 Hours+Sports and FREE Karaoke for All Lady Jumpers
DESCRIPTION:
URL:https://www.jumpusapark.com/event/weekend-family-night-special-saturday-sunday-8pm-10pm-9-2-hourssports-free-karaoke-lady-jumpers-24/
END:VEVENT
BEGIN:VEVENT
DTSTART;TZID=America/New_York:20180709T100000
DTEND;TZID=America/New_York:20180713T210000
DTSTAMP:20260425T120641
CREATED:20180715T230718Z
LAST-MODIFIED:20180715T230718Z
UID:8004-1531130400-1531515600@www.jumpusapark.com
SUMMARY:Mon-Thursday Special! $9 for 2Hours+Sports\, $11 for 1Hour+Ride+Sports\, $14 for 2Hours+Ride+Sports
DESCRIPTION:
URL:https://www.jumpusapark.com/event/mon-thursday-special-9-2hourssports-11-1hourridesports-14-2hoursridesports-25/
END:VEVENT
END:VCALENDAR