BEGIN:VCALENDAR
VERSION:2.0
PRODID:-//JUMP PARTY USA - ECPv6.15.20//NONSGML v1.0//EN
CALSCALE:GREGORIAN
METHOD:PUBLISH
X-WR-CALNAME:JUMP PARTY USA
X-ORIGINAL-URL:https://www.jumpusapark.com
X-WR-CALDESC:Events for JUMP PARTY USA
REFRESH-INTERVAL;VALUE=DURATION:PT1H
X-Robots-Tag:noindex
X-PUBLISHED-TTL:PT1H
BEGIN:VTIMEZONE
TZID:America/New_York
BEGIN:DAYLIGHT
TZOFFSETFROM:-0500
TZOFFSETTO:-0400
TZNAME:EDT
DTSTART:20170312T070000
END:DAYLIGHT
BEGIN:STANDARD
TZOFFSETFROM:-0400
TZOFFSETTO:-0500
TZNAME:EST
DTSTART:20171105T060000
END:STANDARD
BEGIN:DAYLIGHT
TZOFFSETFROM:-0500
TZOFFSETTO:-0400
TZNAME:EDT
DTSTART:20180311T070000
END:DAYLIGHT
BEGIN:STANDARD
TZOFFSETFROM:-0400
TZOFFSETTO:-0500
TZNAME:EST
DTSTART:20181104T060000
END:STANDARD
BEGIN:DAYLIGHT
TZOFFSETFROM:-0500
TZOFFSETTO:-0400
TZNAME:EDT
DTSTART:20190310T070000
END:DAYLIGHT
BEGIN:STANDARD
TZOFFSETFROM:-0400
TZOFFSETTO:-0500
TZNAME:EST
DTSTART:20191103T060000
END:STANDARD
END:VTIMEZONE
BEGIN:VEVENT
DTSTART;TZID=America/New_York:20181215T200000
DTEND;TZID=America/New_York:20181216T220000
DTSTAMP:20260425T113317
CREATED:20181213T225102Z
LAST-MODIFIED:20181213T225102Z
UID:8151-1544904000-1544997600@www.jumpusapark.com
SUMMARY:Weekend Family Night Special (Saturday\, Sunday) 8pm - 10pm $9 for 2 Hours+Sports and FREE Karaoke for All Lady Jumpers
DESCRIPTION:
URL:https://www.jumpusapark.com/event/weekend-family-night-special-saturday-sunday-8pm-10pm-9-2-hourssports-free-karaoke-lady-jumpers-33/
END:VEVENT
BEGIN:VEVENT
DTSTART;TZID=America/New_York:20181214T190000
DTEND;TZID=America/New_York:20181214T230000
DTSTAMP:20260425T113317
CREATED:20181213T224334Z
LAST-MODIFIED:20181213T224334Z
UID:8131-1544814000-1544828400@www.jumpusapark.com
SUMMARY:Friday Teen & Family Night (7-11pm) $12 for Full hours+Sports and $9 for 2 hours+Sports and FREE Karaoke for All Lady Jumpers
DESCRIPTION:
URL:https://www.jumpusapark.com/event/friday-teen-family-night-7-11pm-12-full-hourssports-9-2-hourssports-free-karaoke-lady-jumpers-6/
END:VEVENT
BEGIN:VEVENT
DTSTART;TZID=America/New_York:20181214T100000
DTEND;TZID=America/New_York:20181216T220000
DTSTAMP:20260425T113317
CREATED:20181213T224636Z
LAST-MODIFIED:20181213T224636Z
UID:8141-1544781600-1544997600@www.jumpusapark.com
SUMMARY:Weekend 3+ Jumpers Group Special! 2Hours+Sports for $11 per Jumper\, 1Hour+Ride+Sports for $12 per Jumper\, 2Hours+Ride+Sports for $16 per Jumper
DESCRIPTION:
URL:https://www.jumpusapark.com/event/weekend-3-jumpers-group-special-2hourssports-11-per-jumper-1hourridesports-12-per-jumper-2hoursridesports-16-per-jumper-32/
END:VEVENT
BEGIN:VEVENT
DTSTART;TZID=America/New_York:20181213T110000
DTEND;TZID=America/New_York:20181213T210000
DTSTAMP:20260425T113317
CREATED:20181213T223737Z
LAST-MODIFIED:20181213T223737Z
UID:8121-1544698800-1544734800@www.jumpusapark.com
SUMMARY:Mon-Thursday Special! $9 for 2Hours+Sports\, $11 for 1Hour+Ride+Sports\, $14 for 2Hours+Ride+Sports
DESCRIPTION:
URL:https://www.jumpusapark.com/event/mon-thursday-special-9-2hourssports-11-1hourridesports-14-2hoursridesports-36/
END:VEVENT
BEGIN:VEVENT
DTSTART;TZID=America/New_York:20180910T110000
DTEND;TZID=America/New_York:20180913T210000
DTSTAMP:20260425T113317
CREATED:20180809T000000Z
LAST-MODIFIED:20180809T000000Z
UID:8058-1536577200-1536872400@www.jumpusapark.com
SUMMARY:Mon-Thursday Special! $9 for 2Hours+Sports\, $11 for 1Hour+Ride+Sports\, $14 for 2Hours+Ride+Sports
DESCRIPTION:
URL:https://www.jumpusapark.com/event/mon-thursday-special-9-2hourssports-11-1hourridesports-14-2hoursridesports-35/
END:VEVENT
BEGIN:VEVENT
DTSTART;TZID=America/New_York:20180908T200000
DTEND;TZID=America/New_York:20180909T220000
DTSTAMP:20260425T113317
CREATED:20180809T000933Z
LAST-MODIFIED:20180809T000933Z
UID:8088-1536436800-1536530400@www.jumpusapark.com
SUMMARY:Weekend Family Night Special (Saturday\, Sunday) 8pm - 10pm $9 for 2 Hours+Sports and FREE Karaoke for All Lady Jumpers
DESCRIPTION:
URL:https://www.jumpusapark.com/event/weekend-family-night-special-saturday-sunday-8pm-10pm-9-2-hourssports-free-karaoke-lady-jumpers-32/
END:VEVENT
BEGIN:VEVENT
DTSTART;TZID=America/New_York:20180907T190000
DTEND;TZID=America/New_York:20180907T230000
DTSTAMP:20260425T113317
CREATED:20180809T000639Z
LAST-MODIFIED:20180809T000639Z
UID:8078-1536346800-1536361200@www.jumpusapark.com
SUMMARY:Friday Teen & Family Night (7-11pm) $12 for Full hours+Sports and $9 for 2 hours+Sports and FREE Karaoke for All Lady Jumpers
DESCRIPTION:
URL:https://www.jumpusapark.com/event/friday-teen-family-night-7-11pm-12-full-hourssports-9-2-hourssports-free-karaoke-lady-jumpers-5/
END:VEVENT
BEGIN:VEVENT
DTSTART;TZID=America/New_York:20180907T100000
DTEND;TZID=America/New_York:20180909T220000
DTSTAMP:20260425T113317
CREATED:20180809T000329Z
LAST-MODIFIED:20180809T000329Z
UID:8068-1536314400-1536530400@www.jumpusapark.com
SUMMARY:Weekend 3+ Jumpers Group Special! 2Hours+Sports for $11 per Jumper\, 1Hour+Ride+Sports for $12 per Jumper\, 2Hours+Ride+Sports for $16 per Jumper
DESCRIPTION:
URL:https://www.jumpusapark.com/event/weekend-3-jumpers-group-special-2hourssports-11-per-jumper-1hourridesports-12-per-jumper-2hoursridesports-16-per-jumper-31/
END:VEVENT
BEGIN:VEVENT
DTSTART;TZID=America/New_York:20180904T110000
DTEND;TZID=America/New_York:20180906T210000
DTSTAMP:20260425T113317
CREATED:20180808T235910Z
LAST-MODIFIED:20180808T235910Z
UID:8054-1536058800-1536267600@www.jumpusapark.com
SUMMARY:Mon-Thursday Special! $9 for 2Hours+Sports\, $11 for 1Hour+Ride+Sports\, $14 for 2Hours+Ride+Sports
DESCRIPTION:
URL:https://www.jumpusapark.com/event/mon-thursday-special-9-2hourssports-11-1hourridesports-14-2hoursridesports-33/
END:VEVENT
BEGIN:VEVENT
DTSTART;TZID=America/New_York:20180903T100000
DTEND;TZID=America/New_York:20180903T210000
DTSTAMP:20260425T113317
CREATED:20180808T235931Z
LAST-MODIFIED:20180808T235931Z
UID:8056-1535968800-1536008400@www.jumpusapark.com
SUMMARY:Mon-Thursday Special! $9 for 2Hours+Sports\, $11 for 1Hour+Ride+Sports\, $14 for 2Hours+Ride+Sports
DESCRIPTION:
URL:https://www.jumpusapark.com/event/mon-thursday-special-9-2hourssports-11-1hourridesports-14-2hoursridesports-34/
END:VEVENT
BEGIN:VEVENT
DTSTART;TZID=America/New_York:20180901T200000
DTEND;TZID=America/New_York:20180902T220000
DTSTAMP:20260425T113317
CREATED:20180809T000904Z
LAST-MODIFIED:20180809T000904Z
UID:8086-1535832000-1535925600@www.jumpusapark.com
SUMMARY:Weekend Family Night Special (Saturday\, Sunday) 8pm - 10pm $9 for 2 Hours+Sports and FREE Karaoke for All Lady Jumpers
DESCRIPTION:
URL:https://www.jumpusapark.com/event/weekend-family-night-special-saturday-sunday-8pm-10pm-9-2-hourssports-free-karaoke-lady-jumpers-31/
END:VEVENT
BEGIN:VEVENT
DTSTART;TZID=America/New_York:20180831T190000
DTEND;TZID=America/New_York:20180831T230000
DTSTAMP:20260425T113317
CREATED:20180809T000614Z
LAST-MODIFIED:20180809T000614Z
UID:8076-1535742000-1535756400@www.jumpusapark.com
SUMMARY:Friday Teen & Family Night (7-11pm) $12 for Full hours+Sports and $9 for 2 hours+Sports and FREE Karaoke for All Lady Jumpers
DESCRIPTION:
URL:https://www.jumpusapark.com/event/friday-teen-family-night-7-11pm-12-full-hourssports-9-2-hourssports-free-karaoke-lady-jumpers-4/
END:VEVENT
BEGIN:VEVENT
DTSTART;TZID=America/New_York:20180831T100000
DTEND;TZID=America/New_York:20180902T220000
DTSTAMP:20260425T113317
CREATED:20180809T000300Z
LAST-MODIFIED:20180809T000300Z
UID:8066-1535709600-1535925600@www.jumpusapark.com
SUMMARY:Weekend 3+ Jumpers Group Special! 2Hours+Sports for $11 per Jumper\, 1Hour+Ride+Sports for $12 per Jumper\, 2Hours+Ride+Sports for $16 per Jumper
DESCRIPTION:
URL:https://www.jumpusapark.com/event/weekend-3-jumpers-group-special-2hourssports-11-per-jumper-1hourridesports-12-per-jumper-2hoursridesports-16-per-jumper-30/
END:VEVENT
BEGIN:VEVENT
DTSTART;TZID=America/New_York:20180827T110000
DTEND;TZID=America/New_York:20180830T210000
DTSTAMP:20260425T113317
CREATED:20180808T235811Z
LAST-MODIFIED:20180808T235811Z
UID:8052-1535367600-1535662800@www.jumpusapark.com
SUMMARY:Mon-Thursday Special! $9 for 2Hours+Sports\, $11 for 1Hour+Ride+Sports\, $14 for 2Hours+Ride+Sports
DESCRIPTION:
URL:https://www.jumpusapark.com/event/mon-thursday-special-9-2hourssports-11-1hourridesports-14-2hoursridesports-32/
END:VEVENT
BEGIN:VEVENT
DTSTART;TZID=America/New_York:20180825T200000
DTEND;TZID=America/New_York:20180826T220000
DTSTAMP:20260425T113317
CREATED:20180809T000829Z
LAST-MODIFIED:20180809T000840Z
UID:8084-1535227200-1535320800@www.jumpusapark.com
SUMMARY:Weekend Family Night Special (Saturday\, Sunday) 8pm - 10pm $9 for 2 Hours+Sports and FREE Karaoke for All Lady Jumpers
DESCRIPTION:
URL:https://www.jumpusapark.com/event/weekend-family-night-special-saturday-sunday-8pm-10pm-9-2-hourssports-free-karaoke-lady-jumpers-30/
END:VEVENT
BEGIN:VEVENT
DTSTART;TZID=America/New_York:20180824T190000
DTEND;TZID=America/New_York:20180824T230000
DTSTAMP:20260425T113317
CREATED:20180809T000550Z
LAST-MODIFIED:20180809T000550Z
UID:8074-1535137200-1535151600@www.jumpusapark.com
SUMMARY:Friday Teen & Family Night (7-11pm) $12 for Full hours+Sports and $9 for 2 hours+Sports and FREE Karaoke for All Lady Jumpers
DESCRIPTION:
URL:https://www.jumpusapark.com/event/friday-teen-family-night-7-11pm-12-full-hourssports-9-2-hourssports-free-karaoke-lady-jumpers-3/
END:VEVENT
BEGIN:VEVENT
DTSTART;TZID=America/New_York:20180824T100000
DTEND;TZID=America/New_York:20180826T220000
DTSTAMP:20260425T113317
CREATED:20180809T000231Z
LAST-MODIFIED:20180809T000231Z
UID:8064-1535104800-1535320800@www.jumpusapark.com
SUMMARY:Weekend 3+ Jumpers Group Special! 2Hours+Sports for $11 per Jumper\, 1Hour+Ride+Sports for $12 per Jumper\, 2Hours+Ride+Sports for $16 per Jumper
DESCRIPTION:
URL:https://www.jumpusapark.com/event/weekend-3-jumpers-group-special-2hourssports-11-per-jumper-1hourridesports-12-per-jumper-2hoursridesports-16-per-jumper-29/
END:VEVENT
BEGIN:VEVENT
DTSTART;TZID=America/New_York:20180820T110000
DTEND;TZID=America/New_York:20180823T210000
DTSTAMP:20260425T113317
CREATED:20180808T235736Z
LAST-MODIFIED:20180808T235736Z
UID:8050-1534762800-1535058000@www.jumpusapark.com
SUMMARY:Mon-Thursday Special! $9 for 2Hours+Sports\, $11 for 1Hour+Ride+Sports\, $14 for 2Hours+Ride+Sports
DESCRIPTION:
URL:https://www.jumpusapark.com/event/mon-thursday-special-9-2hourssports-11-1hourridesports-14-2hoursridesports-31/
END:VEVENT
BEGIN:VEVENT
DTSTART;TZID=America/New_York:20180818T200000
DTEND;TZID=America/New_York:20180819T220000
DTSTAMP:20260425T113317
CREATED:20180809T000802Z
LAST-MODIFIED:20180809T000802Z
UID:8082-1534622400-1534716000@www.jumpusapark.com
SUMMARY:Weekend Family Night Special (Saturday\, Sunday) 8pm - 10pm $9 for 2 Hours+Sports and FREE Karaoke for All Lady Jumpers
DESCRIPTION:
URL:https://www.jumpusapark.com/event/weekend-family-night-special-saturday-sunday-8pm-10pm-9-2-hourssports-free-karaoke-lady-jumpers-29/
END:VEVENT
BEGIN:VEVENT
DTSTART;TZID=America/New_York:20180817T190000
DTEND;TZID=America/New_York:20180817T230000
DTSTAMP:20260425T113317
CREATED:20180809T000520Z
LAST-MODIFIED:20180809T000520Z
UID:8072-1534532400-1534546800@www.jumpusapark.com
SUMMARY:Friday Teen & Family Night (7-11pm) $12 for Full hours+Sports and $9 for 2 hours+Sports and FREE Karaoke for All Lady Jumpers
DESCRIPTION:
URL:https://www.jumpusapark.com/event/friday-teen-family-night-7-11pm-12-full-hourssports-9-2-hourssports-free-karaoke-lady-jumpers-2/
END:VEVENT
BEGIN:VEVENT
DTSTART;TZID=America/New_York:20180817T100000
DTEND;TZID=America/New_York:20180819T220000
DTSTAMP:20260425T113317
CREATED:20180809T000205Z
LAST-MODIFIED:20180809T000205Z
UID:8062-1534500000-1534716000@www.jumpusapark.com
SUMMARY:Weekend 3+ Jumpers Group Special! 2Hours+Sports for $11 per Jumper\, 1Hour+Ride+Sports for $12 per Jumper\, 2Hours+Ride+Sports for $16 per Jumper
DESCRIPTION:
URL:https://www.jumpusapark.com/event/weekend-3-jumpers-group-special-2hourssports-11-per-jumper-1hourridesports-12-per-jumper-2hoursridesports-16-per-jumper-28/
END:VEVENT
BEGIN:VEVENT
DTSTART;TZID=America/New_York:20180813T100000
DTEND;TZID=America/New_York:20180816T210000
DTSTAMP:20260425T113317
CREATED:20180715T230953Z
LAST-MODIFIED:20180715T230953Z
UID:8014-1534154400-1534453200@www.jumpusapark.com
SUMMARY:Mon-Thursday Special! $9 for 2Hours+Sports\, $11 for 1Hour+Ride+Sports\, $14 for 2Hours+Ride+Sports
DESCRIPTION:
URL:https://www.jumpusapark.com/event/mon-thursday-special-9-2hourssports-11-1hourridesports-14-2hoursridesports-30/
END:VEVENT
BEGIN:VEVENT
DTSTART;TZID=America/New_York:20180811T200000
DTEND;TZID=America/New_York:20180812T230000
DTSTAMP:20260425T113317
CREATED:20180715T232018Z
LAST-MODIFIED:20180715T232018Z
UID:8038-1534017600-1534114800@www.jumpusapark.com
SUMMARY:Weekend Family Night Special (Saturday\, Sunday) 8pm - 10pm $9 for 2 Hours+Sports and FREE Karaoke for All Lady Jumpers
DESCRIPTION:
URL:https://www.jumpusapark.com/event/weekend-family-night-special-saturday-sunday-8pm-10pm-9-2-hourssports-free-karaoke-lady-jumpers-27/
END:VEVENT
BEGIN:VEVENT
DTSTART;TZID=America/New_York:20180811T200000
DTEND;TZID=America/New_York:20180812T220000
DTSTAMP:20260425T113317
CREATED:20180809T000733Z
LAST-MODIFIED:20180809T000733Z
UID:8080-1534017600-1534111200@www.jumpusapark.com
SUMMARY:Weekend Family Night Special (Saturday\, Sunday) 8pm - 10pm $9 for 2 Hours+Sports and FREE Karaoke for All Lady Jumpers
DESCRIPTION:
URL:https://www.jumpusapark.com/event/weekend-family-night-special-saturday-sunday-8pm-10pm-9-2-hourssports-free-karaoke-lady-jumpers-28/
END:VEVENT
BEGIN:VEVENT
DTSTART;TZID=America/New_York:20180810T190000
DTEND;TZID=America/New_York:20180810T230000
DTSTAMP:20260425T113317
CREATED:20180809T000444Z
LAST-MODIFIED:20180809T000444Z
UID:8070-1533927600-1533942000@www.jumpusapark.com
SUMMARY:Friday Teen & Family Night (7-11pm) $12 for Full hours+Sports and $9 for 2 hours+Sports and FREE Karaoke for All Lady Jumpers
DESCRIPTION:
URL:https://www.jumpusapark.com/event/friday-teen-family-night-7-11pm-12-full-hourssports-9-2-hourssports-free-karaoke-lady-jumpers/
END:VEVENT
BEGIN:VEVENT
DTSTART;TZID=America/New_York:20180810T190000
DTEND;TZID=America/New_York:20180810T230000
DTSTAMP:20260425T113317
CREATED:20180715T231726Z
LAST-MODIFIED:20180715T231726Z
UID:8028-1533927600-1533942000@www.jumpusapark.com
SUMMARY:Friday Teen Night (7-11pm) $12 for Full hours+Sports and $9 for 2 hours+Sports and FREE Karaoke for All Lady Jumpers
DESCRIPTION:
URL:https://www.jumpusapark.com/event/friday-teen-night-7-11pm-12-full-hourssports-9-2-hourssports-free-karaoke-lady-jumpers-25/
END:VEVENT
BEGIN:VEVENT
DTSTART;TZID=America/New_York:20180810T100000
DTEND;TZID=America/New_York:20180812T220000
DTSTAMP:20260425T113317
CREATED:20180809T000143Z
LAST-MODIFIED:20180809T000143Z
UID:8060-1533895200-1534111200@www.jumpusapark.com
SUMMARY:Weekend 3+ Jumpers Group Special! 2Hours+Sports for $11 per Jumper\, 1Hour+Ride+Sports for $12 per Jumper\, 2Hours+Ride+Sports for $16 per Jumper
DESCRIPTION:
URL:https://www.jumpusapark.com/event/weekend-3-jumpers-group-special-2hourssports-11-per-jumper-1hourridesports-12-per-jumper-2hoursridesports-16-per-jumper-27/
END:VEVENT
BEGIN:VEVENT
DTSTART;TZID=America/New_York:20180806T100000
DTEND;TZID=America/New_York:20180809T210000
DTSTAMP:20260425T113317
CREATED:20180715T230903Z
LAST-MODIFIED:20180715T230903Z
UID:8012-1533549600-1533848400@www.jumpusapark.com
SUMMARY:Mon-Thursday Special! $9 for 2Hours+Sports\, $11 for 1Hour+Ride+Sports\, $14 for 2Hours+Ride+Sports
DESCRIPTION:
URL:https://www.jumpusapark.com/event/mon-thursday-special-9-2hourssports-11-1hourridesports-14-2hoursridesports-29/
END:VEVENT
BEGIN:VEVENT
DTSTART;TZID=America/New_York:20180804T200000
DTEND;TZID=America/New_York:20180805T220000
DTSTAMP:20260425T113317
CREATED:20180715T231950Z
LAST-MODIFIED:20180715T231950Z
UID:8036-1533412800-1533506400@www.jumpusapark.com
SUMMARY:Weekend Family Night Special (Saturday\, Sunday) 8pm - 10pm $9 for 2 Hours+Sports and FREE Karaoke for All Lady Jumpers
DESCRIPTION:
URL:https://www.jumpusapark.com/event/weekend-family-night-special-saturday-sunday-8pm-10pm-9-2-hourssports-free-karaoke-lady-jumpers-26/
END:VEVENT
BEGIN:VEVENT
DTSTART;TZID=America/New_York:20180803T190000
DTEND;TZID=America/New_York:20180803T230000
DTSTAMP:20260425T113317
CREATED:20180715T231659Z
LAST-MODIFIED:20180715T231659Z
UID:8026-1533322800-1533337200@www.jumpusapark.com
SUMMARY:Friday Teen Night (7-11pm) $12 for Full hours+Sports and $9 for 2 hours+Sports and FREE Karaoke for All Lady Jumpers
DESCRIPTION:
URL:https://www.jumpusapark.com/event/friday-teen-night-7-11pm-12-full-hourssports-9-2-hourssports-free-karaoke-lady-jumpers-24/
END:VEVENT
END:VCALENDAR