BEGIN:VCALENDAR
VERSION:2.0
PRODID:-//JUMP PARTY USA - ECPv6.15.20//NONSGML v1.0//EN
CALSCALE:GREGORIAN
METHOD:PUBLISH
X-WR-CALNAME:JUMP PARTY USA
X-ORIGINAL-URL:https://www.jumpusapark.com
X-WR-CALDESC:Events for JUMP PARTY USA
REFRESH-INTERVAL;VALUE=DURATION:PT1H
X-Robots-Tag:noindex
X-PUBLISHED-TTL:PT1H
BEGIN:VTIMEZONE
TZID:America/New_York
BEGIN:DAYLIGHT
TZOFFSETFROM:-0500
TZOFFSETTO:-0400
TZNAME:EDT
DTSTART:20180311T070000
END:DAYLIGHT
BEGIN:STANDARD
TZOFFSETFROM:-0400
TZOFFSETTO:-0500
TZNAME:EST
DTSTART:20181104T060000
END:STANDARD
BEGIN:DAYLIGHT
TZOFFSETFROM:-0500
TZOFFSETTO:-0400
TZNAME:EDT
DTSTART:20190310T070000
END:DAYLIGHT
BEGIN:STANDARD
TZOFFSETFROM:-0400
TZOFFSETTO:-0500
TZNAME:EST
DTSTART:20191103T060000
END:STANDARD
BEGIN:DAYLIGHT
TZOFFSETFROM:-0500
TZOFFSETTO:-0400
TZNAME:EDT
DTSTART:20200308T070000
END:DAYLIGHT
BEGIN:STANDARD
TZOFFSETFROM:-0400
TZOFFSETTO:-0500
TZNAME:EST
DTSTART:20201101T060000
END:STANDARD
END:VTIMEZONE
BEGIN:VEVENT
DTSTART;TZID=America/New_York:20190524T180000
DTEND;TZID=America/New_York:20190524T230000
DTSTAMP:20260425T093227
CREATED:20190513T224557Z
LAST-MODIFIED:20190513T224557Z
UID:8401-1558720800-1558738800@www.jumpusapark.com
SUMMARY:Friday Sports Night (6-11pm) $15 for Full hours+Sports and $10 for 2 hours+Sports and FREE Karaoke for All Lady Jumpers
DESCRIPTION:
URL:https://www.jumpusapark.com/event/friday-sports-night-6-11pm-15-full-hourssports-10-2-hourssports-free-karaoke-lady-jumpers-2/
END:VEVENT
BEGIN:VEVENT
DTSTART;TZID=America/New_York:20190525T200000
DTEND;TZID=America/New_York:20190526T220000
DTSTAMP:20260425T093227
CREATED:20190513T224909Z
LAST-MODIFIED:20190513T224909Z
UID:8412-1558814400-1558908000@www.jumpusapark.com
SUMMARY:Weekend Family Night Special (Saturday\, Sunday) 8pm - 10pm $10 for 2 Hours+Sports and FREE Karaoke for All Lady Jumpers
DESCRIPTION:
URL:https://www.jumpusapark.com/event/weekend-family-night-special-saturday-sunday-8pm-10pm-10-2-hourssports-free-karaoke-lady-jumpers-3/
END:VEVENT
BEGIN:VEVENT
DTSTART;TZID=America/New_York:20190527T100000
DTEND;TZID=America/New_York:20190530T210000
DTSTAMP:20260425T093227
CREATED:20190513T224059Z
LAST-MODIFIED:20190513T224112Z
UID:8387-1558951200-1559250000@www.jumpusapark.com
SUMMARY:Mon-Thursday Special! $10 for 2Hours+Sports\, $15 for 2Hours+Ride+Sports
DESCRIPTION:
URL:https://www.jumpusapark.com/event/mon-thursday-special-10-2hourssports-15-2hoursridesports-3/
END:VEVENT
BEGIN:VEVENT
DTSTART;TZID=America/New_York:20190531T100000
DTEND;TZID=America/New_York:20190602T230000
DTSTAMP:20260425T093227
CREATED:20190513T224440Z
LAST-MODIFIED:20190513T224440Z
UID:8397-1559296800-1559516400@www.jumpusapark.com
SUMMARY:Weekend 3+ Jumpers Group Special! 2Hours+Sports for $12 per Jumper\, 2Hours+Ride+Sports for $17 per Jumper
DESCRIPTION:
URL:https://www.jumpusapark.com/event/weekend-3-jumpers-group-special-2hourssports-12-per-jumper-2hoursridesports-17-per-jumper-4/
END:VEVENT
BEGIN:VEVENT
DTSTART;TZID=America/New_York:20190531T180000
DTEND;TZID=America/New_York:20190531T230000
DTSTAMP:20260425T093227
CREATED:20190513T224622Z
LAST-MODIFIED:20190513T224622Z
UID:8403-1559325600-1559343600@www.jumpusapark.com
SUMMARY:Friday Sports Night (6-11pm) $15 for Full hours+Sports and $10 for 2 hours+Sports and FREE Karaoke for All Lady Jumpers
DESCRIPTION:
URL:https://www.jumpusapark.com/event/friday-sports-night-6-11pm-15-full-hourssports-10-2-hourssports-free-karaoke-lady-jumpers-3/
END:VEVENT
BEGIN:VEVENT
DTSTART;TZID=America/New_York:20190601T200000
DTEND;TZID=America/New_York:20190602T220000
DTSTAMP:20260425T093227
CREATED:20190513T224958Z
LAST-MODIFIED:20190513T224958Z
UID:8414-1559419200-1559512800@www.jumpusapark.com
SUMMARY:Weekend Family Night Special (Saturday\, Sunday) 8pm - 10pm $10 for 2 Hours+Sports and FREE Karaoke for All Lady Jumpers
DESCRIPTION:
URL:https://www.jumpusapark.com/event/weekend-family-night-special-saturday-sunday-8pm-10pm-10-2-hourssports-free-karaoke-lady-jumpers-4/
END:VEVENT
BEGIN:VEVENT
DTSTART;TZID=America/New_York:20190603T100000
DTEND;TZID=America/New_York:20190606T210000
DTSTAMP:20260425T093227
CREATED:20190513T224155Z
LAST-MODIFIED:20190513T224155Z
UID:8389-1559556000-1559854800@www.jumpusapark.com
SUMMARY:Mon-Thursday Special! $10 for 2Hours+Sports\, $15 for 2Hours+Ride+Sports
DESCRIPTION:
URL:https://www.jumpusapark.com/event/mon-thursday-special-10-2hourssports-15-2hoursridesports-4/
END:VEVENT
BEGIN:VEVENT
DTSTART;TZID=America/New_York:20190607T180000
DTEND;TZID=America/New_York:20190607T230000
DTSTAMP:20260425T093227
CREATED:20190513T224716Z
LAST-MODIFIED:20190513T224716Z
UID:8406-1559930400-1559948400@www.jumpusapark.com
SUMMARY:Friday Sports Night (6-11pm) $15 for Full hours+Sports and $10 for 2 hours+Sports and FREE Karaoke for All Lady Jumpers
DESCRIPTION:
URL:https://www.jumpusapark.com/event/friday-sports-night-6-11pm-15-full-hourssports-10-2-hourssports-free-karaoke-lady-jumpers-4/
END:VEVENT
BEGIN:VEVENT
DTSTART;TZID=America/New_York:20190608T200000
DTEND;TZID=America/New_York:20190609T220000
DTSTAMP:20260425T093227
CREATED:20190513T225024Z
LAST-MODIFIED:20190513T225024Z
UID:8416-1560024000-1560117600@www.jumpusapark.com
SUMMARY:Weekend Family Night Special (Saturday\, Sunday) 8pm - 10pm $10 for 2 Hours+Sports and FREE Karaoke for All Lady Jumpers
DESCRIPTION:
URL:https://www.jumpusapark.com/event/weekend-family-night-special-saturday-sunday-8pm-10pm-10-2-hourssports-free-karaoke-lady-jumpers-5/
END:VEVENT
BEGIN:VEVENT
DTSTART;TZID=America/New_York:20190610T100000
DTEND;TZID=America/New_York:20190613T210000
DTSTAMP:20260425T093227
CREATED:20190513T224229Z
LAST-MODIFIED:20190513T224229Z
UID:8391-1560160800-1560459600@www.jumpusapark.com
SUMMARY:Mon-Thursday Special! $10 for 2Hours+Sports\, $15 for 2Hours+Ride+Sports
DESCRIPTION:
URL:https://www.jumpusapark.com/event/mon-thursday-special-10-2hourssports-15-2hoursridesports-5/
END:VEVENT
BEGIN:VEVENT
DTSTART;TZID=America/New_York:20190610T100000
DTEND;TZID=America/New_York:20190613T210000
DTSTAMP:20260425T093227
CREATED:20190608T001551Z
LAST-MODIFIED:20190608T001551Z
UID:8460-1560160800-1560459600@www.jumpusapark.com
SUMMARY:Mon-Thursday Special! $10 for 2Hours+Sports\, $15 for 2Hours+Ride+Sports
DESCRIPTION:
URL:https://www.jumpusapark.com/event/mon-thursday-special-10-2hourssports-15-2hoursridesports-9/
END:VEVENT
BEGIN:VEVENT
DTSTART;TZID=America/New_York:20190614T100000
DTEND;TZID=America/New_York:20190616T230000
DTSTAMP:20260425T093227
CREATED:20190608T002325Z
LAST-MODIFIED:20190608T002325Z
UID:8475-1560506400-1560726000@www.jumpusapark.com
SUMMARY:Weekend 3+ Group Special! 2Hours+Sports for $12 per Jumper\, 2Hours+Ride+Sports for $17 per Jumper
DESCRIPTION:
URL:https://www.jumpusapark.com/event/weekend-3-group-special-2hourssports-12-per-jumper-2hoursridesports-17-per-jumper/
END:VEVENT
BEGIN:VEVENT
DTSTART;TZID=America/New_York:20190614T180000
DTEND;TZID=America/New_York:20190614T230000
DTSTAMP:20260425T093227
CREATED:20190513T224743Z
LAST-MODIFIED:20190513T224743Z
UID:8408-1560535200-1560553200@www.jumpusapark.com
SUMMARY:Friday Sports Night (6-11pm) $15 for Full hours+Sports and $10 for 2 hours+Sports and FREE Karaoke for All Lady Jumpers
DESCRIPTION:
URL:https://www.jumpusapark.com/event/friday-sports-night-6-11pm-15-full-hourssports-10-2-hourssports-free-karaoke-lady-jumpers-5/
END:VEVENT
BEGIN:VEVENT
DTSTART;TZID=America/New_York:20190615T200000
DTEND;TZID=America/New_York:20190616T220000
DTSTAMP:20260425T093227
CREATED:20190608T001848Z
LAST-MODIFIED:20190608T001848Z
UID:8465-1560628800-1560722400@www.jumpusapark.com
SUMMARY:Family Sports Night (Saturday\, Sunday) 8pm - Close(10/11pm) $10 for 2 Hours
DESCRIPTION:
URL:https://www.jumpusapark.com/event/family-sports-night-saturday-sunday-8pm-close1011pm-10-2-hours/
END:VEVENT
BEGIN:VEVENT
DTSTART;TZID=America/New_York:20190617T100000
DTEND;TZID=America/New_York:20190620T210000
DTSTAMP:20260425T093227
CREATED:20190608T001402Z
LAST-MODIFIED:20190608T001402Z
UID:8454-1560765600-1561064400@www.jumpusapark.com
SUMMARY:Mon-Thursday Special! $10 for 2Hours+Sports\, $15 for 2Hours+Ride+Sports
DESCRIPTION:
URL:https://www.jumpusapark.com/event/mon-thursday-special-10-2hourssports-15-2hoursridesports-6/
END:VEVENT
BEGIN:VEVENT
DTSTART;TZID=America/New_York:20190621T100000
DTEND;TZID=America/New_York:20190623T230000
DTSTAMP:20260425T093227
CREATED:20190608T002355Z
LAST-MODIFIED:20190608T002355Z
UID:8477-1561111200-1561330800@www.jumpusapark.com
SUMMARY:Weekend 3+ Group Special! 2Hours+Sports for $12 per Jumper\, 2Hours+Ride+Sports for $17 per Jumper
DESCRIPTION:
URL:https://www.jumpusapark.com/event/weekend-3-group-special-2hourssports-12-per-jumper-2hoursridesports-17-per-jumper-2/
END:VEVENT
BEGIN:VEVENT
DTSTART;TZID=America/New_York:20190621T180000
DTEND;TZID=America/New_York:20190621T230000
DTSTAMP:20260425T093227
CREATED:20190608T001045Z
LAST-MODIFIED:20190608T001045Z
UID:8445-1561140000-1561158000@www.jumpusapark.com
SUMMARY:Friday Sports Night (6-11pm) $15 for Full hours and $10 for 2 hours
DESCRIPTION:
URL:https://www.jumpusapark.com/event/friday-sports-night-6-11pm-15-full-hours-10-2-hours/
END:VEVENT
BEGIN:VEVENT
DTSTART;TZID=America/New_York:20190622T200000
DTEND;TZID=America/New_York:20190623T220000
DTSTAMP:20260425T093227
CREATED:20190608T001919Z
LAST-MODIFIED:20190608T001919Z
UID:8467-1561233600-1561327200@www.jumpusapark.com
SUMMARY:Family Sports Night (Saturday\, Sunday) 8pm - Close(10/11pm) $10 for 2 Hours
DESCRIPTION:
URL:https://www.jumpusapark.com/event/family-sports-night-saturday-sunday-8pm-close1011pm-10-2-hours-2/
END:VEVENT
BEGIN:VEVENT
DTSTART;TZID=America/New_York:20190624T100000
DTEND;TZID=America/New_York:20190627T210000
DTSTAMP:20260425T093227
CREATED:20190608T001429Z
LAST-MODIFIED:20190608T001429Z
UID:8456-1561370400-1561669200@www.jumpusapark.com
SUMMARY:Mon-Thursday Special! $10 for 2Hours+Sports\, $15 for 2Hours+Ride+Sports
DESCRIPTION:
URL:https://www.jumpusapark.com/event/mon-thursday-special-10-2hourssports-15-2hoursridesports-7/
END:VEVENT
BEGIN:VEVENT
DTSTART;TZID=America/New_York:20190628T100000
DTEND;TZID=America/New_York:20190630T230000
DTSTAMP:20260425T093227
CREATED:20190608T002422Z
LAST-MODIFIED:20190608T002422Z
UID:8479-1561716000-1561935600@www.jumpusapark.com
SUMMARY:Weekend 3+ Group Special! 2Hours+Sports for $12 per Jumper\, 2Hours+Ride+Sports for $17 per Jumper
DESCRIPTION:
URL:https://www.jumpusapark.com/event/weekend-3-group-special-2hourssports-12-per-jumper-2hoursridesports-17-per-jumper-3/
END:VEVENT
BEGIN:VEVENT
DTSTART;TZID=America/New_York:20190628T180000
DTEND;TZID=America/New_York:20190628T230000
DTSTAMP:20260425T093227
CREATED:20190608T001124Z
LAST-MODIFIED:20190608T001124Z
UID:8447-1561744800-1561762800@www.jumpusapark.com
SUMMARY:Friday Sports Night (6-11pm) $15 for Full hours and $10 for 2 hours
DESCRIPTION:
URL:https://www.jumpusapark.com/event/friday-sports-night-6-11pm-15-full-hours-10-2-hours-2/
END:VEVENT
BEGIN:VEVENT
DTSTART;TZID=America/New_York:20190629T200000
DTEND;TZID=America/New_York:20190630T220000
DTSTAMP:20260425T093227
CREATED:20190608T002008Z
LAST-MODIFIED:20190608T002008Z
UID:8469-1561838400-1561932000@www.jumpusapark.com
SUMMARY:Family Sports Night (Saturday\, Sunday) 8pm - Close(10/11pm) $10 for 2 Hours
DESCRIPTION:
URL:https://www.jumpusapark.com/event/family-sports-night-saturday-sunday-8pm-close1011pm-10-2-hours-3/
END:VEVENT
BEGIN:VEVENT
DTSTART;TZID=America/New_York:20190701T100000
DTEND;TZID=America/New_York:20190704T210000
DTSTAMP:20260425T093227
CREATED:20190608T001515Z
LAST-MODIFIED:20190608T001515Z
UID:8458-1561975200-1562274000@www.jumpusapark.com
SUMMARY:Mon-Thursday Special! $10 for 2Hours+Sports\, $15 for 2Hours+Ride+Sports
DESCRIPTION:
URL:https://www.jumpusapark.com/event/mon-thursday-special-10-2hourssports-15-2hoursridesports-8/
END:VEVENT
BEGIN:VEVENT
DTSTART;TZID=America/New_York:20190705T100000
DTEND;TZID=America/New_York:20190707T230000
DTSTAMP:20260425T093227
CREATED:20190608T002449Z
LAST-MODIFIED:20190608T002449Z
UID:8481-1562320800-1562540400@www.jumpusapark.com
SUMMARY:Weekend 3+ Group Special! 2Hours+Sports for $12 per Jumper\, 2Hours+Ride+Sports for $17 per Jumper
DESCRIPTION:
URL:https://www.jumpusapark.com/event/weekend-3-group-special-2hourssports-12-per-jumper-2hoursridesports-17-per-jumper-4/
END:VEVENT
BEGIN:VEVENT
DTSTART;TZID=America/New_York:20190705T180000
DTEND;TZID=America/New_York:20190705T230000
DTSTAMP:20260425T093227
CREATED:20190608T001159Z
LAST-MODIFIED:20190608T001159Z
UID:8449-1562349600-1562367600@www.jumpusapark.com
SUMMARY:Friday Sports Night (6-11pm) $15 for Full hours and $10 for 2 hours
DESCRIPTION:
URL:https://www.jumpusapark.com/event/friday-sports-night-6-11pm-15-full-hours-10-2-hours-3/
END:VEVENT
BEGIN:VEVENT
DTSTART;TZID=America/New_York:20190706T200000
DTEND;TZID=America/New_York:20190707T220000
DTSTAMP:20260425T093227
CREATED:20190608T002045Z
LAST-MODIFIED:20190608T002045Z
UID:8471-1562443200-1562536800@www.jumpusapark.com
SUMMARY:Family Sports Night (Saturday\, Sunday) 8pm - Close(10/11pm) $10 for 2 Hours
DESCRIPTION:
URL:https://www.jumpusapark.com/event/family-sports-night-saturday-sunday-8pm-close1011pm-10-2-hours-4/
END:VEVENT
BEGIN:VEVENT
DTSTART;TZID=America/New_York:20190708T100000
DTEND;TZID=America/New_York:20190711T210000
DTSTAMP:20260425T093227
CREATED:20190608T001635Z
LAST-MODIFIED:20190608T001635Z
UID:8462-1562580000-1562878800@www.jumpusapark.com
SUMMARY:Mon-Thursday Special! $10 for 2Hours+Sports\, $15 for 2Hours+Ride+Sports
DESCRIPTION:
URL:https://www.jumpusapark.com/event/mon-thursday-special-10-2hourssports-15-2hoursridesports-10/
END:VEVENT
BEGIN:VEVENT
DTSTART;TZID=America/New_York:20190712T100000
DTEND;TZID=America/New_York:20190714T230000
DTSTAMP:20260425T093227
CREATED:20190608T002517Z
LAST-MODIFIED:20190608T002517Z
UID:8483-1562925600-1563145200@www.jumpusapark.com
SUMMARY:Weekend 3+ Group Special! 2Hours+Sports for $12 per Jumper\, 2Hours+Ride+Sports for $17 per Jumper
DESCRIPTION:
URL:https://www.jumpusapark.com/event/weekend-3-group-special-2hourssports-12-per-jumper-2hoursridesports-17-per-jumper-5/
END:VEVENT
BEGIN:VEVENT
DTSTART;TZID=America/New_York:20190712T180000
DTEND;TZID=America/New_York:20190712T230000
DTSTAMP:20260425T093227
CREATED:20190608T001229Z
LAST-MODIFIED:20190608T001229Z
UID:8451-1562954400-1562972400@www.jumpusapark.com
SUMMARY:Friday Sports Night (6-11pm) $15 for Full hours and $10 for 2 hours
DESCRIPTION:
URL:https://www.jumpusapark.com/event/friday-sports-night-6-11pm-15-full-hours-10-2-hours-4/
END:VEVENT
BEGIN:VEVENT
DTSTART;TZID=America/New_York:20190713T200000
DTEND;TZID=America/New_York:20190714T220000
DTSTAMP:20260425T093227
CREATED:20190608T002135Z
LAST-MODIFIED:20190608T002135Z
UID:8473-1563048000-1563141600@www.jumpusapark.com
SUMMARY:Family Sports Night (Saturday\, Sunday) 8pm - Close(10/11pm) $10 for 2 Hours
DESCRIPTION:
URL:https://www.jumpusapark.com/event/family-sports-night-saturday-sunday-8pm-close1011pm-10-2-hours-5/
END:VEVENT
END:VCALENDAR