BEGIN:VCALENDAR
VERSION:2.0
PRODID:-//JUMP PARTY USA - ECPv6.15.20//NONSGML v1.0//EN
CALSCALE:GREGORIAN
METHOD:PUBLISH
X-WR-CALNAME:JUMP PARTY USA
X-ORIGINAL-URL:https://www.jumpusapark.com
X-WR-CALDESC:Events for JUMP PARTY USA
REFRESH-INTERVAL;VALUE=DURATION:PT1H
X-Robots-Tag:noindex
X-PUBLISHED-TTL:PT1H
BEGIN:VTIMEZONE
TZID:America/New_York
BEGIN:DAYLIGHT
TZOFFSETFROM:-0500
TZOFFSETTO:-0400
TZNAME:EDT
DTSTART:20170312T070000
END:DAYLIGHT
BEGIN:STANDARD
TZOFFSETFROM:-0400
TZOFFSETTO:-0500
TZNAME:EST
DTSTART:20171105T060000
END:STANDARD
BEGIN:DAYLIGHT
TZOFFSETFROM:-0500
TZOFFSETTO:-0400
TZNAME:EDT
DTSTART:20180311T070000
END:DAYLIGHT
BEGIN:STANDARD
TZOFFSETFROM:-0400
TZOFFSETTO:-0500
TZNAME:EST
DTSTART:20181104T060000
END:STANDARD
BEGIN:DAYLIGHT
TZOFFSETFROM:-0500
TZOFFSETTO:-0400
TZNAME:EDT
DTSTART:20190310T070000
END:DAYLIGHT
BEGIN:STANDARD
TZOFFSETFROM:-0400
TZOFFSETTO:-0500
TZNAME:EST
DTSTART:20191103T060000
END:STANDARD
END:VTIMEZONE
BEGIN:VEVENT
DTSTART;TZID=America/New_York:20180402T110000
DTEND;TZID=America/New_York:20180405T210000
DTSTAMP:20260425T071406
CREATED:20180305T135214Z
LAST-MODIFIED:20180305T135214Z
UID:7800-1522666800-1522962000@www.jumpusapark.com
SUMMARY:Mon-Thursday Special! $9 for 2Hours+Sports\, $11 for 1Hour+Ride+Sports\, $14 for 2Hours+Ride+Sports
DESCRIPTION:
URL:https://www.jumpusapark.com/event/mon-thursday-special-9-2hourssports-11-1hourridesports-14-2hoursridesports-9/
END:VEVENT
BEGIN:VEVENT
DTSTART;TZID=America/New_York:20180406T190000
DTEND;TZID=America/New_York:20180406T230000
DTSTAMP:20260425T071406
CREATED:20180305T135709Z
LAST-MODIFIED:20180305T135709Z
UID:7808-1523041200-1523055600@www.jumpusapark.com
SUMMARY:Friday Teen Night (7-11pm) $12 for Full hours+Sports and $9 for 2 hours+Sports and FREE Karaoke for All Lady Jumpers
DESCRIPTION:
URL:https://www.jumpusapark.com/event/friday-teen-night-7-11pm-12-full-hourssports-9-2-hourssports-free-karaoke-lady-jumpers-9/
END:VEVENT
BEGIN:VEVENT
DTSTART;TZID=America/New_York:20180407T100000
DTEND;TZID=America/New_York:20180408T220000
DTSTAMP:20260425T071406
CREATED:20180404T004626Z
LAST-MODIFIED:20180404T004626Z
UID:7867-1523095200-1523224800@www.jumpusapark.com
SUMMARY:Weekend 3+ Jumpers Group Special! 2Hours+Sports for $11 per Jumper\, 1Hour+Ride+Sports for $12 per Jumper\, 2Hours+Ride+Sports for $16 per Jumper
DESCRIPTION:
URL:https://www.jumpusapark.com/event/weekend-3-jumpers-group-special-2hourssports-11-per-jumper-1hourridesports-12-per-jumper-2hoursridesports-16-per-jumper-9/
END:VEVENT
BEGIN:VEVENT
DTSTART;TZID=America/New_York:20180407T200000
DTEND;TZID=America/New_York:20180408T220000
DTSTAMP:20260425T071406
CREATED:20180404T004145Z
LAST-MODIFIED:20180404T004145Z
UID:7855-1523131200-1523224800@www.jumpusapark.com
SUMMARY:Weekend Family Night Special (Saturday\, Sunday) 8pm - 10pm $9 for 2 Hours+Sports and FREE Karaoke for All Lady Jumpers
DESCRIPTION:
URL:https://www.jumpusapark.com/event/weekend-family-night-special-saturday-sunday-8pm-10pm-9-2-hourssports-free-karaoke-lady-jumpers-9/
END:VEVENT
BEGIN:VEVENT
DTSTART;TZID=America/New_York:20180409T110000
DTEND;TZID=America/New_York:20180412T210000
DTSTAMP:20260425T071406
CREATED:20180404T003828Z
LAST-MODIFIED:20180404T003828Z
UID:7845-1523271600-1523566800@www.jumpusapark.com
SUMMARY:Mon-Thursday Special! $9 for 2Hours+Sports\, $11 for 1Hour+Ride+Sports\, $14 for 2Hours+Ride+Sports
DESCRIPTION:
URL:https://www.jumpusapark.com/event/mon-thursday-special-9-2hourssports-11-1hourridesports-14-2hoursridesports-10/
END:VEVENT
BEGIN:VEVENT
DTSTART;TZID=America/New_York:20180413T190000
DTEND;TZID=America/New_York:20180413T230000
DTSTAMP:20260425T071406
CREATED:20180404T003523Z
LAST-MODIFIED:20180404T003523Z
UID:7835-1523646000-1523660400@www.jumpusapark.com
SUMMARY:Friday Teen Night (7-11pm) $12 for Full hours+Sports and $9 for 2 hours+Sports and FREE Karaoke for All Lady Jumpers
DESCRIPTION:
URL:https://www.jumpusapark.com/event/friday-teen-night-7-11pm-12-full-hourssports-9-2-hourssports-free-karaoke-lady-jumpers-10/
END:VEVENT
BEGIN:VEVENT
DTSTART;TZID=America/New_York:20180414T100000
DTEND;TZID=America/New_York:20180415T220000
DTSTAMP:20260425T071406
CREATED:20180404T004646Z
LAST-MODIFIED:20180404T004646Z
UID:7869-1523700000-1523829600@www.jumpusapark.com
SUMMARY:Weekend 3+ Jumpers Group Special! 2Hours+Sports for $11 per Jumper\, 1Hour+Ride+Sports for $12 per Jumper\, 2Hours+Ride+Sports for $16 per Jumper
DESCRIPTION:
URL:https://www.jumpusapark.com/event/weekend-3-jumpers-group-special-2hourssports-11-per-jumper-1hourridesports-12-per-jumper-2hoursridesports-16-per-jumper-10/
END:VEVENT
BEGIN:VEVENT
DTSTART;TZID=America/New_York:20180414T200000
DTEND;TZID=America/New_York:20180415T220000
DTSTAMP:20260425T071406
CREATED:20180404T004213Z
LAST-MODIFIED:20180404T004213Z
UID:7857-1523736000-1523829600@www.jumpusapark.com
SUMMARY:Weekend Family Night Special (Saturday\, Sunday) 8pm - 10pm $9 for 2 Hours+Sports and FREE Karaoke for All Lady Jumpers
DESCRIPTION:
URL:https://www.jumpusapark.com/event/weekend-family-night-special-saturday-sunday-8pm-10pm-9-2-hourssports-free-karaoke-lady-jumpers-10/
END:VEVENT
BEGIN:VEVENT
DTSTART;TZID=America/New_York:20180416T110000
DTEND;TZID=America/New_York:20180419T210000
DTSTAMP:20260425T071406
CREATED:20180404T003902Z
LAST-MODIFIED:20180404T003902Z
UID:7847-1523876400-1524171600@www.jumpusapark.com
SUMMARY:Mon-Thursday Special! $9 for 2Hours+Sports\, $11 for 1Hour+Ride+Sports\, $14 for 2Hours+Ride+Sports
DESCRIPTION:
URL:https://www.jumpusapark.com/event/mon-thursday-special-9-2hourssports-11-1hourridesports-14-2hoursridesports-11/
END:VEVENT
BEGIN:VEVENT
DTSTART;TZID=America/New_York:20180420T190000
DTEND;TZID=America/New_York:20180420T230000
DTSTAMP:20260425T071406
CREATED:20180404T003546Z
LAST-MODIFIED:20180404T003546Z
UID:7837-1524250800-1524265200@www.jumpusapark.com
SUMMARY:Friday Teen Night (7-11pm) $12 for Full hours+Sports and $9 for 2 hours+Sports and FREE Karaoke for All Lady Jumpers
DESCRIPTION:
URL:https://www.jumpusapark.com/event/friday-teen-night-7-11pm-12-full-hourssports-9-2-hourssports-free-karaoke-lady-jumpers-11/
END:VEVENT
BEGIN:VEVENT
DTSTART;TZID=America/New_York:20180421T100000
DTEND;TZID=America/New_York:20180422T220000
DTSTAMP:20260425T071406
CREATED:20180404T004708Z
LAST-MODIFIED:20180404T004708Z
UID:7871-1524304800-1524434400@www.jumpusapark.com
SUMMARY:Weekend 3+ Jumpers Group Special! 2Hours+Sports for $11 per Jumper\, 1Hour+Ride+Sports for $12 per Jumper\, 2Hours+Ride+Sports for $16 per Jumper
DESCRIPTION:
URL:https://www.jumpusapark.com/event/weekend-3-jumpers-group-special-2hourssports-11-per-jumper-1hourridesports-12-per-jumper-2hoursridesports-16-per-jumper-11/
END:VEVENT
BEGIN:VEVENT
DTSTART;TZID=America/New_York:20180421T200000
DTEND;TZID=America/New_York:20180422T220000
DTSTAMP:20260425T071406
CREATED:20180404T004237Z
LAST-MODIFIED:20180404T004237Z
UID:7859-1524340800-1524434400@www.jumpusapark.com
SUMMARY:Weekend Family Night Special (Saturday\, Sunday) 8pm - 10pm $9 for 2 Hours+Sports and FREE Karaoke for All Lady Jumpers
DESCRIPTION:
URL:https://www.jumpusapark.com/event/weekend-family-night-special-saturday-sunday-8pm-10pm-9-2-hourssports-free-karaoke-lady-jumpers-11/
END:VEVENT
BEGIN:VEVENT
DTSTART;TZID=America/New_York:20180423T110000
DTEND;TZID=America/New_York:20180426T210000
DTSTAMP:20260425T071406
CREATED:20180404T003932Z
LAST-MODIFIED:20180404T003932Z
UID:7849-1524481200-1524776400@www.jumpusapark.com
SUMMARY:Mon-Thursday Special! $9 for 2Hours+Sports\, $11 for 1Hour+Ride+Sports\, $14 for 2Hours+Ride+Sports
DESCRIPTION:
URL:https://www.jumpusapark.com/event/mon-thursday-special-9-2hourssports-11-1hourridesports-14-2hoursridesports-12/
END:VEVENT
BEGIN:VEVENT
DTSTART;TZID=America/New_York:20180427T190000
DTEND;TZID=America/New_York:20180427T230000
DTSTAMP:20260425T071406
CREATED:20180404T003617Z
LAST-MODIFIED:20180404T003617Z
UID:7839-1524855600-1524870000@www.jumpusapark.com
SUMMARY:Friday Teen Night (7-11pm) $12 for Full hours+Sports and $9 for 2 hours+Sports and FREE Karaoke for All Lady Jumpers
DESCRIPTION:
URL:https://www.jumpusapark.com/event/friday-teen-night-7-11pm-12-full-hourssports-9-2-hourssports-free-karaoke-lady-jumpers-12/
END:VEVENT
BEGIN:VEVENT
DTSTART;TZID=America/New_York:20180428T100000
DTEND;TZID=America/New_York:20180429T220000
DTSTAMP:20260425T071406
CREATED:20180404T004733Z
LAST-MODIFIED:20180404T004733Z
UID:7873-1524909600-1525039200@www.jumpusapark.com
SUMMARY:Weekend 3+ Jumpers Group Special! 2Hours+Sports for $11 per Jumper\, 1Hour+Ride+Sports for $12 per Jumper\, 2Hours+Ride+Sports for $16 per Jumper
DESCRIPTION:
URL:https://www.jumpusapark.com/event/weekend-3-jumpers-group-special-2hourssports-11-per-jumper-1hourridesports-12-per-jumper-2hoursridesports-16-per-jumper-12/
END:VEVENT
BEGIN:VEVENT
DTSTART;TZID=America/New_York:20180428T200000
DTEND;TZID=America/New_York:20180429T220000
DTSTAMP:20260425T071406
CREATED:20180404T004306Z
LAST-MODIFIED:20180404T004306Z
UID:7861-1524945600-1525039200@www.jumpusapark.com
SUMMARY:Weekend Family Night Special (Saturday\, Sunday) 8pm - 10pm $9 for 2 Hours+Sports and FREE Karaoke for All Lady Jumpers
DESCRIPTION:
URL:https://www.jumpusapark.com/event/weekend-family-night-special-saturday-sunday-8pm-10pm-9-2-hourssports-free-karaoke-lady-jumpers-12/
END:VEVENT
BEGIN:VEVENT
DTSTART;TZID=America/New_York:20180430T110000
DTEND;TZID=America/New_York:20180503T210000
DTSTAMP:20260425T071406
CREATED:20180404T004001Z
LAST-MODIFIED:20180404T004001Z
UID:7851-1525086000-1525381200@www.jumpusapark.com
SUMMARY:Mon-Thursday Special! $9 for 2Hours+Sports\, $11 for 1Hour+Ride+Sports\, $14 for 2Hours+Ride+Sports
DESCRIPTION:
URL:https://www.jumpusapark.com/event/mon-thursday-special-9-2hourssports-11-1hourridesports-14-2hoursridesports-13/
END:VEVENT
BEGIN:VEVENT
DTSTART;TZID=America/New_York:20180504T100000
DTEND;TZID=America/New_York:20180504T180000
DTSTAMP:20260425T071406
CREATED:20180502T003819Z
LAST-MODIFIED:20180502T003819Z
UID:7926-1525428000-1525456800@www.jumpusapark.com
SUMMARY:Weekend 3+ Jumpers Group Special! 2Hours+Sports for $11 per Jumper\, 1Hour+Ride+Sports for $12 per Jumper\, 2Hours+Ride+Sports for $16 per Jumper
DESCRIPTION:
URL:https://www.jumpusapark.com/event/weekend-3-jumpers-group-special-2hourssports-11-per-jumper-1hourridesports-12-per-jumper-2hoursridesports-16-per-jumper-13/
END:VEVENT
BEGIN:VEVENT
DTSTART;TZID=America/New_York:20180504T190000
DTEND;TZID=America/New_York:20180504T230000
DTSTAMP:20260425T071406
CREATED:20180404T003641Z
LAST-MODIFIED:20180404T003641Z
UID:7841-1525460400-1525474800@www.jumpusapark.com
SUMMARY:Friday Teen Night (7-11pm) $12 for Full hours+Sports and $9 for 2 hours+Sports and FREE Karaoke for All Lady Jumpers
DESCRIPTION:
URL:https://www.jumpusapark.com/event/friday-teen-night-7-11pm-12-full-hourssports-9-2-hourssports-free-karaoke-lady-jumpers-13/
END:VEVENT
BEGIN:VEVENT
DTSTART;TZID=America/New_York:20180505T100000
DTEND;TZID=America/New_York:20180505T230000
DTSTAMP:20260425T071406
CREATED:20180502T001125Z
LAST-MODIFIED:20180502T001125Z
UID:7888-1525514400-1525561200@www.jumpusapark.com
SUMMARY:Cinco de Mayo 5/5 Saturday Specials! $9 for 2hours+sports\, $11 for 1hour+ride+sports\, $14 for 2hours+ride+sports
DESCRIPTION:
URL:https://www.jumpusapark.com/event/cinco-de-mayo-55-saturday-specials-9-2hourssports-11-1hourridesports-14-2hoursridesports/
END:VEVENT
BEGIN:VEVENT
DTSTART;TZID=America/New_York:20180505T200000
DTEND;TZID=America/New_York:20180506T220000
DTSTAMP:20260425T071406
CREATED:20180404T004333Z
LAST-MODIFIED:20180404T004333Z
UID:7863-1525550400-1525644000@www.jumpusapark.com
SUMMARY:Weekend Family Night Special (Saturday\, Sunday) 8pm - 10pm $9 for 2 Hours+Sports and FREE Karaoke for All Lady Jumpers
DESCRIPTION:
URL:https://www.jumpusapark.com/event/weekend-family-night-special-saturday-sunday-8pm-10pm-9-2-hourssports-free-karaoke-lady-jumpers-13/
END:VEVENT
BEGIN:VEVENT
DTSTART;TZID=America/New_York:20180506T110000
DTEND;TZID=America/New_York:20180506T220000
DTSTAMP:20260425T071406
CREATED:20180502T003843Z
LAST-MODIFIED:20180502T003843Z
UID:7928-1525604400-1525644000@www.jumpusapark.com
SUMMARY:Weekend 3+ Jumpers Group Special! 2Hours+Sports for $11 per Jumper\, 1Hour+Ride+Sports for $12 per Jumper\, 2Hours+Ride+Sports for $16 per Jumper
DESCRIPTION:
URL:https://www.jumpusapark.com/event/weekend-3-jumpers-group-special-2hourssports-11-per-jumper-1hourridesports-12-per-jumper-2hoursridesports-16-per-jumper-18/
END:VEVENT
BEGIN:VEVENT
DTSTART;TZID=America/New_York:20180507T110000
DTEND;TZID=America/New_York:20180510T210000
DTSTAMP:20260425T071406
CREATED:20180404T004032Z
LAST-MODIFIED:20180404T004032Z
UID:7853-1525690800-1525986000@www.jumpusapark.com
SUMMARY:Mon-Thursday Special! $9 for 2Hours+Sports\, $11 for 1Hour+Ride+Sports\, $14 for 2Hours+Ride+Sports
DESCRIPTION:
URL:https://www.jumpusapark.com/event/mon-thursday-special-9-2hourssports-11-1hourridesports-14-2hoursridesports-14/
END:VEVENT
BEGIN:VEVENT
DTSTART;TZID=America/New_York:20180511T100000
DTEND;TZID=America/New_York:20180512T220000
DTSTAMP:20260425T071406
CREATED:20180502T002637Z
LAST-MODIFIED:20180502T003541Z
UID:7910-1526032800-1526162400@www.jumpusapark.com
SUMMARY:Weekend 3+ Jumpers Group Special! 2Hours+Sports for $11 per Jumper\, 1Hour+Ride+Sports for $12 per Jumper\, 2Hours+Ride+Sports for $16 per Jumper
DESCRIPTION:
URL:https://www.jumpusapark.com/event/weekend-3-jumpers-group-special-2hourssports-11-per-jumper-1hourridesports-12-per-jumper-2hoursridesports-16-per-jumper-14/
END:VEVENT
BEGIN:VEVENT
DTSTART;TZID=America/New_York:20180511T190000
DTEND;TZID=America/New_York:20180511T230000
DTSTAMP:20260425T071406
CREATED:20180404T003719Z
LAST-MODIFIED:20180404T003719Z
UID:7843-1526065200-1526079600@www.jumpusapark.com
SUMMARY:Friday Teen Night (7-11pm) $12 for Full hours+Sports and $9 for 2 hours+Sports and FREE Karaoke for All Lady Jumpers
DESCRIPTION:
URL:https://www.jumpusapark.com/event/friday-teen-night-7-11pm-12-full-hourssports-9-2-hourssports-free-karaoke-lady-jumpers-14/
END:VEVENT
BEGIN:VEVENT
DTSTART;TZID=America/New_York:20180512T200000
DTEND;TZID=America/New_York:20180513T220000
DTSTAMP:20260425T071406
CREATED:20180502T002934Z
LAST-MODIFIED:20180502T002934Z
UID:7918-1526155200-1526248800@www.jumpusapark.com
SUMMARY:Weekend Family Night Special (Saturday\, Sunday) 8pm - 10pm $9 for 2 Hours+Sports and FREE Karaoke for All Lady Jumpers
DESCRIPTION:
URL:https://www.jumpusapark.com/event/weekend-family-night-special-saturday-sunday-8pm-10pm-9-2-hourssports-free-karaoke-lady-jumpers-14/
END:VEVENT
BEGIN:VEVENT
DTSTART;TZID=America/New_York:20180514T110000
DTEND;TZID=America/New_York:20180517T210000
DTSTAMP:20260425T071406
CREATED:20180502T001740Z
LAST-MODIFIED:20180502T001740Z
UID:7896-1526295600-1526590800@www.jumpusapark.com
SUMMARY:Mon-Thursday Special! $9 for 2Hours+Sports\, $11 for 1Hour+Ride+Sports\, $14 for 2Hours+Ride+Sports
DESCRIPTION:
URL:https://www.jumpusapark.com/event/mon-thursday-special-9-2hourssports-11-1hourridesports-14-2hoursridesports-15/
END:VEVENT
BEGIN:VEVENT
DTSTART;TZID=America/New_York:20180518T100000
DTEND;TZID=America/New_York:20180519T220000
DTSTAMP:20260425T071406
CREATED:20180502T002703Z
LAST-MODIFIED:20180502T003457Z
UID:7912-1526637600-1526767200@www.jumpusapark.com
SUMMARY:Weekend 3+ Jumpers Group Special! 2Hours+Sports for $11 per Jumper\, 1Hour+Ride+Sports for $12 per Jumper\, 2Hours+Ride+Sports for $16 per Jumper
DESCRIPTION:
URL:https://www.jumpusapark.com/event/weekend-3-jumpers-group-special-2hourssports-11-per-jumper-1hourridesports-12-per-jumper-2hoursridesports-16-per-jumper-15/
END:VEVENT
BEGIN:VEVENT
DTSTART;TZID=America/New_York:20180518T190000
DTEND;TZID=America/New_York:20180518T230000
DTSTAMP:20260425T071406
CREATED:20180502T001542Z
LAST-MODIFIED:20180502T001542Z
UID:7890-1526670000-1526684400@www.jumpusapark.com
SUMMARY:Friday Teen Night (7-11pm) $12 for Full hours+Sports and $9 for 2 hours+Sports and FREE Karaoke for All Lady Jumpers
DESCRIPTION:
URL:https://www.jumpusapark.com/event/friday-teen-night-7-11pm-12-full-hourssports-9-2-hourssports-free-karaoke-lady-jumpers-15/
END:VEVENT
BEGIN:VEVENT
DTSTART;TZID=America/New_York:20180519T200000
DTEND;TZID=America/New_York:20180520T220000
DTSTAMP:20260425T071406
CREATED:20180502T002958Z
LAST-MODIFIED:20180502T002958Z
UID:7920-1526760000-1526853600@www.jumpusapark.com
SUMMARY:Weekend Family Night Special (Saturday\, Sunday) 8pm - 10pm $9 for 2 Hours+Sports and FREE Karaoke for All Lady Jumpers
DESCRIPTION:
URL:https://www.jumpusapark.com/event/weekend-family-night-special-saturday-sunday-8pm-10pm-9-2-hourssports-free-karaoke-lady-jumpers-15/
END:VEVENT
END:VCALENDAR