BEGIN:VCALENDAR
VERSION:2.0
PRODID:-//JUMP PARTY USA - ECPv6.15.20//NONSGML v1.0//EN
CALSCALE:GREGORIAN
METHOD:PUBLISH
X-WR-CALNAME:JUMP PARTY USA
X-ORIGINAL-URL:https://www.jumpusapark.com
X-WR-CALDESC:Events for JUMP PARTY USA
REFRESH-INTERVAL;VALUE=DURATION:PT1H
X-Robots-Tag:noindex
X-PUBLISHED-TTL:PT1H
BEGIN:VTIMEZONE
TZID:America/New_York
BEGIN:DAYLIGHT
TZOFFSETFROM:-0500
TZOFFSETTO:-0400
TZNAME:EDT
DTSTART:20180311T070000
END:DAYLIGHT
BEGIN:STANDARD
TZOFFSETFROM:-0400
TZOFFSETTO:-0500
TZNAME:EST
DTSTART:20181104T060000
END:STANDARD
BEGIN:DAYLIGHT
TZOFFSETFROM:-0500
TZOFFSETTO:-0400
TZNAME:EDT
DTSTART:20190310T070000
END:DAYLIGHT
BEGIN:STANDARD
TZOFFSETFROM:-0400
TZOFFSETTO:-0500
TZNAME:EST
DTSTART:20191103T060000
END:STANDARD
BEGIN:DAYLIGHT
TZOFFSETFROM:-0500
TZOFFSETTO:-0400
TZNAME:EDT
DTSTART:20200308T070000
END:DAYLIGHT
BEGIN:STANDARD
TZOFFSETFROM:-0400
TZOFFSETTO:-0500
TZNAME:EST
DTSTART:20201101T060000
END:STANDARD
BEGIN:DAYLIGHT
TZOFFSETFROM:-0500
TZOFFSETTO:-0400
TZNAME:EDT
DTSTART:20210314T070000
END:DAYLIGHT
BEGIN:STANDARD
TZOFFSETFROM:-0400
TZOFFSETTO:-0500
TZNAME:EST
DTSTART:20211107T060000
END:STANDARD
END:VTIMEZONE
BEGIN:VEVENT
DTSTART;TZID=America/New_York:20191116T200000
DTEND;TZID=America/New_York:20191117T220000
DTSTAMP:20260425T205324
CREATED:20191108T011639Z
LAST-MODIFIED:20191108T011639Z
UID:8715-1573934400-1574028000@www.jumpusapark.com
SUMMARY:Family FUN Night (Sat\, Sun) 8pm - Close $10 for 2 Hours
DESCRIPTION:
URL:https://www.jumpusapark.com/event/family-fun-night-sat-sun-8pm-close-10-2-hours/
END:VEVENT
BEGIN:VEVENT
DTSTART;TZID=America/New_York:20191118T140000
DTEND;TZID=America/New_York:20191121T210000
DTSTAMP:20260425T205324
CREATED:20191108T010850Z
LAST-MODIFIED:20191108T010850Z
UID:8697-1574085600-1574370000@www.jumpusapark.com
SUMMARY:Mon-Thursday Special! $10 for 2Hours+Sports\, $15 for 2Hours+Ride+Sports
DESCRIPTION:
URL:https://www.jumpusapark.com/event/mon-thursday-special-10-2hourssports-15-2hoursridesports-31/
END:VEVENT
BEGIN:VEVENT
DTSTART;VALUE=DATE:20191122
DTEND;VALUE=DATE:20191125
DTSTAMP:20260425T205324
CREATED:20191108T012102Z
LAST-MODIFIED:20191108T012102Z
UID:8726-1574380800-1574639999@www.jumpusapark.com
SUMMARY:Weekend 3+ Group Special! 2Hours for $12 per Jumper\, 2Hours+Rides for $17 per Jumper
DESCRIPTION:
URL:https://www.jumpusapark.com/event/weekend-3-group-special-2hours-12-per-jumper-2hoursrides-17-per-jumper-2/
END:VEVENT
BEGIN:VEVENT
DTSTART;TZID=America/New_York:20191122T180000
DTEND;TZID=America/New_York:20191122T230000
DTSTAMP:20260425T205324
CREATED:20191108T011328Z
LAST-MODIFIED:20191108T011328Z
UID:8709-1574445600-1574463600@www.jumpusapark.com
SUMMARY:Friday Teen Night (6-11pm) $15 for Full hours and $10 for 2 hours
DESCRIPTION:
URL:https://www.jumpusapark.com/event/friday-teen-night-6-11pm-15-full-hours-10-2-hours-2/
END:VEVENT
BEGIN:VEVENT
DTSTART;TZID=America/New_York:20191123T200000
DTEND;TZID=America/New_York:20191124T220000
DTSTAMP:20260425T205324
CREATED:20191108T011707Z
LAST-MODIFIED:20191108T011707Z
UID:8717-1574539200-1574632800@www.jumpusapark.com
SUMMARY:Family FUN Night (Sat\, Sun) 8pm - Close $10 for 2 Hours
DESCRIPTION:
URL:https://www.jumpusapark.com/event/family-fun-night-sat-sun-8pm-close-10-2-hours-2/
END:VEVENT
BEGIN:VEVENT
DTSTART;TZID=America/New_York:20191125T100000
DTEND;TZID=America/New_York:20191127T210000
DTSTAMP:20260425T205324
CREATED:20191108T010915Z
LAST-MODIFIED:20191108T010915Z
UID:8699-1574676000-1574888400@www.jumpusapark.com
SUMMARY:Mon-Thursday Special! $10 for 2Hours+Sports\, $15 for 2Hours+Ride+Sports
DESCRIPTION:
URL:https://www.jumpusapark.com/event/mon-thursday-special-10-2hourssports-15-2hoursridesports-32/
END:VEVENT
BEGIN:VEVENT
DTSTART;VALUE=DATE:20191129
DTEND;VALUE=DATE:20191202
DTSTAMP:20260425T205324
CREATED:20191108T012132Z
LAST-MODIFIED:20191108T012132Z
UID:8728-1574985600-1575244799@www.jumpusapark.com
SUMMARY:Weekend 3+ Group Special! 2Hours for $12 per Jumper\, 2Hours+Rides for $17 per Jumper
DESCRIPTION:
URL:https://www.jumpusapark.com/event/weekend-3-group-special-2hours-12-per-jumper-2hoursrides-17-per-jumper-3/
END:VEVENT
BEGIN:VEVENT
DTSTART;TZID=America/New_York:20191129T180000
DTEND;TZID=America/New_York:20191129T230000
DTSTAMP:20260425T205324
CREATED:20191108T011352Z
LAST-MODIFIED:20191108T011352Z
UID:8711-1575050400-1575068400@www.jumpusapark.com
SUMMARY:Friday Teen Night (6-11pm) $15 for Full hours and $10 for 2 hours
DESCRIPTION:
URL:https://www.jumpusapark.com/event/friday-teen-night-6-11pm-15-full-hours-10-2-hours-3/
END:VEVENT
BEGIN:VEVENT
DTSTART;TZID=America/New_York:20191130T200000
DTEND;TZID=America/New_York:20191201T220000
DTSTAMP:20260425T205324
CREATED:20191108T011735Z
LAST-MODIFIED:20191108T011735Z
UID:8719-1575144000-1575237600@www.jumpusapark.com
SUMMARY:Family FUN Night (Sat\, Sun) 8pm - Close $10 for 2 Hours
DESCRIPTION:
URL:https://www.jumpusapark.com/event/family-fun-night-sat-sun-8pm-close-10-2-hours-3/
END:VEVENT
BEGIN:VEVENT
DTSTART;TZID=America/New_York:20191202T140000
DTEND;TZID=America/New_York:20191205T210000
DTSTAMP:20260425T205324
CREATED:20191108T010948Z
LAST-MODIFIED:20191201T234730Z
UID:8701-1575295200-1575579600@www.jumpusapark.com
SUMMARY:Mon-Thursday Special! $10.95 for 2Hours+Sports
DESCRIPTION:
URL:https://www.jumpusapark.com/event/mon-thursday-special-10-2hourssports-15-2hoursridesports-33/
END:VEVENT
BEGIN:VEVENT
DTSTART;VALUE=DATE:20191206
DTEND;VALUE=DATE:20191209
DTSTAMP:20260425T205324
CREATED:20191108T012154Z
LAST-MODIFIED:20191201T234649Z
UID:8730-1575590400-1575849599@www.jumpusapark.com
SUMMARY:3+ Group Special! 2Hours for $12.95 per Jumper\, 2Hours+Rides for $17.95 per Jumper
DESCRIPTION:
URL:https://www.jumpusapark.com/event/weekend-3-group-special-2hours-12-per-jumper-2hoursrides-17-per-jumper-4/
END:VEVENT
BEGIN:VEVENT
DTSTART;TZID=America/New_York:20191206T180000
DTEND;TZID=America/New_York:20191206T230000
DTSTAMP:20260425T205324
CREATED:20191108T011429Z
LAST-MODIFIED:20191201T234507Z
UID:8713-1575655200-1575673200@www.jumpusapark.com
SUMMARY:Friday Teen Night (6-11pm) $16.95 for Full hours and $11.95 for 2 hours
DESCRIPTION:
URL:https://www.jumpusapark.com/event/friday-teen-night-6-11pm-15-full-hours-10-2-hours-4/
END:VEVENT
BEGIN:VEVENT
DTSTART;TZID=America/New_York:20191207T200000
DTEND;TZID=America/New_York:20191208T220000
DTSTAMP:20260425T205324
CREATED:20191108T011810Z
LAST-MODIFIED:20191201T234425Z
UID:8721-1575748800-1575842400@www.jumpusapark.com
SUMMARY:Family FUN Night (Sat\, Sun) 8pm - Close $11.95 for 2 Hours
DESCRIPTION:
URL:https://www.jumpusapark.com/event/family-fun-night-sat-sun-8pm-close-10-2-hours-4/
END:VEVENT
BEGIN:VEVENT
DTSTART;TZID=America/New_York:20191209T140000
DTEND;TZID=America/New_York:20191212T210000
DTSTAMP:20260425T205324
CREATED:20191108T011015Z
LAST-MODIFIED:20191201T234357Z
UID:8703-1575900000-1576184400@www.jumpusapark.com
SUMMARY:Mon-Thursday Special! $10.95 for 2Hours+Sports
DESCRIPTION:
URL:https://www.jumpusapark.com/event/mon-thursday-special-10-2hourssports-15-2hoursridesports-34/
END:VEVENT
BEGIN:VEVENT
DTSTART;TZID=America/New_York:20200110T180000
DTEND;TZID=America/New_York:20200110T230000
DTSTAMP:20260425T205324
CREATED:20200110T215148Z
LAST-MODIFIED:20200110T215148Z
UID:8779-1578679200-1578697200@www.jumpusapark.com
SUMMARY:Friday Teen Night (6-11pm) $15.95 for Full hours and $10.95 for 2 hours
DESCRIPTION:
URL:https://www.jumpusapark.com/event/friday-teen-night-6-11pm-15-95-full-hours-10-95-2-hours/
END:VEVENT
BEGIN:VEVENT
DTSTART;TZID=America/New_York:20200111T100000
DTEND;TZID=America/New_York:20200112T230000
DTSTAMP:20260425T205324
CREATED:20200110T215449Z
LAST-MODIFIED:20200110T215449Z
UID:8789-1578736800-1578870000@www.jumpusapark.com
SUMMARY:3+ Group Special! 2Hours for $12.95 per Jumper\, 2Hours+Rides for $17.95 per Jumper
DESCRIPTION:
URL:https://www.jumpusapark.com/event/3-group-special-2hours-12-95-per-jumper-2hoursrides-17-95-per-jumper/
END:VEVENT
BEGIN:VEVENT
DTSTART;TZID=America/New_York:20200113T140000
DTEND;TZID=America/New_York:20200116T210000
DTSTAMP:20260425T205324
CREATED:20200110T214820Z
LAST-MODIFIED:20200110T214820Z
UID:8771-1578924000-1579208400@www.jumpusapark.com
SUMMARY:Mon-Thursday Special! $10.95 for 2Hours+Sports
DESCRIPTION:
URL:https://www.jumpusapark.com/event/mon-thursday-special-10-95-2hourssports/
END:VEVENT
BEGIN:VEVENT
DTSTART;TZID=America/New_York:20200117T180000
DTEND;TZID=America/New_York:20200117T230000
DTSTAMP:20260425T205324
CREATED:20200110T215213Z
LAST-MODIFIED:20200110T215213Z
UID:8781-1579284000-1579302000@www.jumpusapark.com
SUMMARY:Friday Teen Night (6-11pm) $15.95 for Full hours and $10.95 for 2 hours
DESCRIPTION:
URL:https://www.jumpusapark.com/event/friday-teen-night-6-11pm-15-95-full-hours-10-95-2-hours-2/
END:VEVENT
BEGIN:VEVENT
DTSTART;TZID=America/New_York:20200118T100000
DTEND;TZID=America/New_York:20200120T230000
DTSTAMP:20260425T205324
CREATED:20200110T215520Z
LAST-MODIFIED:20200110T215520Z
UID:8791-1579341600-1579561200@www.jumpusapark.com
SUMMARY:3+ Group Special! 2Hours for $12.95 per Jumper\, 2Hours+Rides for $17.95 per Jumper
DESCRIPTION:
URL:https://www.jumpusapark.com/event/3-group-special-2hours-12-95-per-jumper-2hoursrides-17-95-per-jumper-2/
END:VEVENT
BEGIN:VEVENT
DTSTART;TZID=America/New_York:20200120T100000
DTEND;TZID=America/New_York:20200120T210000
DTSTAMP:20260425T205324
CREATED:20200110T214856Z
LAST-MODIFIED:20200110T215036Z
UID:8773-1579514400-1579554000@www.jumpusapark.com
SUMMARY:Mon-Thursday Special! $10.95 for 2Hours+Sports
DESCRIPTION:
URL:https://www.jumpusapark.com/event/mon-thursday-special-10-95-2hourssports-2/
END:VEVENT
BEGIN:VEVENT
DTSTART;TZID=America/New_York:20200124T180000
DTEND;TZID=America/New_York:20200124T230000
DTSTAMP:20260425T205324
CREATED:20200110T215237Z
LAST-MODIFIED:20200110T215237Z
UID:8783-1579888800-1579906800@www.jumpusapark.com
SUMMARY:Friday Teen Night (6-11pm) $15.95 for Full hours and $10.95 for 2 hours
DESCRIPTION:
URL:https://www.jumpusapark.com/event/friday-teen-night-6-11pm-15-95-full-hours-10-95-2-hours-3/
END:VEVENT
BEGIN:VEVENT
DTSTART;TZID=America/New_York:20200125T100000
DTEND;TZID=America/New_York:20200126T230000
DTSTAMP:20260425T205324
CREATED:20200110T215546Z
LAST-MODIFIED:20200110T215546Z
UID:8793-1579946400-1580079600@www.jumpusapark.com
SUMMARY:3+ Group Special! 2Hours for $12.95 per Jumper\, 2Hours+Rides for $17.95 per Jumper
DESCRIPTION:
URL:https://www.jumpusapark.com/event/3-group-special-2hours-12-95-per-jumper-2hoursrides-17-95-per-jumper-3/
END:VEVENT
BEGIN:VEVENT
DTSTART;TZID=America/New_York:20200127T140000
DTEND;TZID=America/New_York:20200130T210000
DTSTAMP:20260425T205324
CREATED:20200110T214926Z
LAST-MODIFIED:20200110T214926Z
UID:8775-1580133600-1580418000@www.jumpusapark.com
SUMMARY:Mon-Thursday Special! $10.95 for 2Hours+Sports
DESCRIPTION:
URL:https://www.jumpusapark.com/event/mon-thursday-special-10-95-2hourssports-3/
END:VEVENT
BEGIN:VEVENT
DTSTART;TZID=America/New_York:20200131T180000
DTEND;TZID=America/New_York:20200131T230000
DTSTAMP:20260425T205324
CREATED:20200110T215303Z
LAST-MODIFIED:20200110T215303Z
UID:8785-1580493600-1580511600@www.jumpusapark.com
SUMMARY:Friday Teen Night (6-11pm) $15.95 for Full hours and $10.95 for 2 hours
DESCRIPTION:
URL:https://www.jumpusapark.com/event/friday-teen-night-6-11pm-15-95-full-hours-10-95-2-hours-4/
END:VEVENT
BEGIN:VEVENT
DTSTART;TZID=America/New_York:20200201T100000
DTEND;TZID=America/New_York:20200202T230000
DTSTAMP:20260425T205324
CREATED:20200110T215610Z
LAST-MODIFIED:20200110T215610Z
UID:8795-1580551200-1580684400@www.jumpusapark.com
SUMMARY:3+ Group Special! 2Hours for $12.95 per Jumper\, 2Hours+Rides for $17.95 per Jumper
DESCRIPTION:
URL:https://www.jumpusapark.com/event/3-group-special-2hours-12-95-per-jumper-2hoursrides-17-95-per-jumper-4/
END:VEVENT
BEGIN:VEVENT
DTSTART;TZID=America/New_York:20200203T140000
DTEND;TZID=America/New_York:20200206T210000
DTSTAMP:20260425T205324
CREATED:20200110T215002Z
LAST-MODIFIED:20200110T215002Z
UID:8777-1580738400-1581022800@www.jumpusapark.com
SUMMARY:Mon-Thursday Special! $10.95 for 2Hours+Sports
DESCRIPTION:
URL:https://www.jumpusapark.com/event/mon-thursday-special-10-95-2hourssports-4/
END:VEVENT
BEGIN:VEVENT
DTSTART;TZID=America/New_York:20200207T180000
DTEND;TZID=America/New_York:20200207T230000
DTSTAMP:20260425T205324
CREATED:20200110T215329Z
LAST-MODIFIED:20200205T002018Z
UID:8787-1581098400-1581116400@www.jumpusapark.com
SUMMARY:Friday Teen Night (7-11pm) FREE PIZZA! $14.95 for Full hours and $9.95 for 2 hours
DESCRIPTION:
URL:https://www.jumpusapark.com/event/friday-teen-night-6-11pm-15-95-full-hours-10-95-2-hours-5/
END:VEVENT
BEGIN:VEVENT
DTSTART;TZID=America/New_York:20200208T100000
DTEND;TZID=America/New_York:20200209T230000
DTSTAMP:20260425T205324
CREATED:20200205T002914Z
LAST-MODIFIED:20200205T002914Z
UID:8829-1581156000-1581289200@www.jumpusapark.com
SUMMARY:Weekend Group(3+) Special! 2Hours for $11.95 per Jumper
DESCRIPTION:
URL:https://www.jumpusapark.com/event/weekend-group3-special-2hours-11-95-per-jumper/
END:VEVENT
BEGIN:VEVENT
DTSTART;TZID=America/New_York:20200208T200000
DTEND;TZID=America/New_York:20200208T230000
DTSTAMP:20260425T205324
CREATED:20200205T003245Z
LAST-MODIFIED:20200205T003245Z
UID:8839-1581192000-1581202800@www.jumpusapark.com
SUMMARY:Saturday Teen Night (8-11pm) FREE PIZZA! $14.95 for Full hours and $9.95 for 2 hours
DESCRIPTION:
URL:https://www.jumpusapark.com/event/saturday-teen-night-8-11pm-free-pizza-14-95-full-hours-9-95-2-hours/
END:VEVENT
BEGIN:VEVENT
DTSTART;TZID=America/New_York:20200210T120000
DTEND;TZID=America/New_York:20200213T210000
DTSTAMP:20260425T205324
CREATED:20200205T003550Z
LAST-MODIFIED:20200205T003550Z
UID:8849-1581336000-1581627600@www.jumpusapark.com
SUMMARY:Mon-Thursday Special! $10.95 for 2Hours+Sports
DESCRIPTION:
URL:https://www.jumpusapark.com/event/mon-thursday-special-10-95-2hourssports-5/
END:VEVENT
END:VCALENDAR