BEGIN:VCALENDAR
VERSION:2.0
PRODID:-//JUMP PARTY USA - ECPv6.15.20//NONSGML v1.0//EN
CALSCALE:GREGORIAN
METHOD:PUBLISH
X-WR-CALNAME:JUMP PARTY USA
X-ORIGINAL-URL:https://www.jumpusapark.com
X-WR-CALDESC:Events for JUMP PARTY USA
REFRESH-INTERVAL;VALUE=DURATION:PT1H
X-Robots-Tag:noindex
X-PUBLISHED-TTL:PT1H
BEGIN:VTIMEZONE
TZID:America/New_York
BEGIN:DAYLIGHT
TZOFFSETFROM:-0500
TZOFFSETTO:-0400
TZNAME:EDT
DTSTART:20180311T070000
END:DAYLIGHT
BEGIN:STANDARD
TZOFFSETFROM:-0400
TZOFFSETTO:-0500
TZNAME:EST
DTSTART:20181104T060000
END:STANDARD
BEGIN:DAYLIGHT
TZOFFSETFROM:-0500
TZOFFSETTO:-0400
TZNAME:EDT
DTSTART:20190310T070000
END:DAYLIGHT
BEGIN:STANDARD
TZOFFSETFROM:-0400
TZOFFSETTO:-0500
TZNAME:EST
DTSTART:20191103T060000
END:STANDARD
BEGIN:DAYLIGHT
TZOFFSETFROM:-0500
TZOFFSETTO:-0400
TZNAME:EDT
DTSTART:20200308T070000
END:DAYLIGHT
BEGIN:STANDARD
TZOFFSETFROM:-0400
TZOFFSETTO:-0500
TZNAME:EST
DTSTART:20201101T060000
END:STANDARD
END:VTIMEZONE
BEGIN:VEVENT
DTSTART;TZID=America/New_York:20190719T180000
DTEND;TZID=America/New_York:20190719T230000
DTSTAMP:20260425T124854
CREATED:20190708T230724Z
LAST-MODIFIED:20190708T230724Z
UID:8501-1563559200-1563577200@www.jumpusapark.com
SUMMARY:Friday Sports Night (6-11pm) $15 for Full hours and $10 for 2 hours
DESCRIPTION:
URL:https://www.jumpusapark.com/event/friday-sports-night-6-11pm-15-full-hours-10-2-hours-5/
END:VEVENT
BEGIN:VEVENT
DTSTART;TZID=America/New_York:20190720T200000
DTEND;TZID=America/New_York:20190721T220000
DTSTAMP:20260425T124854
CREATED:20190708T231441Z
LAST-MODIFIED:20190708T231441Z
UID:8521-1563652800-1563746400@www.jumpusapark.com
SUMMARY:Family Sports Night (Saturday\, Sunday) 8pm - Close(10/11pm) $10 for 2 Hours
DESCRIPTION:
URL:https://www.jumpusapark.com/event/family-sports-night-saturday-sunday-8pm-close1011pm-10-2-hours-6/
END:VEVENT
BEGIN:VEVENT
DTSTART;TZID=America/New_York:20190722T100000
DTEND;TZID=America/New_York:20190725T210000
DTSTAMP:20260425T124854
CREATED:20190708T230008Z
LAST-MODIFIED:20190708T230008Z
UID:8493-1563789600-1564088400@www.jumpusapark.com
SUMMARY:Mon-Thursday Special! $10 for 2Hours+Sports\, $15 for 2Hours+Ride+Sports
DESCRIPTION:
URL:https://www.jumpusapark.com/event/mon-thursday-special-10-2hourssports-15-2hoursridesports-12/
END:VEVENT
BEGIN:VEVENT
DTSTART;TZID=America/New_York:20190726T100000
DTEND;TZID=America/New_York:20190728T230000
DTSTAMP:20260425T124854
CREATED:20190708T231202Z
LAST-MODIFIED:20190708T231202Z
UID:8513-1564135200-1564354800@www.jumpusapark.com
SUMMARY:Weekend 3+ Group Special! 2Hours+Sports for $12 per Jumper\, 2Hours+Ride+Sports for $17 per Jumper
DESCRIPTION:
URL:https://www.jumpusapark.com/event/weekend-3-group-special-2hourssports-12-per-jumper-2hoursridesports-17-per-jumper-7/
END:VEVENT
BEGIN:VEVENT
DTSTART;TZID=America/New_York:20190726T180000
DTEND;TZID=America/New_York:20190726T230000
DTSTAMP:20260425T124854
CREATED:20190708T230747Z
LAST-MODIFIED:20190708T230747Z
UID:8503-1564164000-1564182000@www.jumpusapark.com
SUMMARY:Friday Sports Night (6-11pm) $15 for Full hours and $10 for 2 hours
DESCRIPTION:
URL:https://www.jumpusapark.com/event/friday-sports-night-6-11pm-15-full-hours-10-2-hours-6/
END:VEVENT
BEGIN:VEVENT
DTSTART;TZID=America/New_York:20190727T200000
DTEND;TZID=America/New_York:20190728T220000
DTSTAMP:20260425T124854
CREATED:20190708T231506Z
LAST-MODIFIED:20190708T231506Z
UID:8523-1564257600-1564351200@www.jumpusapark.com
SUMMARY:Family Sports Night (Saturday\, Sunday) 8pm - Close(10/11pm) $10 for 2 Hours
DESCRIPTION:
URL:https://www.jumpusapark.com/event/family-sports-night-saturday-sunday-8pm-close1011pm-10-2-hours-7/
END:VEVENT
BEGIN:VEVENT
DTSTART;TZID=America/New_York:20190729T100000
DTEND;TZID=America/New_York:20190801T210000
DTSTAMP:20260425T124854
CREATED:20190708T230514Z
LAST-MODIFIED:20190708T230514Z
UID:8495-1564394400-1564693200@www.jumpusapark.com
SUMMARY:Mon-Thursday Special! $10 for 2Hours+Sports\, $15 for 2Hours+Ride+Sports
DESCRIPTION:
URL:https://www.jumpusapark.com/event/mon-thursday-special-10-2hourssports-15-2hoursridesports-13/
END:VEVENT
BEGIN:VEVENT
DTSTART;TZID=America/New_York:20190802T100000
DTEND;TZID=America/New_York:20190804T230000
DTSTAMP:20260425T124854
CREATED:20190708T231226Z
LAST-MODIFIED:20190708T231226Z
UID:8515-1564740000-1564959600@www.jumpusapark.com
SUMMARY:Weekend 3+ Group Special! 2Hours+Sports for $12 per Jumper\, 2Hours+Ride+Sports for $17 per Jumper
DESCRIPTION:
URL:https://www.jumpusapark.com/event/weekend-3-group-special-2hourssports-12-per-jumper-2hoursridesports-17-per-jumper-8/
END:VEVENT
BEGIN:VEVENT
DTSTART;TZID=America/New_York:20190802T180000
DTEND;TZID=America/New_York:20190802T230000
DTSTAMP:20260425T124854
CREATED:20190708T230812Z
LAST-MODIFIED:20190708T230812Z
UID:8505-1564768800-1564786800@www.jumpusapark.com
SUMMARY:Friday Sports Night (6-11pm) $15 for Full hours and $10 for 2 hours
DESCRIPTION:
URL:https://www.jumpusapark.com/event/friday-sports-night-6-11pm-15-full-hours-10-2-hours-7/
END:VEVENT
BEGIN:VEVENT
DTSTART;TZID=America/New_York:20190803T200000
DTEND;TZID=America/New_York:20190804T220000
DTSTAMP:20260425T124854
CREATED:20190708T231532Z
LAST-MODIFIED:20190708T231532Z
UID:8525-1564862400-1564956000@www.jumpusapark.com
SUMMARY:Family Sports Night (Saturday\, Sunday) 8pm - Close(10/11pm) $10 for 2 Hours
DESCRIPTION:
URL:https://www.jumpusapark.com/event/family-sports-night-saturday-sunday-8pm-close1011pm-10-2-hours-8/
END:VEVENT
BEGIN:VEVENT
DTSTART;TZID=America/New_York:20190805T100000
DTEND;TZID=America/New_York:20190808T210000
DTSTAMP:20260425T124854
CREATED:20190708T230546Z
LAST-MODIFIED:20190708T230546Z
UID:8497-1564999200-1565298000@www.jumpusapark.com
SUMMARY:Mon-Thursday Special! $10 for 2Hours+Sports\, $15 for 2Hours+Ride+Sports
DESCRIPTION:
URL:https://www.jumpusapark.com/event/mon-thursday-special-10-2hourssports-15-2hoursridesports-14/
END:VEVENT
BEGIN:VEVENT
DTSTART;TZID=America/New_York:20190809T100000
DTEND;TZID=America/New_York:20190811T230000
DTSTAMP:20260425T124854
CREATED:20190708T231255Z
LAST-MODIFIED:20190708T231255Z
UID:8517-1565344800-1565564400@www.jumpusapark.com
SUMMARY:Weekend 3+ Group Special! 2Hours+Sports for $12 per Jumper\, 2Hours+Ride+Sports for $17 per Jumper
DESCRIPTION:
URL:https://www.jumpusapark.com/event/weekend-3-group-special-2hourssports-12-per-jumper-2hoursridesports-17-per-jumper-9/
END:VEVENT
BEGIN:VEVENT
DTSTART;TZID=America/New_York:20190809T180000
DTEND;TZID=America/New_York:20190809T230000
DTSTAMP:20260425T124854
CREATED:20190708T230836Z
LAST-MODIFIED:20190708T230836Z
UID:8507-1565373600-1565391600@www.jumpusapark.com
SUMMARY:Friday Sports Night (6-11pm) $15 for Full hours and $10 for 2 hours
DESCRIPTION:
URL:https://www.jumpusapark.com/event/friday-sports-night-6-11pm-15-full-hours-10-2-hours-8/
END:VEVENT
BEGIN:VEVENT
DTSTART;TZID=America/New_York:20190810T200000
DTEND;TZID=America/New_York:20190811T220000
DTSTAMP:20260425T124854
CREATED:20190708T231606Z
LAST-MODIFIED:20190708T231606Z
UID:8527-1565467200-1565560800@www.jumpusapark.com
SUMMARY:Family Sports Night (Saturday\, Sunday) 8pm - Close(10/11pm) $10 for 2 Hours
DESCRIPTION:
URL:https://www.jumpusapark.com/event/family-sports-night-saturday-sunday-8pm-close1011pm-10-2-hours-9/
END:VEVENT
BEGIN:VEVENT
DTSTART;TZID=America/New_York:20190812T100000
DTEND;TZID=America/New_York:20190815T210000
DTSTAMP:20260425T124854
CREATED:20190708T230612Z
LAST-MODIFIED:20190708T230612Z
UID:8499-1565604000-1565902800@www.jumpusapark.com
SUMMARY:Mon-Thursday Special! $10 for 2Hours+Sports\, $15 for 2Hours+Ride+Sports
DESCRIPTION:
URL:https://www.jumpusapark.com/event/mon-thursday-special-10-2hourssports-15-2hoursridesports-15/
END:VEVENT
BEGIN:VEVENT
DTSTART;TZID=America/New_York:20190816T100000
DTEND;TZID=America/New_York:20190818T230000
DTSTAMP:20260425T124854
CREATED:20190708T231333Z
LAST-MODIFIED:20190708T231333Z
UID:8519-1565949600-1566169200@www.jumpusapark.com
SUMMARY:Weekend 3+ Group Special! 2Hours+Sports for $12 per Jumper\, 2Hours+Ride+Sports for $17 per Jumper
DESCRIPTION:
URL:https://www.jumpusapark.com/event/weekend-3-group-special-2hourssports-12-per-jumper-2hoursridesports-17-per-jumper-10/
END:VEVENT
BEGIN:VEVENT
DTSTART;TZID=America/New_York:20190816T180000
DTEND;TZID=America/New_York:20190816T230000
DTSTAMP:20260425T124854
CREATED:20190708T230917Z
LAST-MODIFIED:20190708T230944Z
UID:8509-1565978400-1565996400@www.jumpusapark.com
SUMMARY:Friday Sports Night (6-11pm) $15 for Full hours and $10 for 2 hours
DESCRIPTION:
URL:https://www.jumpusapark.com/event/friday-sports-night-6-11pm-15-full-hours-10-2-hours-9/
END:VEVENT
BEGIN:VEVENT
DTSTART;TZID=America/New_York:20190817T200000
DTEND;TZID=America/New_York:20190818T220000
DTSTAMP:20260425T124854
CREATED:20190708T231631Z
LAST-MODIFIED:20190708T231631Z
UID:8529-1566072000-1566165600@www.jumpusapark.com
SUMMARY:Family Sports Night (Saturday\, Sunday) 8pm - Close(10/11pm) $10 for 2 Hours
DESCRIPTION:
URL:https://www.jumpusapark.com/event/family-sports-night-saturday-sunday-8pm-close1011pm-10-2-hours-10/
END:VEVENT
BEGIN:VEVENT
DTSTART;TZID=America/New_York:20190819T110000
DTEND;TZID=America/New_York:20190822T210000
DTSTAMP:20260425T124854
CREATED:20190807T234253Z
LAST-MODIFIED:20190807T234253Z
UID:8543-1566212400-1566507600@www.jumpusapark.com
SUMMARY:Mon-Thursday Special! $10 for 2Hours+Sports\, $15 for 2Hours+Ride+Sports
DESCRIPTION:
URL:https://www.jumpusapark.com/event/mon-thursday-special-10-2hourssports-15-2hoursridesports-16/
END:VEVENT
BEGIN:VEVENT
DTSTART;TZID=America/New_York:20190823T100000
DTEND;TZID=America/New_York:20190825T230000
DTSTAMP:20260425T124854
CREATED:20190807T234904Z
LAST-MODIFIED:20190807T234904Z
UID:8562-1566554400-1566774000@www.jumpusapark.com
SUMMARY:Weekend 3+ Group Special! 2Hours+Sports for $12 per Jumper\, 2Hours+Ride+Sports for $17 per Jumper
DESCRIPTION:
URL:https://www.jumpusapark.com/event/weekend-3-group-special-2hourssports-12-per-jumper-2hoursridesports-17-per-jumper-11/
END:VEVENT
BEGIN:VEVENT
DTSTART;TZID=America/New_York:20190823T180000
DTEND;TZID=America/New_York:20190823T230000
DTSTAMP:20260425T124854
CREATED:20190807T234635Z
LAST-MODIFIED:20190807T234635Z
UID:8553-1566583200-1566601200@www.jumpusapark.com
SUMMARY:Friday Sports Night (6-11pm) $15 for Full hours and $10 for 2 hours
DESCRIPTION:
URL:https://www.jumpusapark.com/event/friday-sports-night-6-11pm-15-full-hours-10-2-hours-10/
END:VEVENT
BEGIN:VEVENT
DTSTART;TZID=America/New_York:20190824T200000
DTEND;TZID=America/New_York:20190825T220000
DTSTAMP:20260425T124854
CREATED:20190807T235129Z
LAST-MODIFIED:20190807T235129Z
UID:8570-1566676800-1566770400@www.jumpusapark.com
SUMMARY:Family Sports Night (Saturday\, Sunday) 8pm - Close(10/11pm) $10 for 2 Hours
DESCRIPTION:
URL:https://www.jumpusapark.com/event/family-sports-night-saturday-sunday-8pm-close1011pm-10-2-hours-11/
END:VEVENT
BEGIN:VEVENT
DTSTART;TZID=America/New_York:20190826T110000
DTEND;TZID=America/New_York:20190829T210000
DTSTAMP:20260425T124854
CREATED:20190807T234328Z
LAST-MODIFIED:20190807T234328Z
UID:8545-1566817200-1567112400@www.jumpusapark.com
SUMMARY:Mon-Thursday Special! $10 for 2Hours+Sports\, $15 for 2Hours+Ride+Sports
DESCRIPTION:
URL:https://www.jumpusapark.com/event/mon-thursday-special-10-2hourssports-15-2hoursridesports-17/
END:VEVENT
BEGIN:VEVENT
DTSTART;TZID=America/New_York:20190830T100000
DTEND;TZID=America/New_York:20190901T230000
DTSTAMP:20260425T124854
CREATED:20190807T234934Z
LAST-MODIFIED:20190807T234934Z
UID:8564-1567159200-1567378800@www.jumpusapark.com
SUMMARY:Weekend 3+ Group Special! 2Hours+Sports for $12 per Jumper\, 2Hours+Ride+Sports for $17 per Jumper
DESCRIPTION:
URL:https://www.jumpusapark.com/event/weekend-3-group-special-2hourssports-12-per-jumper-2hoursridesports-17-per-jumper-12/
END:VEVENT
BEGIN:VEVENT
DTSTART;TZID=America/New_York:20190830T180000
DTEND;TZID=America/New_York:20190830T230000
DTSTAMP:20260425T124854
CREATED:20190807T234700Z
LAST-MODIFIED:20190807T234700Z
UID:8555-1567188000-1567206000@www.jumpusapark.com
SUMMARY:Friday Sports Night (6-11pm) $15 for Full hours and $10 for 2 hours
DESCRIPTION:
URL:https://www.jumpusapark.com/event/friday-sports-night-6-11pm-15-full-hours-10-2-hours-11/
END:VEVENT
BEGIN:VEVENT
DTSTART;TZID=America/New_York:20190831T200000
DTEND;TZID=America/New_York:20190901T220000
DTSTAMP:20260425T124854
CREATED:20190807T235157Z
LAST-MODIFIED:20190807T235157Z
UID:8572-1567281600-1567375200@www.jumpusapark.com
SUMMARY:Family Sports Night (Saturday\, Sunday) 8pm - Close(10/11pm) $10 for 2 Hours
DESCRIPTION:
URL:https://www.jumpusapark.com/event/family-sports-night-saturday-sunday-8pm-close1011pm-10-2-hours-12/
END:VEVENT
BEGIN:VEVENT
DTSTART;TZID=America/New_York:20190902T100000
DTEND;TZID=America/New_York:20190902T210000
DTSTAMP:20260425T124854
CREATED:20190807T234502Z
LAST-MODIFIED:20190807T234502Z
UID:8549-1567418400-1567458000@www.jumpusapark.com
SUMMARY:Mon-Thursday Special! $10 for 2Hours+Sports\, $15 for 2Hours+Ride+Sports
DESCRIPTION:
URL:https://www.jumpusapark.com/event/mon-thursday-special-10-2hourssports-15-2hoursridesports-19/
END:VEVENT
BEGIN:VEVENT
DTSTART;TZID=America/New_York:20190903T110000
DTEND;TZID=America/New_York:20190905T210000
DTSTAMP:20260425T124854
CREATED:20190807T234438Z
LAST-MODIFIED:20190807T234438Z
UID:8547-1567508400-1567717200@www.jumpusapark.com
SUMMARY:Mon-Thursday Special! $10 for 2Hours+Sports\, $15 for 2Hours+Ride+Sports
DESCRIPTION:
URL:https://www.jumpusapark.com/event/mon-thursday-special-10-2hourssports-15-2hoursridesports-18/
END:VEVENT
BEGIN:VEVENT
DTSTART;TZID=America/New_York:20190906T100000
DTEND;TZID=America/New_York:20190908T230000
DTSTAMP:20260425T124854
CREATED:20190807T235004Z
LAST-MODIFIED:20190807T235004Z
UID:8566-1567764000-1567983600@www.jumpusapark.com
SUMMARY:Weekend 3+ Group Special! 2Hours+Sports for $12 per Jumper\, 2Hours+Ride+Sports for $17 per Jumper
DESCRIPTION:
URL:https://www.jumpusapark.com/event/weekend-3-group-special-2hourssports-12-per-jumper-2hoursridesports-17-per-jumper-13/
END:VEVENT
BEGIN:VEVENT
DTSTART;TZID=America/New_York:20190906T180000
DTEND;TZID=America/New_York:20190906T230000
DTSTAMP:20260425T124854
CREATED:20190807T234730Z
LAST-MODIFIED:20190807T234730Z
UID:8557-1567792800-1567810800@www.jumpusapark.com
SUMMARY:Friday Sports Night (6-11pm) $15 for Full hours and $10 for 2 hours
DESCRIPTION:
URL:https://www.jumpusapark.com/event/friday-sports-night-6-11pm-15-full-hours-10-2-hours-12/
END:VEVENT
END:VCALENDAR