BEGIN:VCALENDAR
VERSION:2.0
PRODID:-//JUMP PARTY USA - ECPv6.15.20//NONSGML v1.0//EN
CALSCALE:GREGORIAN
METHOD:PUBLISH
X-WR-CALNAME:JUMP PARTY USA
X-ORIGINAL-URL:https://www.jumpusapark.com
X-WR-CALDESC:Events for JUMP PARTY USA
REFRESH-INTERVAL;VALUE=DURATION:PT1H
X-Robots-Tag:noindex
X-PUBLISHED-TTL:PT1H
BEGIN:VTIMEZONE
TZID:America/New_York
BEGIN:DAYLIGHT
TZOFFSETFROM:-0500
TZOFFSETTO:-0400
TZNAME:EDT
DTSTART:20160313T070000
END:DAYLIGHT
BEGIN:STANDARD
TZOFFSETFROM:-0400
TZOFFSETTO:-0500
TZNAME:EST
DTSTART:20161106T060000
END:STANDARD
BEGIN:DAYLIGHT
TZOFFSETFROM:-0500
TZOFFSETTO:-0400
TZNAME:EDT
DTSTART:20170312T070000
END:DAYLIGHT
BEGIN:STANDARD
TZOFFSETFROM:-0400
TZOFFSETTO:-0500
TZNAME:EST
DTSTART:20171105T060000
END:STANDARD
BEGIN:DAYLIGHT
TZOFFSETFROM:-0500
TZOFFSETTO:-0400
TZNAME:EDT
DTSTART:20180311T070000
END:DAYLIGHT
BEGIN:STANDARD
TZOFFSETFROM:-0400
TZOFFSETTO:-0500
TZNAME:EST
DTSTART:20181104T060000
END:STANDARD
BEGIN:DAYLIGHT
TZOFFSETFROM:-0500
TZOFFSETTO:-0400
TZNAME:EDT
DTSTART:20190310T070000
END:DAYLIGHT
BEGIN:STANDARD
TZOFFSETFROM:-0400
TZOFFSETTO:-0500
TZNAME:EST
DTSTART:20191103T060000
END:STANDARD
END:VTIMEZONE
BEGIN:VEVENT
DTSTART;TZID=America/New_York:20171215T100000
DTEND;TZID=America/New_York:20171217T230000
DTSTAMP:20260425T101735
CREATED:20171209T040117Z
LAST-MODIFIED:20171209T040117Z
UID:7596-1513332000-1513551600@www.jumpusapark.com
SUMMARY:Weekend 3+ Jumpers Group Deal! 2Hours for $12 per Jumper\, 1Hour+Ride+Sports for $14 per Jumper\, 2Hours+Ride+Sports for $17 per Jumper
DESCRIPTION:
URL:https://www.jumpusapark.com/event/weekend-3-jumpers-group-deal-2hours-12-per-jumper-1hourridesports-14-per-jumper-2hoursridesports-17-per-jumper-2/
END:VEVENT
BEGIN:VEVENT
DTSTART;TZID=America/New_York:20171215T190000
DTEND;TZID=America/New_York:20171215T230000
DTSTAMP:20260425T101735
CREATED:20171209T035508Z
LAST-MODIFIED:20171212T200031Z
UID:7586-1513364400-1513378800@www.jumpusapark.com
SUMMARY:Friday Teen Night (7-11pm) $12 for Full hours+Sports and $9 for 2 hours + FREE Karaoke for All Lady Jumpers
DESCRIPTION:
URL:https://www.jumpusapark.com/event/friday-teen-night-7-11pm-12-full-sessionsportspass-9-2-hours-10/
END:VEVENT
BEGIN:VEVENT
DTSTART;TZID=America/New_York:20171216T200000
DTEND;TZID=America/New_York:20171217T220000
DTSTAMP:20260425T101735
CREATED:20171212T194240Z
LAST-MODIFIED:20171212T194727Z
UID:7612-1513454400-1513548000@www.jumpusapark.com
SUMMARY:Weekend Family Night Special (Saturday\, Sunday) 8pm - 10pm $9 for 2 Hours + FREE Karaoke for All Lady Jumpers
DESCRIPTION:
URL:https://www.jumpusapark.com/event/weekend-family-night-special-saturday-sunday-8pm-10pm-9-2-hours/
END:VEVENT
BEGIN:VEVENT
DTSTART;TZID=America/New_York:20171218T100000
DTEND;TZID=America/New_York:20171221T210000
DTSTAMP:20260425T101735
CREATED:20171209T040515Z
LAST-MODIFIED:20171209T040515Z
UID:7606-1513591200-1513890000@www.jumpusapark.com
SUMMARY:Mon-Thursday Deal $9 for 2Hours\, $11 for 1Hour+Ride+Sports\, $14 for 2Hours+Ride+Sports
DESCRIPTION:
URL:https://www.jumpusapark.com/event/mon-thursday-deal-9-2hours-11-1hourridesports-14-2hoursridesports-2/
END:VEVENT
BEGIN:VEVENT
DTSTART;TZID=America/New_York:20171222T100000
DTEND;TZID=America/New_York:20171224T230000
DTSTAMP:20260425T101735
CREATED:20171209T040145Z
LAST-MODIFIED:20171209T040145Z
UID:7598-1513936800-1514156400@www.jumpusapark.com
SUMMARY:Weekend 3+ Jumpers Group Deal! 2Hours for $12 per Jumper\, 1Hour+Ride+Sports for $14 per Jumper\, 2Hours+Ride+Sports for $17 per Jumper
DESCRIPTION:
URL:https://www.jumpusapark.com/event/weekend-3-jumpers-group-deal-2hours-12-per-jumper-1hourridesports-14-per-jumper-2hoursridesports-17-per-jumper-3/
END:VEVENT
BEGIN:VEVENT
DTSTART;TZID=America/New_York:20171222T190000
DTEND;TZID=America/New_York:20171222T230000
DTSTAMP:20260425T101735
CREATED:20171209T035537Z
LAST-MODIFIED:20171212T195855Z
UID:7588-1513969200-1513983600@www.jumpusapark.com
SUMMARY:Friday Teen Night (7-11pm) $12 for Full hours+Sports and $9 for 2 hours + FREE Karaoke for All Lady Jumpers
DESCRIPTION:
URL:https://www.jumpusapark.com/event/friday-teen-night-7-11pm-12-full-sessionsportspass-9-2-hours-11/
END:VEVENT
BEGIN:VEVENT
DTSTART;TZID=America/New_York:20171223T200000
DTEND;TZID=America/New_York:20171224T220000
DTSTAMP:20260425T101735
CREATED:20171212T194322Z
LAST-MODIFIED:20171212T194654Z
UID:7614-1514059200-1514152800@www.jumpusapark.com
SUMMARY:Weekend Family Night Special (Saturday\, Sunday) 8pm - 10pm $9 for 2 Hours + FREE Karaoke for All Lady Jumpers
DESCRIPTION:
URL:https://www.jumpusapark.com/event/weekend-family-night-special-saturday-sunday-8pm-10pm-9-2-hours-2/
END:VEVENT
BEGIN:VEVENT
DTSTART;TZID=America/New_York:20171225T100000
DTEND;TZID=America/New_York:20171228T210000
DTSTAMP:20260425T101735
CREATED:20171209T040543Z
LAST-MODIFIED:20171209T040543Z
UID:7608-1514196000-1514494800@www.jumpusapark.com
SUMMARY:Mon-Thursday Deal $9 for 2Hours\, $11 for 1Hour+Ride+Sports\, $14 for 2Hours+Ride+Sports
DESCRIPTION:
URL:https://www.jumpusapark.com/event/mon-thursday-deal-9-2hours-11-1hourridesports-14-2hoursridesports-3/
END:VEVENT
BEGIN:VEVENT
DTSTART;TZID=America/New_York:20171229T100000
DTEND;TZID=America/New_York:20171231T230000
DTSTAMP:20260425T101735
CREATED:20171209T040211Z
LAST-MODIFIED:20171209T040211Z
UID:7600-1514541600-1514761200@www.jumpusapark.com
SUMMARY:Weekend 3+ Jumpers Group Deal! 2Hours for $12 per Jumper\, 1Hour+Ride+Sports for $14 per Jumper\, 2Hours+Ride+Sports for $17 per Jumper
DESCRIPTION:
URL:https://www.jumpusapark.com/event/weekend-3-jumpers-group-deal-2hours-12-per-jumper-1hourridesports-14-per-jumper-2hoursridesports-17-per-jumper-4/
END:VEVENT
BEGIN:VEVENT
DTSTART;TZID=America/New_York:20171229T190000
DTEND;TZID=America/New_York:20171229T230000
DTSTAMP:20260425T101735
CREATED:20171209T035607Z
LAST-MODIFIED:20171212T195949Z
UID:7590-1514574000-1514588400@www.jumpusapark.com
SUMMARY:Friday Teen Night (7-11pm) $12 for Full hours+Sports and $9 for 2 hours + FREE Karaoke for All Lady Jumpers
DESCRIPTION:
URL:https://www.jumpusapark.com/event/friday-teen-night-7-11pm-12-full-sessionsportspass-9-2-hours-12/
END:VEVENT
BEGIN:VEVENT
DTSTART;TZID=America/New_York:20171230T200000
DTEND;TZID=America/New_York:20171231T220000
DTSTAMP:20260425T101735
CREATED:20171212T194430Z
LAST-MODIFIED:20171212T194621Z
UID:7616-1514664000-1514757600@www.jumpusapark.com
SUMMARY:Weekend Family Night Special (Saturday\, Sunday) 8pm - 10pm $9 for 2 Hours + FREE Karaoke for All Lady Jumpers
DESCRIPTION:
URL:https://www.jumpusapark.com/event/weekend-family-night-special-saturday-sunday-8pm-10pm-9-2-hours-free-karaoke/
END:VEVENT
BEGIN:VEVENT
DTSTART;TZID=America/New_York:20180101T100000
DTEND;TZID=America/New_York:20180104T210000
DTSTAMP:20260425T101735
CREATED:20171209T040617Z
LAST-MODIFIED:20171209T040617Z
UID:7610-1514800800-1515099600@www.jumpusapark.com
SUMMARY:Mon-Thursday Deal $9 for 2Hours\, $11 for 1Hour+Ride+Sports\, $14 for 2Hours+Ride+Sports
DESCRIPTION:
URL:https://www.jumpusapark.com/event/mon-thursday-deal-9-2hours-11-1hourridesports-14-2hoursridesports-4/
END:VEVENT
BEGIN:VEVENT
DTSTART;TZID=America/New_York:20180105T100000
DTEND;TZID=America/New_York:20180107T230000
DTSTAMP:20260425T101735
CREATED:20171209T040238Z
LAST-MODIFIED:20171209T040238Z
UID:7602-1515146400-1515366000@www.jumpusapark.com
SUMMARY:Weekend 3+ Jumpers Group Deal! 2Hours for $12 per Jumper\, 1Hour+Ride+Sports for $14 per Jumper\, 2Hours+Ride+Sports for $17 per Jumper
DESCRIPTION:
URL:https://www.jumpusapark.com/event/weekend-3-jumpers-group-deal-2hours-12-per-jumper-1hourridesports-14-per-jumper-2hoursridesports-17-per-jumper-5/
END:VEVENT
BEGIN:VEVENT
DTSTART;TZID=America/New_York:20180105T190000
DTEND;TZID=America/New_York:20180105T230000
DTSTAMP:20260425T101735
CREATED:20171209T035638Z
LAST-MODIFIED:20171212T195926Z
UID:7592-1515178800-1515193200@www.jumpusapark.com
SUMMARY:Friday Teen Night (7-11pm) $12 for Full hours+Sports and $9 for 2 hours + FREE Karaoke for All Lady Jumpers
DESCRIPTION:
URL:https://www.jumpusapark.com/event/friday-teen-night-7-11pm-12-full-sessionsportspass-9-2-hours-13/
END:VEVENT
BEGIN:VEVENT
DTSTART;TZID=America/New_York:20180106T200000
DTEND;TZID=America/New_York:20180107T220000
DTSTAMP:20260425T101735
CREATED:20171212T195108Z
LAST-MODIFIED:20171212T195108Z
UID:7625-1515268800-1515362400@www.jumpusapark.com
SUMMARY:Weekend Family Night Special (Saturday\, Sunday) 8pm - 10pm $9 for 2 Hours + FREE Karaoke for All Lady Jumpers
DESCRIPTION:
URL:https://www.jumpusapark.com/event/weekend-family-night-special-saturday-sunday-8pm-10pm-9-2-hours-free-karaoke-lady-jumpers/
END:VEVENT
BEGIN:VEVENT
DTSTART;TZID=America/New_York:20180108T100000
DTEND;TZID=America/New_York:20180111T210000
DTSTAMP:20260425T101735
CREATED:20171230T213419Z
LAST-MODIFIED:20171230T213419Z
UID:7658-1515405600-1515704400@www.jumpusapark.com
SUMMARY:Mon-Thursday Deal $9 for 2Hours\, $11 for 1Hour+Ride+Sports\, $14 for 2Hours+Ride+Sports
DESCRIPTION:
URL:https://www.jumpusapark.com/event/mon-thursday-deal-9-2hours-11-1hourridesports-14-2hoursridesports-5/
END:VEVENT
BEGIN:VEVENT
DTSTART;TZID=America/New_York:20180112T100000
DTEND;TZID=America/New_York:20180114T230000
DTSTAMP:20260425T101735
CREATED:20171230T213752Z
LAST-MODIFIED:20171230T213752Z
UID:7668-1515751200-1515970800@www.jumpusapark.com
SUMMARY:Weekend 3+ Jumpers Group Deal! 2Hours for $12 per Jumper\, 1Hour+Ride+Sports for $14 per Jumper\, 2Hours+Ride+Sports for $17 per Jumper
DESCRIPTION:
URL:https://www.jumpusapark.com/event/weekend-3-jumpers-group-deal-2hours-12-per-jumper-1hourridesports-14-per-jumper-2hoursridesports-17-per-jumper-6/
END:VEVENT
BEGIN:VEVENT
DTSTART;TZID=America/New_York:20180112T190000
DTEND;TZID=America/New_York:20180112T230000
DTSTAMP:20260425T101735
CREATED:20171230T214008Z
LAST-MODIFIED:20171230T214008Z
UID:7676-1515783600-1515798000@www.jumpusapark.com
SUMMARY:Friday Teen Night (7-11pm) $12 for Full hours+Sports and $9 for 2 hours + FREE Karaoke for All Lady Jumpers
DESCRIPTION:
URL:https://www.jumpusapark.com/event/friday-teen-night-7-11pm-12-full-hourssports-9-2-hours-free-karaoke-lady-jumpers/
END:VEVENT
BEGIN:VEVENT
DTSTART;TZID=America/New_York:20180113T200000
DTEND;TZID=America/New_York:20180114T220000
DTSTAMP:20260425T101735
CREATED:20171230T214317Z
LAST-MODIFIED:20171230T214317Z
UID:7684-1515873600-1515967200@www.jumpusapark.com
SUMMARY:Weekend Family Night Special (Saturday\, Sunday) 8pm - 10pm $9 for 2 Hours + FREE Karaoke for All Lady Jumpers
DESCRIPTION:
URL:https://www.jumpusapark.com/event/weekend-family-night-special-saturday-sunday-8pm-10pm-9-2-hours-free-karaoke-lady-jumpers-2/
END:VEVENT
BEGIN:VEVENT
DTSTART;TZID=America/New_York:20180115T100000
DTEND;TZID=America/New_York:20180118T210000
DTSTAMP:20260425T101735
CREATED:20171230T213446Z
LAST-MODIFIED:20171230T213446Z
UID:7660-1516010400-1516309200@www.jumpusapark.com
SUMMARY:Mon-Thursday Deal $9 for 2Hours\, $11 for 1Hour+Ride+Sports\, $14 for 2Hours+Ride+Sports
DESCRIPTION:
URL:https://www.jumpusapark.com/event/mon-thursday-deal-9-2hours-11-1hourridesports-14-2hoursridesports-6/
END:VEVENT
BEGIN:VEVENT
DTSTART;TZID=America/New_York:20180119T100000
DTEND;TZID=America/New_York:20180121T230000
DTSTAMP:20260425T101735
CREATED:20171230T213820Z
LAST-MODIFIED:20171230T213820Z
UID:7670-1516356000-1516575600@www.jumpusapark.com
SUMMARY:Weekend 3+ Jumpers Group Deal! 2Hours for $12 per Jumper\, 1Hour+Ride+Sports for $14 per Jumper\, 2Hours+Ride+Sports for $17 per Jumper
DESCRIPTION:
URL:https://www.jumpusapark.com/event/weekend-3-jumpers-group-deal-2hours-12-per-jumper-1hourridesports-14-per-jumper-2hoursridesports-17-per-jumper-7/
END:VEVENT
BEGIN:VEVENT
DTSTART;TZID=America/New_York:20180119T190000
DTEND;TZID=America/New_York:20180119T230000
DTSTAMP:20260425T101735
CREATED:20171230T214038Z
LAST-MODIFIED:20171230T214038Z
UID:7678-1516388400-1516402800@www.jumpusapark.com
SUMMARY:Friday Teen Night (7-11pm) $12 for Full hours+Sports and $9 for 2 hours + FREE Karaoke for All Lady Jumpers
DESCRIPTION:
URL:https://www.jumpusapark.com/event/friday-teen-night-7-11pm-12-full-hourssports-9-2-hours-free-karaoke-lady-jumpers-2/
END:VEVENT
BEGIN:VEVENT
DTSTART;TZID=America/New_York:20180120T200000
DTEND;TZID=America/New_York:20180121T220000
DTSTAMP:20260425T101735
CREATED:20171230T214346Z
LAST-MODIFIED:20171230T214346Z
UID:7686-1516478400-1516572000@www.jumpusapark.com
SUMMARY:Weekend Family Night Special (Saturday\, Sunday) 8pm - 10pm $9 for 2 Hours + FREE Karaoke for All Lady Jumpers
DESCRIPTION:
URL:https://www.jumpusapark.com/event/weekend-family-night-special-saturday-sunday-8pm-10pm-9-2-hours-free-karaoke-lady-jumpers-3/
END:VEVENT
BEGIN:VEVENT
DTSTART;TZID=America/New_York:20180122T100000
DTEND;TZID=America/New_York:20180125T210000
DTSTAMP:20260425T101735
CREATED:20171230T213515Z
LAST-MODIFIED:20171230T213515Z
UID:7662-1516615200-1516914000@www.jumpusapark.com
SUMMARY:Mon-Thursday Deal $9 for 2Hours\, $11 for 1Hour+Ride+Sports\, $14 for 2Hours+Ride+Sports
DESCRIPTION:
URL:https://www.jumpusapark.com/event/mon-thursday-deal-9-2hours-11-1hourridesports-14-2hoursridesports-7/
END:VEVENT
BEGIN:VEVENT
DTSTART;TZID=America/New_York:20180126T100000
DTEND;TZID=America/New_York:20180128T230000
DTSTAMP:20260425T101735
CREATED:20171230T213852Z
LAST-MODIFIED:20171230T213852Z
UID:7672-1516960800-1517180400@www.jumpusapark.com
SUMMARY:Weekend 3+ Jumpers Group Deal! 2Hours for $12 per Jumper\, 1Hour+Ride+Sports for $14 per Jumper\, 2Hours+Ride+Sports for $17 per Jumper
DESCRIPTION:
URL:https://www.jumpusapark.com/event/weekend-3-jumpers-group-deal-2hours-12-per-jumper-1hourridesports-14-per-jumper-2hoursridesports-17-per-jumper-8/
END:VEVENT
BEGIN:VEVENT
DTSTART;TZID=America/New_York:20180126T190000
DTEND;TZID=America/New_York:20180126T230000
DTSTAMP:20260425T101735
CREATED:20171230T214103Z
LAST-MODIFIED:20171230T214103Z
UID:7680-1516993200-1517007600@www.jumpusapark.com
SUMMARY:Friday Teen Night (7-11pm) $12 for Full hours+Sports and $9 for 2 hours + FREE Karaoke for All Lady Jumpers
DESCRIPTION:
URL:https://www.jumpusapark.com/event/friday-teen-night-7-11pm-12-full-hourssports-9-2-hours-free-karaoke-lady-jumpers-3/
END:VEVENT
BEGIN:VEVENT
DTSTART;TZID=America/New_York:20180127T200000
DTEND;TZID=America/New_York:20180128T220000
DTSTAMP:20260425T101735
CREATED:20171230T214411Z
LAST-MODIFIED:20171230T214411Z
UID:7688-1517083200-1517176800@www.jumpusapark.com
SUMMARY:Weekend Family Night Special (Saturday\, Sunday) 8pm - 10pm $9 for 2 Hours + FREE Karaoke for All Lady Jumpers
DESCRIPTION:
URL:https://www.jumpusapark.com/event/weekend-family-night-special-saturday-sunday-8pm-10pm-9-2-hours-free-karaoke-lady-jumpers-4/
END:VEVENT
BEGIN:VEVENT
DTSTART;TZID=America/New_York:20180129T100000
DTEND;TZID=America/New_York:20180201T210000
DTSTAMP:20260425T101735
CREATED:20171230T213542Z
LAST-MODIFIED:20171230T213542Z
UID:7664-1517220000-1517518800@www.jumpusapark.com
SUMMARY:Mon-Thursday Deal $9 for 2Hours\, $11 for 1Hour+Ride+Sports\, $14 for 2Hours+Ride+Sports
DESCRIPTION:
URL:https://www.jumpusapark.com/event/mon-thursday-deal-9-2hours-11-1hourridesports-14-2hoursridesports-8/
END:VEVENT
BEGIN:VEVENT
DTSTART;TZID=America/New_York:20180202T100000
DTEND;TZID=America/New_York:20180204T230000
DTSTAMP:20260425T101735
CREATED:20171230T213920Z
LAST-MODIFIED:20180203T010918Z
UID:7674-1517565600-1517785200@www.jumpusapark.com
SUMMARY:Weekend 3+ Jumpers Group Specials! 2Hours+Sports for $11 per Jumper\, 1Hour+Ride+Sports for $12 per Jumper\, 2Hours+Ride+Sports for $16 per Jumper
DESCRIPTION:
URL:https://www.jumpusapark.com/event/weekend-3-jumpers-group-deal-2hours-12-per-jumper-1hourridesports-14-per-jumper-2hoursridesports-17-per-jumper-9/
END:VEVENT
BEGIN:VEVENT
DTSTART;TZID=America/New_York:20180202T190000
DTEND;TZID=America/New_York:20180202T230000
DTSTAMP:20260425T101735
CREATED:20171230T214131Z
LAST-MODIFIED:20180203T010714Z
UID:7682-1517598000-1517612400@www.jumpusapark.com
SUMMARY:Friday Teen Night (7-11pm) $12 for Full hours+Sports and $9 for 2 hours+Sports and FREE Karaoke for All Lady Jumpers
DESCRIPTION:
URL:https://www.jumpusapark.com/event/friday-teen-night-7-11pm-12-full-hourssports-9-2-hours-free-karaoke-lady-jumpers-4/
END:VEVENT
END:VCALENDAR