BEGIN:VCALENDAR
VERSION:2.0
PRODID:-//JUMP PARTY USA - ECPv6.15.20//NONSGML v1.0//EN
CALSCALE:GREGORIAN
METHOD:PUBLISH
X-WR-CALNAME:JUMP PARTY USA
X-ORIGINAL-URL:https://www.jumpusapark.com
X-WR-CALDESC:Events for JUMP PARTY USA
REFRESH-INTERVAL;VALUE=DURATION:PT1H
X-Robots-Tag:noindex
X-PUBLISHED-TTL:PT1H
BEGIN:VTIMEZONE
TZID:America/New_York
BEGIN:DAYLIGHT
TZOFFSETFROM:-0500
TZOFFSETTO:-0400
TZNAME:EDT
DTSTART:20160313T070000
END:DAYLIGHT
BEGIN:STANDARD
TZOFFSETFROM:-0400
TZOFFSETTO:-0500
TZNAME:EST
DTSTART:20161106T060000
END:STANDARD
BEGIN:DAYLIGHT
TZOFFSETFROM:-0500
TZOFFSETTO:-0400
TZNAME:EDT
DTSTART:20170312T070000
END:DAYLIGHT
BEGIN:STANDARD
TZOFFSETFROM:-0400
TZOFFSETTO:-0500
TZNAME:EST
DTSTART:20171105T060000
END:STANDARD
BEGIN:DAYLIGHT
TZOFFSETFROM:-0500
TZOFFSETTO:-0400
TZNAME:EDT
DTSTART:20180311T070000
END:DAYLIGHT
BEGIN:STANDARD
TZOFFSETFROM:-0400
TZOFFSETTO:-0500
TZNAME:EST
DTSTART:20181104T060000
END:STANDARD
END:VTIMEZONE
BEGIN:VEVENT
DTSTART;TZID=America/New_York:20171111T200000
DTEND;TZID=America/New_York:20171111T230000
DTSTAMP:20260425T114740
CREATED:20171106T201310Z
LAST-MODIFIED:20171106T201310Z
UID:7521-1510430400-1510441200@www.jumpusapark.com
SUMMARY:Saturday School Kids Family Night 8pm-11pm $12 for full session+sports pass\, $9 for 2 hours
DESCRIPTION:
URL:https://www.jumpusapark.com/event/saturday-school-kids-family-night-8pm-11pm-12-full-sessionsports-pass-9-2-hours-9/
END:VEVENT
BEGIN:VEVENT
DTSTART;TZID=America/New_York:20171112T190000
DTEND;TZID=America/New_York:20171112T220000
DTSTAMP:20260425T114740
CREATED:20171106T200204Z
LAST-MODIFIED:20171106T200204Z
UID:7513-1510513200-1510524000@www.jumpusapark.com
SUMMARY:Sunday FIESTA Family Night 7pm-10pm $12 for full session+sports pass\, $9 for 2 hours
DESCRIPTION:
URL:https://www.jumpusapark.com/event/sunday-fiesta-family-night-7pm-10pm-12-full-sessionsports-pass-9-2-hours-9/
END:VEVENT
BEGIN:VEVENT
DTSTART;TZID=America/New_York:20171113T100000
DTEND;TZID=America/New_York:20171116T210000
DTSTAMP:20260425T114740
CREATED:20171106T193430Z
LAST-MODIFIED:20171106T193430Z
UID:7504-1510567200-1510866000@www.jumpusapark.com
SUMMARY:Mon-Thursday Deal $9 for 2Hours\, $14 for 2Hours+RidePass+SportsPass
DESCRIPTION:
URL:https://www.jumpusapark.com/event/mon-thursday-deal-9-2hours-14-2hoursridepasssportspass-11/
END:VEVENT
BEGIN:VEVENT
DTSTART;TZID=America/New_York:20171113T100000
DTEND;TZID=America/New_York:20171117T140000
DTSTAMP:20260425T114740
CREATED:20171106T193153Z
LAST-MODIFIED:20171106T193153Z
UID:7496-1510567200-1510927200@www.jumpusapark.com
SUMMARY:Mon-Friday Happy Kangaroos Toddler & Preschool Jump Time!  $5 for 6 & youngers (parents free) Mon-Fri 10am-2pm (except holidays & school vacations)
DESCRIPTION:
URL:https://www.jumpusapark.com/event/mon-friday-happy-kangaroos-toddler-preschool-jump-time-5-6-youngers-parents-free-mon-fri-10am-2pm-except-holidays-school-vacations-6/
END:VEVENT
BEGIN:VEVENT
DTSTART;TZID=America/New_York:20171117T100000
DTEND;TZID=America/New_York:20171119T220000
DTSTAMP:20260425T114740
CREATED:20171106T210427Z
LAST-MODIFIED:20171106T210427Z
UID:7539-1510912800-1511128800@www.jumpusapark.com
SUMMARY:Weekend 3+ Jumpers Group Deal! 2Hours for $12 per Jumper\, 2Hours+RidePass+SportsPass for $17 per Jumper
DESCRIPTION:
URL:https://www.jumpusapark.com/event/weekend-3-jumpers-group-deal-2hours-12-per-jumper-2hoursridepasssportspass-17-per-jumper-6/
END:VEVENT
BEGIN:VEVENT
DTSTART;TZID=America/New_York:20171117T190000
DTEND;TZID=America/New_York:20171117T230000
DTSTAMP:20260425T114740
CREATED:20171106T202234Z
LAST-MODIFIED:20171106T202234Z
UID:7531-1510945200-1510959600@www.jumpusapark.com
SUMMARY:Friday Teen Night (7-11pm) $12 for Full-Session+SportsPass and $9 for 2 hours
DESCRIPTION:
URL:https://www.jumpusapark.com/event/friday-teen-night-7-11pm-12-full-sessionsportspass-9-2-hours-6/
END:VEVENT
BEGIN:VEVENT
DTSTART;TZID=America/New_York:20171118T200000
DTEND;TZID=America/New_York:20171118T230000
DTSTAMP:20260425T114740
CREATED:20171106T201342Z
LAST-MODIFIED:20171106T201342Z
UID:7523-1511035200-1511046000@www.jumpusapark.com
SUMMARY:Saturday School Kids Family Night 8pm-11pm $12 for full session+sports pass\, $9 for 2 hours
DESCRIPTION:
URL:https://www.jumpusapark.com/event/saturday-school-kids-family-night-8pm-11pm-12-full-sessionsports-pass-9-2-hours-10/
END:VEVENT
BEGIN:VEVENT
DTSTART;TZID=America/New_York:20171119T190000
DTEND;TZID=America/New_York:20171119T220000
DTSTAMP:20260425T114740
CREATED:20171106T200248Z
LAST-MODIFIED:20171106T200248Z
UID:7515-1511118000-1511128800@www.jumpusapark.com
SUMMARY:Sunday FIESTA Family Night 7pm-10pm $12 for full session+sports pass\, $9 for 2 hours
DESCRIPTION:
URL:https://www.jumpusapark.com/event/sunday-fiesta-family-night-7pm-10pm-12-full-sessionsports-pass-9-2-hours-10/
END:VEVENT
BEGIN:VEVENT
DTSTART;TZID=America/New_York:20171120T100000
DTEND;TZID=America/New_York:20171123T210000
DTSTAMP:20260425T114740
CREATED:20171106T193607Z
LAST-MODIFIED:20171106T193607Z
UID:7506-1511172000-1511470800@www.jumpusapark.com
SUMMARY:Mon-Thursday Deal $9 for 2Hours\, $14 for 2Hours+RidePass+SportsPass
DESCRIPTION:
URL:https://www.jumpusapark.com/event/mon-thursday-deal-9-2hours-14-2hoursridepasssportspass-12/
END:VEVENT
BEGIN:VEVENT
DTSTART;TZID=America/New_York:20171123T100000
DTEND;TZID=America/New_York:20171123T210000
DTSTAMP:20260425T114740
CREATED:20171120T164205Z
LAST-MODIFIED:20171120T164205Z
UID:7576-1511431200-1511470800@www.jumpusapark.com
SUMMARY:Happy Thanksgiving! We are closed on Thanksgiving Day 11/23.
DESCRIPTION:
URL:https://www.jumpusapark.com/event/happy-thanksgiving-closed-thanksgiving-day-1123/
END:VEVENT
BEGIN:VEVENT
DTSTART;TZID=America/New_York:20171124T100000
DTEND;TZID=America/New_York:20171126T220000
DTSTAMP:20260425T114740
CREATED:20171106T210503Z
LAST-MODIFIED:20171106T210503Z
UID:7541-1511517600-1511733600@www.jumpusapark.com
SUMMARY:Weekend 3+ Jumpers Group Deal! 2Hours for $12 per Jumper\, 2Hours+RidePass+SportsPass for $17 per Jumper
DESCRIPTION:
URL:https://www.jumpusapark.com/event/weekend-3-jumpers-group-deal-2hours-12-per-jumper-2hoursridepasssportspass-17-per-jumper-7/
END:VEVENT
BEGIN:VEVENT
DTSTART;TZID=America/New_York:20171124T190000
DTEND;TZID=America/New_York:20171124T230000
DTSTAMP:20260425T114740
CREATED:20171106T202311Z
LAST-MODIFIED:20171106T202311Z
UID:7533-1511550000-1511564400@www.jumpusapark.com
SUMMARY:Friday Teen Night (7-11pm) $12 for Full-Session+SportsPass and $9 for 2 hours
DESCRIPTION:
URL:https://www.jumpusapark.com/event/friday-teen-night-7-11pm-12-full-sessionsportspass-9-2-hours-7/
END:VEVENT
BEGIN:VEVENT
DTSTART;TZID=America/New_York:20171125T200000
DTEND;TZID=America/New_York:20171125T230000
DTSTAMP:20260425T114740
CREATED:20171106T202006Z
LAST-MODIFIED:20171106T202006Z
UID:7525-1511640000-1511650800@www.jumpusapark.com
SUMMARY:Saturday School Kids Family Night 8pm-11pm $12 for full session+sports pass\, $9 for 2 hours
DESCRIPTION:
URL:https://www.jumpusapark.com/event/saturday-school-kids-family-night-8pm-11pm-12-full-sessionsports-pass-9-2-hours-11/
END:VEVENT
BEGIN:VEVENT
DTSTART;TZID=America/New_York:20171126T190000
DTEND;TZID=America/New_York:20171126T220000
DTSTAMP:20260425T114740
CREATED:20171106T201113Z
LAST-MODIFIED:20171106T201113Z
UID:7517-1511722800-1511733600@www.jumpusapark.com
SUMMARY:Sunday FIESTA Family Night 7pm-10pm $12 for full session+sports pass\, $9 for 2 hours
DESCRIPTION:
URL:https://www.jumpusapark.com/event/sunday-fiesta-family-night-7pm-10pm-12-full-sessionsports-pass-9-2-hours-11/
END:VEVENT
BEGIN:VEVENT
DTSTART;TZID=America/New_York:20171127T100000
DTEND;TZID=America/New_York:20171130T210000
DTSTAMP:20260425T114740
CREATED:20171106T193650Z
LAST-MODIFIED:20171106T193650Z
UID:7508-1511776800-1512075600@www.jumpusapark.com
SUMMARY:Mon-Thursday Deal $9 for 2Hours\, $14 for 2Hours+RidePass+SportsPass
DESCRIPTION:
URL:https://www.jumpusapark.com/event/mon-thursday-deal-9-2hours-14-2hoursridepasssportspass-13/
END:VEVENT
BEGIN:VEVENT
DTSTART;TZID=America/New_York:20171127T100000
DTEND;TZID=America/New_York:20171201T140000
DTSTAMP:20260425T114740
CREATED:20171106T193302Z
LAST-MODIFIED:20171106T193302Z
UID:7500-1511776800-1512136800@www.jumpusapark.com
SUMMARY:Mon-Friday Happy Kangaroos Toddler & Preschool Jump Time!  $5 for 6 & youngers (parents free) Mon-Fri 10am-2pm (except holidays & school vacations)
DESCRIPTION:
URL:https://www.jumpusapark.com/event/mon-friday-happy-kangaroos-toddler-preschool-jump-time-5-6-youngers-parents-free-mon-fri-10am-2pm-except-holidays-school-vacations-8/
END:VEVENT
BEGIN:VEVENT
DTSTART;TZID=America/New_York:20171201T100000
DTEND;TZID=America/New_York:20171203T220000
DTSTAMP:20260425T114740
CREATED:20171106T210558Z
LAST-MODIFIED:20171106T210558Z
UID:7544-1512122400-1512338400@www.jumpusapark.com
SUMMARY:Weekend 3+ Jumpers Group Deal! 2Hours for $12 per Jumper\, 2Hours+RidePass+SportsPass for $17 per Jumper
DESCRIPTION:
URL:https://www.jumpusapark.com/event/weekend-3-jumpers-group-deal-2hours-12-per-jumper-2hoursridepasssportspass-17-per-jumper-8/
END:VEVENT
BEGIN:VEVENT
DTSTART;TZID=America/New_York:20171201T190000
DTEND;TZID=America/New_York:20171201T230000
DTSTAMP:20260425T114740
CREATED:20171106T203523Z
LAST-MODIFIED:20171106T203523Z
UID:7535-1512154800-1512169200@www.jumpusapark.com
SUMMARY:Friday Teen Night (7-11pm) $12 for Full-Session+SportsPass and $9 for 2 hours
DESCRIPTION:
URL:https://www.jumpusapark.com/event/friday-teen-night-7-11pm-12-full-sessionsportspass-9-2-hours-8/
END:VEVENT
BEGIN:VEVENT
DTSTART;TZID=America/New_York:20171202T200000
DTEND;TZID=America/New_York:20171202T230000
DTSTAMP:20260425T114740
CREATED:20171106T202043Z
LAST-MODIFIED:20171106T202043Z
UID:7527-1512244800-1512255600@www.jumpusapark.com
SUMMARY:Saturday School Kids Family Night 8pm-11pm $12 for full session+sports pass\, $9 for 2 hours
DESCRIPTION:
URL:https://www.jumpusapark.com/event/saturday-school-kids-family-night-8pm-11pm-12-full-sessionsports-pass-9-2-hours-12/
END:VEVENT
BEGIN:VEVENT
DTSTART;TZID=America/New_York:20171203T190000
DTEND;TZID=America/New_York:20171203T220000
DTSTAMP:20260425T114740
CREATED:20171106T201155Z
LAST-MODIFIED:20171106T201155Z
UID:7519-1512327600-1512338400@www.jumpusapark.com
SUMMARY:Sunday FIESTA Family Night 7pm-10pm $12 for full session+sports pass\, $9 for 2 hours
DESCRIPTION:
URL:https://www.jumpusapark.com/event/sunday-fiesta-family-night-7pm-10pm-12-full-sessionsports-pass-9-2-hours-12/
END:VEVENT
BEGIN:VEVENT
DTSTART;TZID=America/New_York:20171204T100000
DTEND;TZID=America/New_York:20171207T210000
DTSTAMP:20260425T114740
CREATED:20171106T193805Z
LAST-MODIFIED:20171106T193805Z
UID:7510-1512381600-1512680400@www.jumpusapark.com
SUMMARY:Mon-Thursday Deal $9 for 2Hours\, $14 for 2Hours+RidePass+SportsPass
DESCRIPTION:
URL:https://www.jumpusapark.com/event/mon-thursday-deal-9-2hours-14-2hoursridepasssportspass-14/
END:VEVENT
BEGIN:VEVENT
DTSTART;TZID=America/New_York:20171204T100000
DTEND;TZID=America/New_York:20171208T140000
DTSTAMP:20260425T114740
CREATED:20171106T193330Z
LAST-MODIFIED:20171106T193330Z
UID:7502-1512381600-1512741600@www.jumpusapark.com
SUMMARY:Mon-Friday Happy Kangaroos Toddler & Preschool Jump Time!  $5 for 6 & youngers (parents free) Mon-Fri 10am-2pm (except holidays & school vacations)
DESCRIPTION:
URL:https://www.jumpusapark.com/event/mon-friday-happy-kangaroos-toddler-preschool-jump-time-5-6-youngers-parents-free-mon-fri-10am-2pm-except-holidays-school-vacations-9/
END:VEVENT
BEGIN:VEVENT
DTSTART;TZID=America/New_York:20171208T100000
DTEND;TZID=America/New_York:20171210T230000
DTSTAMP:20260425T114740
CREATED:20171209T040039Z
LAST-MODIFIED:20171209T040039Z
UID:7594-1512727200-1512946800@www.jumpusapark.com
SUMMARY:Weekend 3+ Jumpers Group Deal! 2Hours for $12 per Jumper\, 1Hour+Ride+Sports for $14 per Jumper\, 2Hours+Ride+Sports for $17 per Jumper
DESCRIPTION:
URL:https://www.jumpusapark.com/event/weekend-3-jumpers-group-deal-2hours-12-per-jumper-1hourridesports-14-per-jumper-2hoursridesports-17-per-jumper/
END:VEVENT
BEGIN:VEVENT
DTSTART;TZID=America/New_York:20171208T190000
DTEND;TZID=America/New_York:20171208T230000
DTSTAMP:20260425T114740
CREATED:20171209T035426Z
LAST-MODIFIED:20171209T035426Z
UID:7584-1512759600-1512774000@www.jumpusapark.com
SUMMARY:Friday Teen Night (7-11pm) $12 for Full-Session+SportsPass and $9 for 2 hours
DESCRIPTION:
URL:https://www.jumpusapark.com/event/friday-teen-night-7-11pm-12-full-sessionsportspass-9-2-hours-9/
END:VEVENT
BEGIN:VEVENT
DTSTART;TZID=America/New_York:20171211T100000
DTEND;TZID=America/New_York:20171214T210000
DTSTAMP:20260425T114740
CREATED:20171209T040446Z
LAST-MODIFIED:20171209T040446Z
UID:7604-1512986400-1513285200@www.jumpusapark.com
SUMMARY:Mon-Thursday Deal $9 for 2Hours\, $11 for 1Hour+Ride+Sports\, $14 for 2Hours+Ride+Sports
DESCRIPTION:
URL:https://www.jumpusapark.com/event/mon-thursday-deal-9-2hours-11-1hourridesports-14-2hoursridesports/
END:VEVENT
BEGIN:VEVENT
DTSTART;TZID=America/New_York:20171215T100000
DTEND;TZID=America/New_York:20171217T230000
DTSTAMP:20260425T114740
CREATED:20171209T040117Z
LAST-MODIFIED:20171209T040117Z
UID:7596-1513332000-1513551600@www.jumpusapark.com
SUMMARY:Weekend 3+ Jumpers Group Deal! 2Hours for $12 per Jumper\, 1Hour+Ride+Sports for $14 per Jumper\, 2Hours+Ride+Sports for $17 per Jumper
DESCRIPTION:
URL:https://www.jumpusapark.com/event/weekend-3-jumpers-group-deal-2hours-12-per-jumper-1hourridesports-14-per-jumper-2hoursridesports-17-per-jumper-2/
END:VEVENT
BEGIN:VEVENT
DTSTART;TZID=America/New_York:20171215T190000
DTEND;TZID=America/New_York:20171215T230000
DTSTAMP:20260425T114740
CREATED:20171209T035508Z
LAST-MODIFIED:20171212T200031Z
UID:7586-1513364400-1513378800@www.jumpusapark.com
SUMMARY:Friday Teen Night (7-11pm) $12 for Full hours+Sports and $9 for 2 hours + FREE Karaoke for All Lady Jumpers
DESCRIPTION:
URL:https://www.jumpusapark.com/event/friday-teen-night-7-11pm-12-full-sessionsportspass-9-2-hours-10/
END:VEVENT
BEGIN:VEVENT
DTSTART;TZID=America/New_York:20171216T200000
DTEND;TZID=America/New_York:20171217T220000
DTSTAMP:20260425T114740
CREATED:20171212T194240Z
LAST-MODIFIED:20171212T194727Z
UID:7612-1513454400-1513548000@www.jumpusapark.com
SUMMARY:Weekend Family Night Special (Saturday\, Sunday) 8pm - 10pm $9 for 2 Hours + FREE Karaoke for All Lady Jumpers
DESCRIPTION:
URL:https://www.jumpusapark.com/event/weekend-family-night-special-saturday-sunday-8pm-10pm-9-2-hours/
END:VEVENT
BEGIN:VEVENT
DTSTART;TZID=America/New_York:20171218T100000
DTEND;TZID=America/New_York:20171221T210000
DTSTAMP:20260425T114740
CREATED:20171209T040515Z
LAST-MODIFIED:20171209T040515Z
UID:7606-1513591200-1513890000@www.jumpusapark.com
SUMMARY:Mon-Thursday Deal $9 for 2Hours\, $11 for 1Hour+Ride+Sports\, $14 for 2Hours+Ride+Sports
DESCRIPTION:
URL:https://www.jumpusapark.com/event/mon-thursday-deal-9-2hours-11-1hourridesports-14-2hoursridesports-2/
END:VEVENT
BEGIN:VEVENT
DTSTART;TZID=America/New_York:20171222T100000
DTEND;TZID=America/New_York:20171224T230000
DTSTAMP:20260425T114740
CREATED:20171209T040145Z
LAST-MODIFIED:20171209T040145Z
UID:7598-1513936800-1514156400@www.jumpusapark.com
SUMMARY:Weekend 3+ Jumpers Group Deal! 2Hours for $12 per Jumper\, 1Hour+Ride+Sports for $14 per Jumper\, 2Hours+Ride+Sports for $17 per Jumper
DESCRIPTION:
URL:https://www.jumpusapark.com/event/weekend-3-jumpers-group-deal-2hours-12-per-jumper-1hourridesports-14-per-jumper-2hoursridesports-17-per-jumper-3/
END:VEVENT
END:VCALENDAR