BEGIN:VCALENDAR
VERSION:2.0
PRODID:-//JUMP PARTY USA - ECPv6.15.20//NONSGML v1.0//EN
CALSCALE:GREGORIAN
METHOD:PUBLISH
X-WR-CALNAME:JUMP PARTY USA
X-ORIGINAL-URL:https://www.jumpusapark.com
X-WR-CALDESC:Events for JUMP PARTY USA
REFRESH-INTERVAL;VALUE=DURATION:PT1H
X-Robots-Tag:noindex
X-PUBLISHED-TTL:PT1H
BEGIN:VTIMEZONE
TZID:America/New_York
BEGIN:DAYLIGHT
TZOFFSETFROM:-0500
TZOFFSETTO:-0400
TZNAME:EDT
DTSTART:20160313T070000
END:DAYLIGHT
BEGIN:STANDARD
TZOFFSETFROM:-0400
TZOFFSETTO:-0500
TZNAME:EST
DTSTART:20161106T060000
END:STANDARD
BEGIN:DAYLIGHT
TZOFFSETFROM:-0500
TZOFFSETTO:-0400
TZNAME:EDT
DTSTART:20170312T070000
END:DAYLIGHT
BEGIN:STANDARD
TZOFFSETFROM:-0400
TZOFFSETTO:-0500
TZNAME:EST
DTSTART:20171105T060000
END:STANDARD
BEGIN:DAYLIGHT
TZOFFSETFROM:-0500
TZOFFSETTO:-0400
TZNAME:EDT
DTSTART:20180311T070000
END:DAYLIGHT
BEGIN:STANDARD
TZOFFSETFROM:-0400
TZOFFSETTO:-0500
TZNAME:EST
DTSTART:20181104T060000
END:STANDARD
END:VTIMEZONE
BEGIN:VEVENT
DTSTART;TZID=America/New_York:20170714T190000
DTEND;TZID=America/New_York:20170714T230000
DTSTAMP:20260425T194228
CREATED:20170705T170007Z
LAST-MODIFIED:20170705T170007Z
UID:7196-1500058800-1500073200@www.jumpusapark.com
SUMMARY:Friday Teen Night (7-11pm) with DJ $14 for full session and $9 for 2 hours
DESCRIPTION:
URL:https://www.jumpusapark.com/event/friday-teen-night-7-11pm-dj-14-full-session-9-2-hours-2/
END:VEVENT
BEGIN:VEVENT
DTSTART;TZID=America/New_York:20170715T200000
DTEND;TZID=America/New_York:20170715T230000
DTSTAMP:20260425T194228
CREATED:20170705T165548Z
LAST-MODIFIED:20170705T165548Z
UID:7186-1500148800-1500159600@www.jumpusapark.com
SUMMARY:Saturday School Kids & PreTeen Family Night 8pm-11pm $12 for full session\, $9 for 2 hours
DESCRIPTION:
URL:https://www.jumpusapark.com/event/saturday-school-kids-preteen-family-night-8pm-11pm-12-full-session-9-2-hours-11/
END:VEVENT
BEGIN:VEVENT
DTSTART;TZID=America/New_York:20170716T190000
DTEND;TZID=America/New_York:20170716T220000
DTSTAMP:20260425T194228
CREATED:20170705T164848Z
LAST-MODIFIED:20170705T165326Z
UID:7176-1500231600-1500242400@www.jumpusapark.com
SUMMARY:Sunday FIESTA Family Night 7pm-10pm $12 for full session\, $9 for 2 hours
DESCRIPTION:
URL:https://www.jumpusapark.com/event/sunday-fiesta-family-night-7pm-10pm-12-full-session-9-2-hours-6/
END:VEVENT
BEGIN:VEVENT
DTSTART;TZID=America/New_York:20170717T100000
DTEND;TZID=America/New_York:20170720T210000
DTSTAMP:20260425T194228
CREATED:20170705T164450Z
LAST-MODIFIED:20170705T164450Z
UID:7168-1500285600-1500584400@www.jumpusapark.com
SUMMARY:Summer Special! Mon-Thursday Deal $9 for 2Hours\, $12 for 2Hours+2Rides
DESCRIPTION:
URL:https://www.jumpusapark.com/event/summer-special-mon-thursday-deal-9-2hours-12-2hours2rides-5/
END:VEVENT
BEGIN:VEVENT
DTSTART;TZID=America/New_York:20170721T100000
DTEND;TZID=America/New_York:20170723T190000
DTSTAMP:20260425T194228
CREATED:20170705T170756Z
LAST-MODIFIED:20170705T170756Z
UID:7209-1500631200-1500836400@www.jumpusapark.com
SUMMARY:3+ Jumpers Group Deal! 2Hours for $12 per Jumper\, 2Hours+2Rides for $15 per Jumper
DESCRIPTION:
URL:https://www.jumpusapark.com/event/3-jumpers-group-deal-2hours-12-per-jumper-2hours2rides-15-per-jumper-3/
END:VEVENT
BEGIN:VEVENT
DTSTART;TZID=America/New_York:20170721T190000
DTEND;TZID=America/New_York:20170721T230000
DTSTAMP:20260425T194228
CREATED:20170705T170047Z
LAST-MODIFIED:20170705T170047Z
UID:7198-1500663600-1500678000@www.jumpusapark.com
SUMMARY:Friday Teen Night (7-11pm) with DJ $14 for full session and $9 for 2 hours
DESCRIPTION:
URL:https://www.jumpusapark.com/event/friday-teen-night-7-11pm-dj-14-full-session-9-2-hours-3/
END:VEVENT
BEGIN:VEVENT
DTSTART;TZID=America/New_York:20170722T200000
DTEND;TZID=America/New_York:20170722T230000
DTSTAMP:20260425T194228
CREATED:20170705T165622Z
LAST-MODIFIED:20170705T165622Z
UID:7188-1500753600-1500764400@www.jumpusapark.com
SUMMARY:Saturday School Kids & PreTeen Family Night 8pm-11pm $12 for full session\, $9 for 2 hours
DESCRIPTION:
URL:https://www.jumpusapark.com/event/saturday-school-kids-preteen-family-night-8pm-11pm-12-full-session-9-2-hours-12/
END:VEVENT
BEGIN:VEVENT
DTSTART;TZID=America/New_York:20170723T190000
DTEND;TZID=America/New_York:20170723T220000
DTSTAMP:20260425T194228
CREATED:20170705T164922Z
LAST-MODIFIED:20170705T165253Z
UID:7178-1500836400-1500847200@www.jumpusapark.com
SUMMARY:Sunday FIESTA Family Night 7pm-10pm $12 for full session\, $9 for 2 hours
DESCRIPTION:
URL:https://www.jumpusapark.com/event/sunday-fiesta-family-night-7pm-10pm-12-full-session-9-2-hours-7/
END:VEVENT
BEGIN:VEVENT
DTSTART;TZID=America/New_York:20170724T100000
DTEND;TZID=America/New_York:20170727T210000
DTSTAMP:20260425T194228
CREATED:20170705T164531Z
LAST-MODIFIED:20170705T164531Z
UID:7170-1500890400-1501189200@www.jumpusapark.com
SUMMARY:Summer Special! Mon-Thursday Deal $9 for 2Hours\, $12 for 2Hours+2Rides
DESCRIPTION:
URL:https://www.jumpusapark.com/event/summer-special-mon-thursday-deal-9-2hours-12-2hours2rides-7/
END:VEVENT
BEGIN:VEVENT
DTSTART;TZID=America/New_York:20170728T100000
DTEND;TZID=America/New_York:20170730T190000
DTSTAMP:20260425T194228
CREATED:20170705T170834Z
LAST-MODIFIED:20170705T170834Z
UID:7211-1501236000-1501441200@www.jumpusapark.com
SUMMARY:3+ Jumpers Group Deal! 2Hours for $12 per Jumper\, 2Hours+2Rides for $15 per Jumper
DESCRIPTION:
URL:https://www.jumpusapark.com/event/3-jumpers-group-deal-2hours-12-per-jumper-2hours2rides-15-per-jumper-4/
END:VEVENT
BEGIN:VEVENT
DTSTART;TZID=America/New_York:20170728T190000
DTEND;TZID=America/New_York:20170728T230000
DTSTAMP:20260425T194228
CREATED:20170705T170123Z
LAST-MODIFIED:20170705T170123Z
UID:7200-1501268400-1501282800@www.jumpusapark.com
SUMMARY:Friday Teen Night (7-11pm) with DJ $14 for full session and $9 for 2 hours
DESCRIPTION:
URL:https://www.jumpusapark.com/event/friday-teen-night-7-11pm-dj-14-full-session-9-2-hours-4/
END:VEVENT
BEGIN:VEVENT
DTSTART;TZID=America/New_York:20170729T200000
DTEND;TZID=America/New_York:20170729T230000
DTSTAMP:20260425T194228
CREATED:20170705T165706Z
LAST-MODIFIED:20170705T165706Z
UID:7190-1501358400-1501369200@www.jumpusapark.com
SUMMARY:Saturday School Kids & PreTeen Family Night 8pm-11pm $12 for full session\, $9 for 2 hours
DESCRIPTION:
URL:https://www.jumpusapark.com/event/saturday-school-kids-preteen-family-night-8pm-11pm-12-full-session-9-2-hours-13/
END:VEVENT
BEGIN:VEVENT
DTSTART;TZID=America/New_York:20170730T190000
DTEND;TZID=America/New_York:20170730T220000
DTSTAMP:20260425T194228
CREATED:20170705T165003Z
LAST-MODIFIED:20170705T165152Z
UID:7180-1501441200-1501452000@www.jumpusapark.com
SUMMARY:Sunday FIESTA Family Night 7pm-10pm $12 for full session\, $9 for 2 hours
DESCRIPTION:
URL:https://www.jumpusapark.com/event/sunday-fiesta-family-night-7pm-10pm-12-full-session-9-2-hours-8/
END:VEVENT
BEGIN:VEVENT
DTSTART;TZID=America/New_York:20170731T100000
DTEND;TZID=America/New_York:20170803T210000
DTSTAMP:20260425T194228
CREATED:20170705T164613Z
LAST-MODIFIED:20170705T164613Z
UID:7172-1501495200-1501794000@www.jumpusapark.com
SUMMARY:Summer Special! Mon-Thursday Deal $9 for 2Hours\, $12 for 2Hours+2Rides
DESCRIPTION:
URL:https://www.jumpusapark.com/event/summer-special-mon-thursday-deal-9-2hours-12-2hours2rides-8/
END:VEVENT
BEGIN:VEVENT
DTSTART;TZID=America/New_York:20170804T100000
DTEND;TZID=America/New_York:20170806T190000
DTSTAMP:20260425T194228
CREATED:20170705T170913Z
LAST-MODIFIED:20170705T170913Z
UID:7213-1501840800-1502046000@www.jumpusapark.com
SUMMARY:3+ Jumpers Group Deal! 2Hours for $12 per Jumper\, 2Hours+2Rides for $15 per Jumper
DESCRIPTION:
URL:https://www.jumpusapark.com/event/3-jumpers-group-deal-2hours-12-per-jumper-2hours2rides-15-per-jumper-5/
END:VEVENT
BEGIN:VEVENT
DTSTART;TZID=America/New_York:20170804T190000
DTEND;TZID=America/New_York:20170804T230000
DTSTAMP:20260425T194228
CREATED:20170705T170158Z
LAST-MODIFIED:20170705T170158Z
UID:7202-1501873200-1501887600@www.jumpusapark.com
SUMMARY:Friday Teen Night (7-11pm) with DJ $14 for full session and $9 for 2 hours
DESCRIPTION:
URL:https://www.jumpusapark.com/event/friday-teen-night-7-11pm-dj-14-full-session-9-2-hours-5/
END:VEVENT
BEGIN:VEVENT
DTSTART;TZID=America/New_York:20170805T200000
DTEND;TZID=America/New_York:20170805T230000
DTSTAMP:20260425T194228
CREATED:20170705T165749Z
LAST-MODIFIED:20170705T165749Z
UID:7192-1501963200-1501974000@www.jumpusapark.com
SUMMARY:Saturday School Kids & PreTeen Family Night 8pm-11pm $12 for full session\, $9 for 2 hours
DESCRIPTION:
URL:https://www.jumpusapark.com/event/saturday-school-kids-preteen-family-night-8pm-11pm-12-full-session-9-2-hours-14/
END:VEVENT
BEGIN:VEVENT
DTSTART;TZID=America/New_York:20170806T190000
DTEND;TZID=America/New_York:20170806T220000
DTSTAMP:20260425T194228
CREATED:20170705T165106Z
LAST-MODIFIED:20170705T165106Z
UID:7182-1502046000-1502056800@www.jumpusapark.com
SUMMARY:Sunday FIESTA Family Night 7pm-10pm $12 for full session\, $9 for 2 hours
DESCRIPTION:
URL:https://www.jumpusapark.com/event/sunday-fiesta-family-night-7pm-10pm-12-full-session-9-2-hours-9/
END:VEVENT
BEGIN:VEVENT
DTSTART;TZID=America/New_York:20170807T100000
DTEND;TZID=America/New_York:20170810T210000
DTSTAMP:20260425T194228
CREATED:20170731T203425Z
LAST-MODIFIED:20170731T203425Z
UID:7249-1502100000-1502398800@www.jumpusapark.com
SUMMARY:Summer Special! Mon-Thursday Deal $9 for 2Hours\, $12 for 2Hours+2Rides
DESCRIPTION:
URL:https://www.jumpusapark.com/event/summer-special-mon-thursday-deal-9-2hours-12-2hours2rides-9/
END:VEVENT
BEGIN:VEVENT
DTSTART;TZID=America/New_York:20170811T100000
DTEND;TZID=America/New_York:20170813T190000
DTSTAMP:20260425T194228
CREATED:20170731T203056Z
LAST-MODIFIED:20170731T203056Z
UID:7241-1502445600-1502650800@www.jumpusapark.com
SUMMARY:3+ Jumpers Group Deal! 2Hours for $12 per Jumper\, 2Hours+2Rides for $15 per Jumper
DESCRIPTION:
URL:https://www.jumpusapark.com/event/3-jumpers-group-deal-2hours-12-per-jumper-2hours2rides-15-per-jumper-6/
END:VEVENT
BEGIN:VEVENT
DTSTART;TZID=America/New_York:20170811T190000
DTEND;TZID=America/New_York:20170811T230000
DTSTAMP:20260425T194228
CREATED:20170731T202640Z
LAST-MODIFIED:20170731T202640Z
UID:7233-1502478000-1502492400@www.jumpusapark.com
SUMMARY:Friday Teen Night (7-11pm) with DJ $14 for full session and $9 for 2 hours
DESCRIPTION:
URL:https://www.jumpusapark.com/event/friday-teen-night-7-11pm-dj-14-full-session-9-2-hours-6/
END:VEVENT
BEGIN:VEVENT
DTSTART;TZID=America/New_York:20170812T200000
DTEND;TZID=America/New_York:20170812T230000
DTSTAMP:20260425T194228
CREATED:20170731T201816Z
LAST-MODIFIED:20170731T201816Z
UID:7225-1502568000-1502578800@www.jumpusapark.com
SUMMARY:Saturday School Kids & PreTeen Family Night 8pm-11pm $12 for full session\, $9 for 2 hours
DESCRIPTION:
URL:https://www.jumpusapark.com/event/saturday-school-kids-preteen-family-night-8pm-11pm-12-full-session-9-2-hours-15/
END:VEVENT
BEGIN:VEVENT
DTSTART;TZID=America/New_York:20170813T190000
DTEND;TZID=America/New_York:20170813T220000
DTSTAMP:20260425T194228
CREATED:20170731T201453Z
LAST-MODIFIED:20170731T201453Z
UID:7217-1502650800-1502661600@www.jumpusapark.com
SUMMARY:Sunday FIESTA Family Night 7pm-10pm $12 for full session\, $9 for 2 hours
DESCRIPTION:
URL:https://www.jumpusapark.com/event/sunday-fiesta-family-night-7pm-10pm-12-full-session-9-2-hours-10/
END:VEVENT
BEGIN:VEVENT
DTSTART;TZID=America/New_York:20170814T100000
DTEND;TZID=America/New_York:20170817T210000
DTSTAMP:20260425T194228
CREATED:20170731T203527Z
LAST-MODIFIED:20170731T203527Z
UID:7251-1502704800-1503003600@www.jumpusapark.com
SUMMARY:Summer Special! Mon-Thursday Deal $9 for 2Hours\, $12 for 2Hours+2Rides
DESCRIPTION:
URL:https://www.jumpusapark.com/event/summer-special-mon-thursday-deal-9-2hours-12-2hours2rides-10/
END:VEVENT
BEGIN:VEVENT
DTSTART;TZID=America/New_York:20170818T100000
DTEND;TZID=America/New_York:20170820T190000
DTSTAMP:20260425T194228
CREATED:20170731T203138Z
LAST-MODIFIED:20170731T203138Z
UID:7243-1503050400-1503255600@www.jumpusapark.com
SUMMARY:3+ Jumpers Group Deal! 2Hours for $12 per Jumper\, 2Hours+2Rides for $15 per Jumper
DESCRIPTION:
URL:https://www.jumpusapark.com/event/3-jumpers-group-deal-2hours-12-per-jumper-2hours2rides-15-per-jumper-7/
END:VEVENT
BEGIN:VEVENT
DTSTART;TZID=America/New_York:20170818T190000
DTEND;TZID=America/New_York:20170818T230000
DTSTAMP:20260425T194228
CREATED:20170731T202718Z
LAST-MODIFIED:20170731T202718Z
UID:7235-1503082800-1503097200@www.jumpusapark.com
SUMMARY:Friday Teen Night (7-11pm) with DJ $14 for full session and $9 for 2 hours
DESCRIPTION:
URL:https://www.jumpusapark.com/event/friday-teen-night-7-11pm-dj-14-full-session-9-2-hours-7/
END:VEVENT
BEGIN:VEVENT
DTSTART;TZID=America/New_York:20170819T200000
DTEND;TZID=America/New_York:20170819T230000
DTSTAMP:20260425T194228
CREATED:20170731T201851Z
LAST-MODIFIED:20170731T201851Z
UID:7227-1503172800-1503183600@www.jumpusapark.com
SUMMARY:Saturday School Kids & PreTeen Family Night 8pm-11pm $12 for full session\, $9 for 2 hours
DESCRIPTION:
URL:https://www.jumpusapark.com/event/saturday-school-kids-preteen-family-night-8pm-11pm-12-full-session-9-2-hours-16/
END:VEVENT
BEGIN:VEVENT
DTSTART;TZID=America/New_York:20170820T190000
DTEND;TZID=America/New_York:20170820T220000
DTSTAMP:20260425T194228
CREATED:20170731T201534Z
LAST-MODIFIED:20170731T201534Z
UID:7219-1503255600-1503266400@www.jumpusapark.com
SUMMARY:Sunday FIESTA Family Night 7pm-10pm $12 for full session\, $9 for 2 hours
DESCRIPTION:
URL:https://www.jumpusapark.com/event/sunday-fiesta-family-night-7pm-10pm-12-full-session-9-2-hours-11/
END:VEVENT
BEGIN:VEVENT
DTSTART;TZID=America/New_York:20170821T100000
DTEND;TZID=America/New_York:20170824T210000
DTSTAMP:20260425T194228
CREATED:20170731T203705Z
LAST-MODIFIED:20170731T203705Z
UID:7253-1503309600-1503608400@www.jumpusapark.com
SUMMARY:Mon-Thursday Deal $9 for 2Hours\, $12 for 2Hours+2Rides
DESCRIPTION:
URL:https://www.jumpusapark.com/event/mon-thursday-deal-9-2hours-12-2hours2rides-26/
END:VEVENT
BEGIN:VEVENT
DTSTART;TZID=America/New_York:20170825T100000
DTEND;TZID=America/New_York:20170827T190000
DTSTAMP:20260425T194228
CREATED:20170731T203217Z
LAST-MODIFIED:20170826T224604Z
UID:7245-1503655200-1503860400@www.jumpusapark.com
SUMMARY:3+ Jumpers Group Deal! 2Hours for $12 per Jumper\, 2Hours+RidePass+SportsPass for $17 per Jumper
DESCRIPTION:
URL:https://www.jumpusapark.com/event/3-jumpers-group-deal-2hours-12-per-jumper-2hours2rides-15-per-jumper-8/
END:VEVENT
END:VCALENDAR