BEGIN:VCALENDAR
VERSION:2.0
PRODID:-//JUMP PARTY USA - ECPv6.15.20//NONSGML v1.0//EN
CALSCALE:GREGORIAN
METHOD:PUBLISH
X-ORIGINAL-URL:https://www.jumpusapark.com
X-WR-CALDESC:Events for JUMP PARTY USA
REFRESH-INTERVAL;VALUE=DURATION:PT1H
X-Robots-Tag:noindex
X-PUBLISHED-TTL:PT1H
BEGIN:VTIMEZONE
TZID:America/New_York
BEGIN:DAYLIGHT
TZOFFSETFROM:-0500
TZOFFSETTO:-0400
TZNAME:EDT
DTSTART:20180311T070000
END:DAYLIGHT
BEGIN:STANDARD
TZOFFSETFROM:-0400
TZOFFSETTO:-0500
TZNAME:EST
DTSTART:20181104T060000
END:STANDARD
BEGIN:DAYLIGHT
TZOFFSETFROM:-0500
TZOFFSETTO:-0400
TZNAME:EDT
DTSTART:20190310T070000
END:DAYLIGHT
BEGIN:STANDARD
TZOFFSETFROM:-0400
TZOFFSETTO:-0500
TZNAME:EST
DTSTART:20191103T060000
END:STANDARD
BEGIN:DAYLIGHT
TZOFFSETFROM:-0500
TZOFFSETTO:-0400
TZNAME:EDT
DTSTART:20200308T070000
END:DAYLIGHT
BEGIN:STANDARD
TZOFFSETFROM:-0400
TZOFFSETTO:-0500
TZNAME:EST
DTSTART:20201101T060000
END:STANDARD
END:VTIMEZONE
BEGIN:VEVENT
DTSTART;TZID=America/New_York:20190301T180000
DTEND;TZID=America/New_York:20190301T220000
DTSTAMP:20260425T114851
CREATED:20190212T193345Z
LAST-MODIFIED:20190221T231316Z
UID:8240-1551463200-1551477600@www.jumpusapark.com
SUMMARY:Friday Teen & Family Night (6-10pm) $12 for Full hours+Sports and $9 for 2 hours+Sports and FREE Karaoke for All Lady Jumpers
DESCRIPTION:
URL:https://www.jumpusapark.com/event/friday-teen-family-night-7-11pm-12-full-hourssports-9-2-hourssports-free-karaoke-lady-jumpers-16/
END:VEVENT
BEGIN:VEVENT
DTSTART;TZID=America/New_York:20190302T200000
DTEND;TZID=America/New_York:20190303T220000
DTSTAMP:20260425T114851
CREATED:20190212T193644Z
LAST-MODIFIED:20190212T193644Z
UID:8248-1551556800-1551650400@www.jumpusapark.com
SUMMARY:Weekend Family Night Special (Saturday\, Sunday) 8pm - 10pm $9 for 2 Hours+Sports and FREE Karaoke for All Lady Jumpers
DESCRIPTION:
URL:https://www.jumpusapark.com/event/weekend-family-night-special-saturday-sunday-8pm-10pm-9-2-hourssports-free-karaoke-lady-jumpers-44/
END:VEVENT
BEGIN:VEVENT
DTSTART;TZID=America/New_York:20190304T110000
DTEND;TZID=America/New_York:20190307T210000
DTSTAMP:20260425T114851
CREATED:20190212T194014Z
LAST-MODIFIED:20190212T194014Z
UID:8257-1551697200-1551992400@www.jumpusapark.com
SUMMARY:Mon-Thursday Special! $9 for 2Hours+Sports\, $11 for 1Hour+Ride+Sports\, $14 for 2Hours+Ride+Sports
DESCRIPTION:
URL:https://www.jumpusapark.com/event/mon-thursday-special-9-2hourssports-11-1hourridesports-14-2hoursridesports-48/
END:VEVENT
BEGIN:VEVENT
DTSTART;TZID=America/New_York:20190308T100000
DTEND;TZID=America/New_York:20190310T230000
DTSTAMP:20260425T114851
CREATED:20190212T193140Z
LAST-MODIFIED:20190212T193140Z
UID:8236-1552039200-1552258800@www.jumpusapark.com
SUMMARY:Weekend 3+ Jumpers Group Special! 2Hours+Sports for $11 per Jumper\, 1Hour+Ride+Sports for $12 per Jumper\, 2Hours+Ride+Sports for $16 per Jumper
DESCRIPTION:
URL:https://www.jumpusapark.com/event/weekend-3-jumpers-group-special-2hourssports-11-per-jumper-1hourridesports-12-per-jumper-2hoursridesports-16-per-jumper-44/
END:VEVENT
BEGIN:VEVENT
DTSTART;TZID=America/New_York:20190308T180000
DTEND;TZID=America/New_York:20190308T220000
DTSTAMP:20260425T114851
CREATED:20190212T193421Z
LAST-MODIFIED:20190221T231249Z
UID:8242-1552068000-1552082400@www.jumpusapark.com
SUMMARY:Friday Teen & Family Night (6-10pm) $12 for Full hours+Sports and $9 for 2 hours+Sports and FREE Karaoke for All Lady Jumpers
DESCRIPTION:
URL:https://www.jumpusapark.com/event/friday-teen-family-night-7-11pm-12-full-hourssports-9-2-hourssports-free-karaoke-lady-jumpers-17/
END:VEVENT
BEGIN:VEVENT
DTSTART;TZID=America/New_York:20190309T200000
DTEND;TZID=America/New_York:20190310T220000
DTSTAMP:20260425T114851
CREATED:20190212T193742Z
LAST-MODIFIED:20190212T193742Z
UID:8250-1552161600-1552255200@www.jumpusapark.com
SUMMARY:Weekend Family Night Special (Saturday\, Sunday) 8pm - 10pm $9 for 2 Hours+Sports and FREE Karaoke for All Lady Jumpers
DESCRIPTION:
URL:https://www.jumpusapark.com/event/weekend-family-night-special-saturday-sunday-8pm-10pm-9-2-hourssports-free-karaoke-lady-jumpers-45/
END:VEVENT
BEGIN:VEVENT
DTSTART;TZID=America/New_York:20190311T110000
DTEND;TZID=America/New_York:20190314T210000
DTSTAMP:20260425T114851
CREATED:20190212T194048Z
LAST-MODIFIED:20190212T194048Z
UID:8259-1552302000-1552597200@www.jumpusapark.com
SUMMARY:Mon-Thursday Special! $9 for 2Hours+Sports\, $11 for 1Hour+Ride+Sports\, $14 for 2Hours+Ride+Sports
DESCRIPTION:
URL:https://www.jumpusapark.com/event/mon-thursday-special-9-2hourssports-11-1hourridesports-14-2hoursridesports-49/
END:VEVENT
BEGIN:VEVENT
DTSTART;TZID=America/New_York:20190315T100000
DTEND;TZID=America/New_York:20190317T220000
DTSTAMP:20260425T114851
CREATED:20190310T001736Z
LAST-MODIFIED:20190310T001736Z
UID:8273-1552644000-1552860000@www.jumpusapark.com
SUMMARY:Weekend 3+ Jumpers Group Special! 2Hours+Sports for $11 per Jumper\, 1Hour+Ride+Sports for $12 per Jumper\, 2Hours+Ride+Sports for $16 per Jumper
DESCRIPTION:
URL:https://www.jumpusapark.com/event/weekend-3-jumpers-group-special-2hourssports-11-per-jumper-1hourridesports-12-per-jumper-2hoursridesports-16-per-jumper-45/
END:VEVENT
BEGIN:VEVENT
DTSTART;TZID=America/New_York:20190315T180000
DTEND;TZID=America/New_York:20190315T220000
DTSTAMP:20260425T114851
CREATED:20190310T002041Z
LAST-MODIFIED:20190310T002041Z
UID:8281-1552672800-1552687200@www.jumpusapark.com
SUMMARY:Friday Teen & Family Night (6-10pm) $12 for Full hours+Sports and $9 for 2 hours+Sports and FREE Karaoke for All Lady Jumpers
DESCRIPTION:
URL:https://www.jumpusapark.com/event/friday-teen-family-night-6-10pm-12-full-hourssports-9-2-hourssports-free-karaoke-lady-jumpers/
END:VEVENT
BEGIN:VEVENT
DTSTART;TZID=America/New_York:20190316T200000
DTEND;TZID=America/New_York:20190317T220000
DTSTAMP:20260425T114851
CREATED:20190310T002354Z
LAST-MODIFIED:20190310T002354Z
UID:8291-1552766400-1552860000@www.jumpusapark.com
SUMMARY:Weekend Family Night Special (Saturday\, Sunday) 8pm - 10pm $9 for 2 Hours+Sports and FREE Karaoke for All Lady Jumpers
DESCRIPTION:
URL:https://www.jumpusapark.com/event/weekend-family-night-special-saturday-sunday-8pm-10pm-9-2-hourssports-free-karaoke-lady-jumpers-46/
END:VEVENT
BEGIN:VEVENT
DTSTART;TZID=America/New_York:20190318T100000
DTEND;TZID=America/New_York:20190321T210000
DTSTAMP:20260425T114851
CREATED:20190310T002650Z
LAST-MODIFIED:20190310T002851Z
UID:8300-1552903200-1553202000@www.jumpusapark.com
SUMMARY:Spring Break!Mon-Thursday Special! $9 for 2Hours+Sports\, $11 for 1Hour+Ride+Sports\, $14 for 2Hours+Ride+Sports
DESCRIPTION:
URL:https://www.jumpusapark.com/event/weekend-family-night-special-saturday-sunday-8pm-10pm-9-2-hourssports-free-karaoke-lady-jumpers-50/
END:VEVENT
BEGIN:VEVENT
DTSTART;TZID=America/New_York:20190322T100000
DTEND;TZID=America/New_York:20190324T220000
DTSTAMP:20260425T114851
CREATED:20190310T001807Z
LAST-MODIFIED:20190310T001807Z
UID:8275-1553248800-1553464800@www.jumpusapark.com
SUMMARY:Weekend 3+ Jumpers Group Special! 2Hours+Sports for $11 per Jumper\, 1Hour+Ride+Sports for $12 per Jumper\, 2Hours+Ride+Sports for $16 per Jumper
DESCRIPTION:
URL:https://www.jumpusapark.com/event/weekend-3-jumpers-group-special-2hourssports-11-per-jumper-1hourridesports-12-per-jumper-2hoursridesports-16-per-jumper-46/
END:VEVENT
BEGIN:VEVENT
DTSTART;TZID=America/New_York:20190322T180000
DTEND;TZID=America/New_York:20190322T220000
DTSTAMP:20260425T114851
CREATED:20190310T002119Z
LAST-MODIFIED:20190310T002119Z
UID:8283-1553277600-1553292000@www.jumpusapark.com
SUMMARY:Friday Teen & Family Night (6-10pm) $12 for Full hours+Sports and $9 for 2 hours+Sports and FREE Karaoke for All Lady Jumpers
DESCRIPTION:
URL:https://www.jumpusapark.com/event/friday-teen-family-night-6-10pm-12-full-hourssports-9-2-hourssports-free-karaoke-lady-jumpers-2/
END:VEVENT
BEGIN:VEVENT
DTSTART;TZID=America/New_York:20190323T200000
DTEND;TZID=America/New_York:20190324T220000
DTSTAMP:20260425T114851
CREATED:20190310T002421Z
LAST-MODIFIED:20190310T002421Z
UID:8293-1553371200-1553464800@www.jumpusapark.com
SUMMARY:Weekend Family Night Special (Saturday\, Sunday) 8pm - 10pm $9 for 2 Hours+Sports and FREE Karaoke for All Lady Jumpers
DESCRIPTION:
URL:https://www.jumpusapark.com/event/weekend-family-night-special-saturday-sunday-8pm-10pm-9-2-hourssports-free-karaoke-lady-jumpers-47/
END:VEVENT
BEGIN:VEVENT
DTSTART;TZID=America/New_York:20190325T110000
DTEND;TZID=America/New_York:20190328T210000
DTSTAMP:20260425T114851
CREATED:20190310T002919Z
LAST-MODIFIED:20190310T002919Z
UID:8304-1553511600-1553806800@www.jumpusapark.com
SUMMARY:Mon-Thursday Special! $9 for 2Hours+Sports\, $11 for 1Hour+Ride+Sports\, $14 for 2Hours+Ride+Sports
DESCRIPTION:
URL:https://www.jumpusapark.com/event/mon-thursday-special-9-2hourssports-11-1hourridesports-14-2hoursridesports-50/
END:VEVENT
BEGIN:VEVENT
DTSTART;TZID=America/New_York:20190329T100000
DTEND;TZID=America/New_York:20190331T220000
DTSTAMP:20260425T114851
CREATED:20190310T001838Z
LAST-MODIFIED:20190310T001838Z
UID:8277-1553853600-1554069600@www.jumpusapark.com
SUMMARY:Weekend 3+ Jumpers Group Special! 2Hours+Sports for $11 per Jumper\, 1Hour+Ride+Sports for $12 per Jumper\, 2Hours+Ride+Sports for $16 per Jumper
DESCRIPTION:
URL:https://www.jumpusapark.com/event/weekend-3-jumpers-group-special-2hourssports-11-per-jumper-1hourridesports-12-per-jumper-2hoursridesports-16-per-jumper-47/
END:VEVENT
BEGIN:VEVENT
DTSTART;TZID=America/New_York:20190329T180000
DTEND;TZID=America/New_York:20190329T220000
DTSTAMP:20260425T114851
CREATED:20190310T002143Z
LAST-MODIFIED:20190310T002143Z
UID:8285-1553882400-1553896800@www.jumpusapark.com
SUMMARY:Friday Teen & Family Night (6-10pm) $12 for Full hours+Sports and $9 for 2 hours+Sports and FREE Karaoke for All Lady Jumpers
DESCRIPTION:
URL:https://www.jumpusapark.com/event/friday-teen-family-night-6-10pm-12-full-hourssports-9-2-hourssports-free-karaoke-lady-jumpers-3/
END:VEVENT
BEGIN:VEVENT
DTSTART;TZID=America/New_York:20190330T200000
DTEND;TZID=America/New_York:20190331T220000
DTSTAMP:20260425T114851
CREATED:20190310T002448Z
LAST-MODIFIED:20190310T002448Z
UID:8295-1553976000-1554069600@www.jumpusapark.com
SUMMARY:Weekend Family Night Special (Saturday\, Sunday) 8pm - 10pm $9 for 2 Hours+Sports and FREE Karaoke for All Lady Jumpers
DESCRIPTION:
URL:https://www.jumpusapark.com/event/weekend-family-night-special-saturday-sunday-8pm-10pm-9-2-hourssports-free-karaoke-lady-jumpers-48/
END:VEVENT
BEGIN:VEVENT
DTSTART;TZID=America/New_York:20190401T110000
DTEND;TZID=America/New_York:20190404T210000
DTSTAMP:20260425T114851
CREATED:20190310T002956Z
LAST-MODIFIED:20190310T002956Z
UID:8306-1554116400-1554411600@www.jumpusapark.com
SUMMARY:Mon-Thursday Special! $9 for 2Hours+Sports\, $11 for 1Hour+Ride+Sports\, $14 for 2Hours+Ride+Sports
DESCRIPTION:
URL:https://www.jumpusapark.com/event/mon-thursday-special-9-2hourssports-11-1hourridesports-14-2hoursridesports-51/
END:VEVENT
BEGIN:VEVENT
DTSTART;TZID=America/New_York:20190405T100000
DTEND;TZID=America/New_York:20190407T220000
DTSTAMP:20260425T114851
CREATED:20190310T001914Z
LAST-MODIFIED:20190310T001914Z
UID:8279-1554458400-1554674400@www.jumpusapark.com
SUMMARY:Weekend 3+ Jumpers Group Special! 2Hours+Sports for $11 per Jumper\, 1Hour+Ride+Sports for $12 per Jumper\, 2Hours+Ride+Sports for $16 per Jumper
DESCRIPTION:
URL:https://www.jumpusapark.com/event/weekend-3-jumpers-group-special-2hourssports-11-per-jumper-1hourridesports-12-per-jumper-2hoursridesports-16-per-jumper-48/
END:VEVENT
BEGIN:VEVENT
DTSTART;TZID=America/New_York:20190405T180000
DTEND;TZID=America/New_York:20190405T220000
DTSTAMP:20260425T114851
CREATED:20190310T002211Z
LAST-MODIFIED:20190310T002211Z
UID:8287-1554487200-1554501600@www.jumpusapark.com
SUMMARY:Friday Teen & Family Night (6-10pm) $12 for Full hours+Sports and $9 for 2 hours+Sports and FREE Karaoke for All Lady Jumpers
DESCRIPTION:
URL:https://www.jumpusapark.com/event/friday-teen-family-night-6-10pm-12-full-hourssports-9-2-hourssports-free-karaoke-lady-jumpers-4/
END:VEVENT
BEGIN:VEVENT
DTSTART;TZID=America/New_York:20190406T200000
DTEND;TZID=America/New_York:20190407T220000
DTSTAMP:20260425T114851
CREATED:20190310T002518Z
LAST-MODIFIED:20190310T002518Z
UID:8297-1554580800-1554674400@www.jumpusapark.com
SUMMARY:Weekend Family Night Special (Saturday\, Sunday) 8pm - 10pm $9 for 2 Hours+Sports and FREE Karaoke for All Lady Jumpers
DESCRIPTION:
URL:https://www.jumpusapark.com/event/weekend-family-night-special-saturday-sunday-8pm-10pm-9-2-hourssports-free-karaoke-lady-jumpers-49/
END:VEVENT
BEGIN:VEVENT
DTSTART;TZID=America/New_York:20190408T110000
DTEND;TZID=America/New_York:20190411T210000
DTSTAMP:20260425T114851
CREATED:20190310T003029Z
LAST-MODIFIED:20190310T003029Z
UID:8308-1554721200-1555016400@www.jumpusapark.com
SUMMARY:Mon-Thursday Special! $9 for 2Hours+Sports\, $11 for 1Hour+Ride+Sports\, $14 for 2Hours+Ride+Sports
DESCRIPTION:
URL:https://www.jumpusapark.com/event/mon-thursday-special-9-2hourssports-11-1hourridesports-14-2hoursridesports-52/
END:VEVENT
BEGIN:VEVENT
DTSTART;TZID=America/New_York:20190412T100000
DTEND;TZID=America/New_York:20190414T230000
DTSTAMP:20260425T114851
CREATED:20190408T195315Z
LAST-MODIFIED:20190408T195315Z
UID:8331-1555063200-1555282800@www.jumpusapark.com
SUMMARY:Weekend 3+ Jumpers Group Special! 2Hours+Sports for $11 per Jumper\, 1Hour+Ride+Sports for $12 per Jumper\, 2Hours+Ride+Sports for $16 per Jumper
DESCRIPTION:
URL:https://www.jumpusapark.com/event/weekend-3-jumpers-group-special-2hourssports-11-per-jumper-1hourridesports-12-per-jumper-2hoursridesports-16-per-jumper-49/
END:VEVENT
BEGIN:VEVENT
DTSTART;TZID=America/New_York:20190412T180000
DTEND;TZID=America/New_York:20190412T220000
DTSTAMP:20260425T114851
CREATED:20190310T002250Z
LAST-MODIFIED:20190310T002250Z
UID:8289-1555092000-1555106400@www.jumpusapark.com
SUMMARY:Friday Teen & Family Night (6-10pm) $12 for Full hours+Sports and $9 for 2 hours+Sports and FREE Karaoke for All Lady Jumpers
DESCRIPTION:
URL:https://www.jumpusapark.com/event/friday-teen-family-night-6-10pm-12-full-hourssports-9-2-hourssports-free-karaoke-lady-jumpers-5/
END:VEVENT
BEGIN:VEVENT
DTSTART;TZID=America/New_York:20190413T200000
DTEND;TZID=America/New_York:20190414T220000
DTSTAMP:20260425T114851
CREATED:20190408T195553Z
LAST-MODIFIED:20190408T195553Z
UID:8339-1555185600-1555279200@www.jumpusapark.com
SUMMARY:Weekend Family Night Special (Saturday\, Sunday) 8pm - 10pm $9 for 2 Hours+Sports and FREE Karaoke for All Lady Jumpers
DESCRIPTION:
URL:https://www.jumpusapark.com/event/weekend-family-night-special-saturday-sunday-8pm-10pm-9-2-hourssports-free-karaoke-lady-jumpers-51/
END:VEVENT
BEGIN:VEVENT
DTSTART;TZID=America/New_York:20190415T110000
DTEND;TZID=America/New_York:20190418T210000
DTSTAMP:20260425T114851
CREATED:20190408T195016Z
LAST-MODIFIED:20190408T195016Z
UID:8323-1555326000-1555621200@www.jumpusapark.com
SUMMARY:Mon-Thursday Special! $9 for 2Hours+Sports\, $11 for 1Hour+Ride+Sports\, $14 for 2Hours+Ride+Sports
DESCRIPTION:
URL:https://www.jumpusapark.com/event/mon-thursday-special-9-2hourssports-11-1hourridesports-14-2hoursridesports-53/
END:VEVENT
BEGIN:VEVENT
DTSTART;TZID=America/New_York:20190419T100000
DTEND;TZID=America/New_York:20190421T230000
DTSTAMP:20260425T114851
CREATED:20190408T195343Z
LAST-MODIFIED:20190408T195343Z
UID:8333-1555668000-1555887600@www.jumpusapark.com
SUMMARY:Weekend 3+ Jumpers Group Special! 2Hours+Sports for $11 per Jumper\, 1Hour+Ride+Sports for $12 per Jumper\, 2Hours+Ride+Sports for $16 per Jumper
DESCRIPTION:
URL:https://www.jumpusapark.com/event/weekend-3-jumpers-group-special-2hourssports-11-per-jumper-1hourridesports-12-per-jumper-2hoursridesports-16-per-jumper-50/
END:VEVENT
BEGIN:VEVENT
DTSTART;TZID=America/New_York:20190419T180000
DTEND;TZID=America/New_York:20190419T220000
DTSTAMP:20260425T114851
CREATED:20190408T194804Z
LAST-MODIFIED:20190408T194804Z
UID:8315-1555696800-1555711200@www.jumpusapark.com
SUMMARY:Friday Teen & Family Night (6-10pm) $12 for Full hours+Sports and $9 for 2 hours+Sports and FREE Karaoke for All Lady Jumpers
DESCRIPTION:
URL:https://www.jumpusapark.com/event/friday-teen-family-night-6-10pm-12-full-hourssports-9-2-hourssports-free-karaoke-lady-jumpers-6/
END:VEVENT
BEGIN:VEVENT
DTSTART;TZID=America/New_York:20190420T200000
DTEND;TZID=America/New_York:20190421T220000
DTSTAMP:20260425T114851
CREATED:20190408T195617Z
LAST-MODIFIED:20190408T195617Z
UID:8341-1555790400-1555884000@www.jumpusapark.com
SUMMARY:Weekend Family Night Special (Saturday\, Sunday) 8pm - 10pm $9 for 2 Hours+Sports and FREE Karaoke for All Lady Jumpers
DESCRIPTION:
URL:https://www.jumpusapark.com/event/weekend-family-night-special-saturday-sunday-8pm-10pm-9-2-hourssports-free-karaoke-lady-jumpers-52/
END:VEVENT
END:VCALENDAR