BEGIN:VCALENDAR
VERSION:2.0
PRODID:-//JUMP PARTY USA - ECPv6.15.20//NONSGML v1.0//EN
CALSCALE:GREGORIAN
METHOD:PUBLISH
X-WR-CALNAME:JUMP PARTY USA
X-ORIGINAL-URL:https://www.jumpusapark.com
X-WR-CALDESC:Events for JUMP PARTY USA
REFRESH-INTERVAL;VALUE=DURATION:PT1H
X-Robots-Tag:noindex
X-PUBLISHED-TTL:PT1H
BEGIN:VTIMEZONE
TZID:America/New_York
BEGIN:DAYLIGHT
TZOFFSETFROM:-0500
TZOFFSETTO:-0400
TZNAME:EDT
DTSTART:20170312T070000
END:DAYLIGHT
BEGIN:STANDARD
TZOFFSETFROM:-0400
TZOFFSETTO:-0500
TZNAME:EST
DTSTART:20171105T060000
END:STANDARD
BEGIN:DAYLIGHT
TZOFFSETFROM:-0500
TZOFFSETTO:-0400
TZNAME:EDT
DTSTART:20180311T070000
END:DAYLIGHT
BEGIN:STANDARD
TZOFFSETFROM:-0400
TZOFFSETTO:-0500
TZNAME:EST
DTSTART:20181104T060000
END:STANDARD
BEGIN:DAYLIGHT
TZOFFSETFROM:-0500
TZOFFSETTO:-0400
TZNAME:EDT
DTSTART:20190310T070000
END:DAYLIGHT
BEGIN:STANDARD
TZOFFSETFROM:-0400
TZOFFSETTO:-0500
TZNAME:EST
DTSTART:20191103T060000
END:STANDARD
END:VTIMEZONE
BEGIN:VEVENT
DTSTART;TZID=America/New_York:20180331T200000
DTEND;TZID=America/New_York:20180401T220000
DTSTAMP:20260425T103754
CREATED:20180305T140150Z
LAST-MODIFIED:20180305T140150Z
UID:7816-1522526400-1522620000@www.jumpusapark.com
SUMMARY:Weekend Family Night Special (Saturday\, Sunday) 8pm - 10pm $9 for 2 Hours+Sports and FREE Karaoke for All Lady Jumpers
DESCRIPTION:
URL:https://www.jumpusapark.com/event/weekend-family-night-special-saturday-sunday-8pm-10pm-9-2-hourssports-free-karaoke-lady-jumpers-8/
END:VEVENT
BEGIN:VEVENT
DTSTART;TZID=America/New_York:20180331T100000
DTEND;TZID=America/New_York:20180401T220000
DTSTAMP:20260425T103754
CREATED:20180305T140420Z
LAST-MODIFIED:20180305T140420Z
UID:7824-1522490400-1522620000@www.jumpusapark.com
SUMMARY:Weekend 3+ Jumpers Group Special! 2Hours+Sports for $11 per Jumper\, 1Hour+Ride+Sports for $12 per Jumper\, 2Hours+Ride+Sports for $16 per Jumper
DESCRIPTION:
URL:https://www.jumpusapark.com/event/weekend-3-jumpers-group-special-2hourssports-11-per-jumper-1hourridesports-12-per-jumper-2hoursridesports-16-per-jumper-8/
END:VEVENT
BEGIN:VEVENT
DTSTART;TZID=America/New_York:20180330T190000
DTEND;TZID=America/New_York:20180330T230000
DTSTAMP:20260425T103754
CREATED:20180305T135407Z
LAST-MODIFIED:20180305T135407Z
UID:7806-1522436400-1522450800@www.jumpusapark.com
SUMMARY:Friday Teen Night (7-11pm) $12 for Full hours+Sports and $9 for 2 hours+Sports and FREE Karaoke for All Lady Jumpers
DESCRIPTION:
URL:https://www.jumpusapark.com/event/friday-teen-night-7-11pm-12-full-hourssports-9-2-hourssports-free-karaoke-lady-jumpers-8/
END:VEVENT
BEGIN:VEVENT
DTSTART;TZID=America/New_York:20180326T110000
DTEND;TZID=America/New_York:20180329T210000
DTSTAMP:20260425T103754
CREATED:20180305T135141Z
LAST-MODIFIED:20180305T135141Z
UID:7798-1522062000-1522357200@www.jumpusapark.com
SUMMARY:Mon-Thursday Special! $9 for 2Hours+Sports\, $11 for 1Hour+Ride+Sports\, $14 for 2Hours+Ride+Sports
DESCRIPTION:
URL:https://www.jumpusapark.com/event/mon-thursday-special-9-2hourssports-11-1hourridesports-14-2hoursridesports-8/
END:VEVENT
BEGIN:VEVENT
DTSTART;TZID=America/New_York:20180324T200000
DTEND;TZID=America/New_York:20180325T220000
DTSTAMP:20260425T103754
CREATED:20180305T140123Z
LAST-MODIFIED:20180305T140123Z
UID:7814-1521921600-1522015200@www.jumpusapark.com
SUMMARY:Weekend Family Night Special (Saturday\, Sunday) 8pm - 10pm $9 for 2 Hours+Sports and FREE Karaoke for All Lady Jumpers
DESCRIPTION:
URL:https://www.jumpusapark.com/event/weekend-family-night-special-saturday-sunday-8pm-10pm-9-2-hourssports-free-karaoke-lady-jumpers-7/
END:VEVENT
BEGIN:VEVENT
DTSTART;TZID=America/New_York:20180324T100000
DTEND;TZID=America/New_York:20180325T220000
DTSTAMP:20260425T103754
CREATED:20180305T140356Z
LAST-MODIFIED:20180305T140356Z
UID:7822-1521885600-1522015200@www.jumpusapark.com
SUMMARY:Weekend 3+ Jumpers Group Special! 2Hours+Sports for $11 per Jumper\, 1Hour+Ride+Sports for $12 per Jumper\, 2Hours+Ride+Sports for $16 per Jumper
DESCRIPTION:
URL:https://www.jumpusapark.com/event/weekend-3-jumpers-group-special-2hourssports-11-per-jumper-1hourridesports-12-per-jumper-2hoursridesports-16-per-jumper-7/
END:VEVENT
BEGIN:VEVENT
DTSTART;TZID=America/New_York:20180323T190000
DTEND;TZID=America/New_York:20180323T230000
DTSTAMP:20260425T103754
CREATED:20180305T135337Z
LAST-MODIFIED:20180305T135337Z
UID:7804-1521831600-1521846000@www.jumpusapark.com
SUMMARY:Friday Teen Night (7-11pm) $12 for Full hours+Sports and $9 for 2 hours+Sports and FREE Karaoke for All Lady Jumpers
DESCRIPTION:
URL:https://www.jumpusapark.com/event/friday-teen-night-7-11pm-12-full-hourssports-9-2-hourssports-free-karaoke-lady-jumpers-7/
END:VEVENT
BEGIN:VEVENT
DTSTART;TZID=America/New_York:20180319T110000
DTEND;TZID=America/New_York:20180322T210000
DTSTAMP:20260425T103754
CREATED:20180305T135015Z
LAST-MODIFIED:20180305T135015Z
UID:7796-1521457200-1521752400@www.jumpusapark.com
SUMMARY:Mon-Thursday Special! $9 for 2Hours+Sports\, $11 for 1Hour+Ride+Sports\, $14 for 2Hours+Ride+Sports
DESCRIPTION:
URL:https://www.jumpusapark.com/event/mon-thursday-special-9-2hourssports-11-1hourridesports-14-2hoursridesports-7/
END:VEVENT
BEGIN:VEVENT
DTSTART;TZID=America/New_York:20180317T200000
DTEND;TZID=America/New_York:20180318T220000
DTSTAMP:20260425T103754
CREATED:20180305T140100Z
LAST-MODIFIED:20180305T140100Z
UID:7812-1521316800-1521410400@www.jumpusapark.com
SUMMARY:Weekend Family Night Special (Saturday\, Sunday) 8pm - 10pm $9 for 2 Hours+Sports and FREE Karaoke for All Lady Jumpers
DESCRIPTION:
URL:https://www.jumpusapark.com/event/weekend-family-night-special-saturday-sunday-8pm-10pm-9-2-hourssports-free-karaoke-lady-jumpers-6/
END:VEVENT
BEGIN:VEVENT
DTSTART;TZID=America/New_York:20180317T100000
DTEND;TZID=America/New_York:20180318T220000
DTSTAMP:20260425T103754
CREATED:20180305T140330Z
LAST-MODIFIED:20180305T140330Z
UID:7820-1521280800-1521410400@www.jumpusapark.com
SUMMARY:Weekend 3+ Jumpers Group Special! 2Hours+Sports for $11 per Jumper\, 1Hour+Ride+Sports for $12 per Jumper\, 2Hours+Ride+Sports for $16 per Jumper
DESCRIPTION:
URL:https://www.jumpusapark.com/event/weekend-3-jumpers-group-special-2hourssports-11-per-jumper-1hourridesports-12-per-jumper-2hoursridesports-16-per-jumper-6/
END:VEVENT
BEGIN:VEVENT
DTSTART;TZID=America/New_York:20180316T190000
DTEND;TZID=America/New_York:20180316T230000
DTSTAMP:20260425T103754
CREATED:20180305T135306Z
LAST-MODIFIED:20180305T135306Z
UID:7802-1521226800-1521241200@www.jumpusapark.com
SUMMARY:Friday Teen Night (7-11pm) $12 for Full hours+Sports and $9 for 2 hours+Sports and FREE Karaoke for All Lady Jumpers
DESCRIPTION:
URL:https://www.jumpusapark.com/event/friday-teen-night-7-11pm-12-full-hourssports-9-2-hourssports-free-karaoke-lady-jumpers-6/
END:VEVENT
BEGIN:VEVENT
DTSTART;TZID=America/New_York:20180312T100000
DTEND;TZID=America/New_York:20180315T210000
DTSTAMP:20260425T103754
CREATED:20180305T134810Z
LAST-MODIFIED:20180305T135101Z
UID:7794-1520848800-1521147600@www.jumpusapark.com
SUMMARY:Mon-Thursday Special! $9 for 2Hours+Sports\, $11 for 1Hour+Ride+Sports\, $14 for 2Hours+Ride+Sports
DESCRIPTION:
URL:https://www.jumpusapark.com/event/mon-thursday-special-9-2hourssports-11-1hourridesports-14-2hoursridesports-6/
END:VEVENT
BEGIN:VEVENT
DTSTART;TZID=America/New_York:20180310T200000
DTEND;TZID=America/New_York:20180311T220000
DTSTAMP:20260425T103754
CREATED:20180305T140028Z
LAST-MODIFIED:20180305T140028Z
UID:7810-1520712000-1520805600@www.jumpusapark.com
SUMMARY:Weekend Family Night Special (Saturday\, Sunday) 8pm - 10pm $9 for 2 Hours+Sports and FREE Karaoke for All Lady Jumpers
DESCRIPTION:
URL:https://www.jumpusapark.com/event/weekend-family-night-special-saturday-sunday-8pm-10pm-9-2-hourssports-free-karaoke-lady-jumpers-5/
END:VEVENT
BEGIN:VEVENT
DTSTART;TZID=America/New_York:20180310T100000
DTEND;TZID=America/New_York:20180311T220000
DTSTAMP:20260425T103754
CREATED:20180305T140308Z
LAST-MODIFIED:20180305T140308Z
UID:7818-1520676000-1520805600@www.jumpusapark.com
SUMMARY:Weekend 3+ Jumpers Group Special! 2Hours+Sports for $11 per Jumper\, 1Hour+Ride+Sports for $12 per Jumper\, 2Hours+Ride+Sports for $16 per Jumper
DESCRIPTION:
URL:https://www.jumpusapark.com/event/weekend-3-jumpers-group-special-2hourssports-11-per-jumper-1hourridesports-12-per-jumper-2hoursridesports-16-per-jumper-5/
END:VEVENT
BEGIN:VEVENT
DTSTART;TZID=America/New_York:20180309T190000
DTEND;TZID=America/New_York:20180309T230000
DTSTAMP:20260425T103754
CREATED:20180203T005930Z
LAST-MODIFIED:20180203T005930Z
UID:7765-1520622000-1520636400@www.jumpusapark.com
SUMMARY:Friday Teen Night (7-11pm) $12 for Full hours+Sports and $9 for 2 hours+Sports and FREE Karaoke for All Lady Jumpers
DESCRIPTION:
URL:https://www.jumpusapark.com/event/friday-teen-night-7-11pm-12-full-hourssports-9-2-hourssports-free-karaoke-lady-jumpers-5/
END:VEVENT
BEGIN:VEVENT
DTSTART;TZID=America/New_York:20180305T110000
DTEND;TZID=America/New_York:20180308T210000
DTSTAMP:20260425T103754
CREATED:20180203T010417Z
LAST-MODIFIED:20180203T010417Z
UID:7777-1520247600-1520542800@www.jumpusapark.com
SUMMARY:Mon-Thursday Special! $9 for 2Hours+Sports\, $11 for 1Hour+Ride+Sports\, $14 for 2Hours+Ride+Sports
DESCRIPTION:
URL:https://www.jumpusapark.com/event/mon-thursday-special-9-2hourssports-11-1hourridesports-14-2hoursridesports-5/
END:VEVENT
BEGIN:VEVENT
DTSTART;TZID=America/New_York:20180303T200000
DTEND;TZID=America/New_York:20180304T220000
DTSTAMP:20260425T103754
CREATED:20180203T005540Z
LAST-MODIFIED:20180203T005540Z
UID:7755-1520107200-1520200800@www.jumpusapark.com
SUMMARY:Weekend Family Night Special (Saturday\, Sunday) 8pm - 10pm $9 for 2 Hours+Sports and FREE Karaoke for All Lady Jumpers
DESCRIPTION:
URL:https://www.jumpusapark.com/event/weekend-family-night-special-saturday-sunday-8pm-10pm-9-2-hourssports-free-karaoke-lady-jumpers-4/
END:VEVENT
BEGIN:VEVENT
DTSTART;TZID=America/New_York:20180302T190000
DTEND;TZID=America/New_York:20180302T230000
DTSTAMP:20260425T103754
CREATED:20180203T005852Z
LAST-MODIFIED:20180203T005852Z
UID:7763-1520017200-1520031600@www.jumpusapark.com
SUMMARY:Friday Teen Night (7-11pm) $12 for Full hours+Sports and $9 for 2 hours+Sports and FREE Karaoke for All Lady Jumpers
DESCRIPTION:
URL:https://www.jumpusapark.com/event/friday-teen-night-7-11pm-12-full-hourssports-9-2-hourssports-free-karaoke-lady-jumpers-4/
END:VEVENT
BEGIN:VEVENT
DTSTART;TZID=America/New_York:20180302T100000
DTEND;TZID=America/New_York:20180304T220000
DTSTAMP:20260425T103754
CREATED:20180203T004959Z
LAST-MODIFIED:20180203T005040Z
UID:7747-1519984800-1520200800@www.jumpusapark.com
SUMMARY:Weekend 3+ Jumpers Group Special! 2Hours+Sports for $11 per Jumper\, 1Hour+Ride+Sports for $12 per Jumper\, 2Hours+Ride+Sports for $16 per Jumper
DESCRIPTION:
URL:https://www.jumpusapark.com/event/weekend-3-jumpers-group-special-2hourssports-11-per-jumper-1hourridesports-12-per-jumper-2hoursridesports-16-per-jumper-4/
END:VEVENT
BEGIN:VEVENT
DTSTART;TZID=America/New_York:20180226T110000
DTEND;TZID=America/New_York:20180301T210000
DTSTAMP:20260425T103754
CREATED:20180203T010309Z
LAST-MODIFIED:20180203T010309Z
UID:7774-1519642800-1519938000@www.jumpusapark.com
SUMMARY:Mon-Thursday Special! $9 for 2Hours+Sports\, $11 for 1Hour+Ride+Sports\, $14 for 2Hours+Ride+Sports
DESCRIPTION:
URL:https://www.jumpusapark.com/event/mon-thursday-special-9-2hourssports-11-1hourridesports-14-2hoursridesports-4/
END:VEVENT
BEGIN:VEVENT
DTSTART;TZID=America/New_York:20180224T200000
DTEND;TZID=America/New_York:20180225T220000
DTSTAMP:20260425T103754
CREATED:20180203T005452Z
LAST-MODIFIED:20180203T005452Z
UID:7753-1519502400-1519596000@www.jumpusapark.com
SUMMARY:Weekend Family Night Special (Saturday\, Sunday) 8pm - 10pm $9 for 2 Hours+Sports and FREE Karaoke for All Lady Jumpers
DESCRIPTION:
URL:https://www.jumpusapark.com/event/weekend-family-night-special-saturday-sunday-8pm-10pm-9-2-hourssports-free-karaoke-lady-jumpers-3/
END:VEVENT
BEGIN:VEVENT
DTSTART;TZID=America/New_York:20180223T190000
DTEND;TZID=America/New_York:20180223T230000
DTSTAMP:20260425T103754
CREATED:20180203T005816Z
LAST-MODIFIED:20180203T005816Z
UID:7761-1519412400-1519426800@www.jumpusapark.com
SUMMARY:Friday Teen Night (7-11pm) $12 for Full hours+Sports and $9 for 2 hours+Sports and FREE Karaoke for All Lady Jumpers
DESCRIPTION:
URL:https://www.jumpusapark.com/event/friday-teen-night-7-11pm-12-full-hourssports-9-2-hourssports-free-karaoke-lady-jumpers-3/
END:VEVENT
BEGIN:VEVENT
DTSTART;TZID=America/New_York:20180223T100000
DTEND;TZID=America/New_York:20180225T220000
DTSTAMP:20260425T103754
CREATED:20180203T004926Z
LAST-MODIFIED:20180203T004927Z
UID:7745-1519380000-1519596000@www.jumpusapark.com
SUMMARY:Weekend 3+ Jumpers Group Special! 2Hours+Sports for $11 per Jumper\, 1Hour+Ride+Sports for $12 per Jumper\, 2Hours+Ride+Sports for $16 per Jumper
DESCRIPTION:
URL:https://www.jumpusapark.com/event/weekend-3-jumpers-group-special-2hourssports-11-per-jumper-1hourridesports-12-per-jumper-2hoursridesports-16-per-jumper-3/
END:VEVENT
BEGIN:VEVENT
DTSTART;TZID=America/New_York:20180219T190000
DTEND;TZID=America/New_York:20180222T230000
DTSTAMP:20260425T103754
CREATED:20180203T010235Z
LAST-MODIFIED:20180203T010235Z
UID:7772-1519066800-1519340400@www.jumpusapark.com
SUMMARY:Mon-Thursday Special! $9 for 2Hours+Sports\, $11 for 1Hour+Ride+Sports\, $14 for 2Hours+Ride+Sports
DESCRIPTION:
URL:https://www.jumpusapark.com/event/mon-thursday-special-9-2hourssports-11-1hourridesports-14-2hoursridesports-3/
END:VEVENT
BEGIN:VEVENT
DTSTART;TZID=America/New_York:20180217T200000
DTEND;TZID=America/New_York:20180218T220000
DTSTAMP:20260425T103754
CREATED:20180203T005418Z
LAST-MODIFIED:20180203T005418Z
UID:7751-1518897600-1518991200@www.jumpusapark.com
SUMMARY:Weekend Family Night Special (Saturday\, Sunday) 8pm - 10pm $9 for 2 Hours+Sports and FREE Karaoke for All Lady Jumpers
DESCRIPTION:
URL:https://www.jumpusapark.com/event/weekend-family-night-special-saturday-sunday-8pm-10pm-9-2-hourssports-free-karaoke-lady-jumpers-2/
END:VEVENT
BEGIN:VEVENT
DTSTART;TZID=America/New_York:20180216T190000
DTEND;TZID=America/New_York:20180216T230000
DTSTAMP:20260425T103754
CREATED:20180203T005745Z
LAST-MODIFIED:20180203T005745Z
UID:7759-1518807600-1518822000@www.jumpusapark.com
SUMMARY:Friday Teen Night (7-11pm) $12 for Full hours+Sports and $9 for 2 hours+Sports and FREE Karaoke for All Lady Jumpers
DESCRIPTION:
URL:https://www.jumpusapark.com/event/friday-teen-night-7-11pm-12-full-hourssports-9-2-hourssports-free-karaoke-lady-jumpers-2/
END:VEVENT
BEGIN:VEVENT
DTSTART;TZID=America/New_York:20180216T100000
DTEND;TZID=America/New_York:20180218T220000
DTSTAMP:20260425T103754
CREATED:20180203T004851Z
LAST-MODIFIED:20180203T004851Z
UID:7743-1518775200-1518991200@www.jumpusapark.com
SUMMARY:Weekend 3+ Jumpers Group Special! 2Hours+Sports for $11 per Jumper\, 1Hour+Ride+Sports for $12 per Jumper\, 2Hours+Ride+Sports for $16 per Jumper
DESCRIPTION:
URL:https://www.jumpusapark.com/event/weekend-3-jumpers-group-special-2hourssports-11-per-jumper-1hourridesports-12-per-jumper-2hoursridesports-16-per-jumper-2/
END:VEVENT
BEGIN:VEVENT
DTSTART;TZID=America/New_York:20180212T110000
DTEND;TZID=America/New_York:20180215T210000
DTSTAMP:20260425T103754
CREATED:20180203T010208Z
LAST-MODIFIED:20180203T010208Z
UID:7770-1518433200-1518728400@www.jumpusapark.com
SUMMARY:Mon-Thursday Special! $9 for 2Hours+Sports\, $11 for 1Hour+Ride+Sports\, $14 for 2Hours+Ride+Sports
DESCRIPTION:
URL:https://www.jumpusapark.com/event/mon-thursday-special-9-2hourssports-11-1hourridesports-14-2hoursridesports-2/
END:VEVENT
BEGIN:VEVENT
DTSTART;TZID=America/New_York:20180210T200000
DTEND;TZID=America/New_York:20180211T220000
DTSTAMP:20260425T103754
CREATED:20180203T005253Z
LAST-MODIFIED:20180203T005253Z
UID:7749-1518292800-1518386400@www.jumpusapark.com
SUMMARY:Weekend Family Night Special (Saturday\, Sunday) 8pm - 10pm $9 for 2 Hours+Sports and FREE Karaoke for All Lady Jumpers
DESCRIPTION:
URL:https://www.jumpusapark.com/event/weekend-family-night-special-saturday-sunday-8pm-10pm-9-2-hourssports-free-karaoke-lady-jumpers/
END:VEVENT
BEGIN:VEVENT
DTSTART;TZID=America/New_York:20180209T190000
DTEND;TZID=America/New_York:20180209T230000
DTSTAMP:20260425T103754
CREATED:20180203T005714Z
LAST-MODIFIED:20180203T005714Z
UID:7757-1518202800-1518217200@www.jumpusapark.com
SUMMARY:Friday Teen Night (7-11pm) $12 for Full hours+Sports and $9 for 2 hours+Sports and FREE Karaoke for All Lady Jumpers
DESCRIPTION:
URL:https://www.jumpusapark.com/event/friday-teen-night-7-11pm-12-full-hourssports-9-2-hourssports-free-karaoke-lady-jumpers/
END:VEVENT
END:VCALENDAR